BEGIN:VCALENDAR
VERSION:2.0
PRODID:http://www.kufer.de/kuferweb / DE
METHOD:PUBLISH
CALSCALE:GREGORIAN
X-WR-TIMEZONE:Europe/Berlin
BEGIN:VTIMEZONE
TZID:Europe/Berlin
X-LIC-LOCATION:Europe/Berlin
BEGIN:DAYLIGHT
TZOFFSETFROM:+0100
TZOFFSETTO:+0200
TZNAME:CEST
DTSTART;TZID=Europe/Berlin:19700329T020000
RRULE:FREQ=YEARLY;INTERVAL=1;BYDAY=-1SU;BYMONTH=3
END:DAYLIGHT
BEGIN:STANDARD
TZOFFSETFROM:+0200
TZOFFSETTO:+0100
TZNAME:CET
DTSTART;TZID=Europe/Berlin:19701025T030000
RRULE:FREQ=YEARLY;INTERVAL=1;BYDAY=-1SU;BYMONTH=10
END:STANDARD
END:VTIMEZONE
BEGIN:VEVENT
DTSTAMP:20260420T023022
DTSTART;TZID=Europe/Berlin:20260616T180000
DTEND;TZID=Europe/Berlin:20260616T191500
UID:261BR30157-20260616T180000@VHSUNTERLAND
SUMMARY:Qi Gong im Salinenpark (261BR30157) 
LOCATION:br Gradierwerk, Kurgarten, Weinbrennerstraße, 74906 Bad Rappenau
END:VEVENT
BEGIN:VEVENT
DTSTAMP:20260420T023022
DTSTART;TZID=Europe/Berlin:20260623T180000
DTEND;TZID=Europe/Berlin:20260623T191500
UID:261BR30157-20260623T180000@VHSUNTERLAND
SUMMARY:Qi Gong im Salinenpark (261BR30157) 
LOCATION:br Gradierwerk, Kurgarten, Weinbrennerstraße, 74906 Bad Rappenau
END:VEVENT
BEGIN:VEVENT
DTSTAMP:20260420T023022
DTSTART;TZID=Europe/Berlin:20260630T180000
DTEND;TZID=Europe/Berlin:20260630T191500
UID:261BR30157-20260630T180000@VHSUNTERLAND
SUMMARY:Qi Gong im Salinenpark (261BR30157) 
LOCATION:br Gradierwerk, Kurgarten, Weinbrennerstraße, 74906 Bad Rappenau
END:VEVENT
BEGIN:VEVENT
DTSTAMP:20260420T023022
DTSTART;TZID=Europe/Berlin:20260707T180000
DTEND;TZID=Europe/Berlin:20260707T191500
UID:261BR30157-20260707T180000@VHSUNTERLAND
SUMMARY:Qi Gong im Salinenpark (261BR30157) 
LOCATION:br Gradierwerk, Kurgarten, Weinbrennerstraße, 74906 Bad Rappenau
END:VEVENT
BEGIN:VEVENT
DTSTAMP:20260420T023022
DTSTART;TZID=Europe/Berlin:20260714T180000
DTEND;TZID=Europe/Berlin:20260714T191500
UID:261BR30157-20260714T180000@VHSUNTERLAND
SUMMARY:Qi Gong im Salinenpark (261BR30157) 
LOCATION:br Gradierwerk, Kurgarten, Weinbrennerstraße, 74906 Bad Rappenau
END:VEVENT
BEGIN:VEVENT
DTSTAMP:20260420T023022
DTSTART;TZID=Europe/Berlin:20260721T180000
DTEND;TZID=Europe/Berlin:20260721T191500
UID:261BR30157-20260721T180000@VHSUNTERLAND
SUMMARY:Qi Gong im Salinenpark (261BR30157) 
LOCATION:br Gradierwerk, Kurgarten, Weinbrennerstraße, 74906 Bad Rappenau
END:VEVENT
END:VCALENDAR