BEGIN:VCALENDAR
VERSION:2.0
PRODID:http://www.kufer.de/kuferweb / DE
METHOD:PUBLISH
CALSCALE:GREGORIAN
X-WR-TIMEZONE:Europe/Berlin
BEGIN:VTIMEZONE
TZID:Europe/Berlin
X-LIC-LOCATION:Europe/Berlin
BEGIN:DAYLIGHT
TZOFFSETFROM:+0100
TZOFFSETTO:+0200
TZNAME:CEST
DTSTART;TZID=Europe/Berlin:19700329T020000
RRULE:FREQ=YEARLY;INTERVAL=1;BYDAY=-1SU;BYMONTH=3
END:DAYLIGHT
BEGIN:STANDARD
TZOFFSETFROM:+0200
TZOFFSETTO:+0100
TZNAME:CET
DTSTART;TZID=Europe/Berlin:19701025T030000
RRULE:FREQ=YEARLY;INTERVAL=1;BYDAY=-1SU;BYMONTH=10
END:STANDARD
END:VTIMEZONE
BEGIN:VEVENT
DTSTAMP:20260422T093001
DTSTART;TZID=Europe/Berlin:20260203T180000
DTEND;TZID=Europe/Berlin:20260203T191500
UID:261BR30150-20260203T180000@VHSUNTERLAND
SUMMARY:Qi Gong (261BR30150) 
LOCATION:br Bürgerhaus, UG, Babstadter Straße 35, 74906 Bad Rappenau
END:VEVENT
BEGIN:VEVENT
DTSTAMP:20260422T093001
DTSTART;TZID=Europe/Berlin:20260210T180000
DTEND;TZID=Europe/Berlin:20260210T191500
UID:261BR30150-20260210T180000@VHSUNTERLAND
SUMMARY:Qi Gong (261BR30150) 
LOCATION:br Bürgerhaus, UG, Babstadter Straße 35, 74906 Bad Rappenau
END:VEVENT
BEGIN:VEVENT
DTSTAMP:20260422T093001
DTSTART;TZID=Europe/Berlin:20260224T180000
DTEND;TZID=Europe/Berlin:20260224T191500
UID:261BR30150-20260224T180000@VHSUNTERLAND
SUMMARY:Qi Gong (261BR30150) 
LOCATION:br Bürgerhaus, UG, Babstadter Straße 35, 74906 Bad Rappenau
END:VEVENT
BEGIN:VEVENT
DTSTAMP:20260422T093001
DTSTART;TZID=Europe/Berlin:20260303T180000
DTEND;TZID=Europe/Berlin:20260303T191500
UID:261BR30150-20260303T180000@VHSUNTERLAND
SUMMARY:Qi Gong (261BR30150) 
LOCATION:br Bürgerhaus, UG, Babstadter Straße 35, 74906 Bad Rappenau
END:VEVENT
BEGIN:VEVENT
DTSTAMP:20260422T093001
DTSTART;TZID=Europe/Berlin:20260310T180000
DTEND;TZID=Europe/Berlin:20260310T191500
UID:261BR30150-20260310T180000@VHSUNTERLAND
SUMMARY:Qi Gong (261BR30150) 
LOCATION:br Bürgerhaus, UG, Babstadter Straße 35, 74906 Bad Rappenau
END:VEVENT
BEGIN:VEVENT
DTSTAMP:20260422T093001
DTSTART;TZID=Europe/Berlin:20260317T180000
DTEND;TZID=Europe/Berlin:20260317T191500
UID:261BR30150-20260317T180000@VHSUNTERLAND
SUMMARY:Qi Gong (261BR30150) 
LOCATION:br Bürgerhaus, UG, Babstadter Straße 35, 74906 Bad Rappenau
END:VEVENT
BEGIN:VEVENT
DTSTAMP:20260422T093001
DTSTART;TZID=Europe/Berlin:20260324T180000
DTEND;TZID=Europe/Berlin:20260324T191500
UID:261BR30150-20260324T180000@VHSUNTERLAND
SUMMARY:Qi Gong (261BR30150) 
LOCATION:br Bürgerhaus, UG, Babstadter Straße 35, 74906 Bad Rappenau
END:VEVENT
BEGIN:VEVENT
DTSTAMP:20260422T093001
DTSTART;TZID=Europe/Berlin:20260414T180000
DTEND;TZID=Europe/Berlin:20260414T191500
UID:261BR30150-20260414T180000@VHSUNTERLAND
SUMMARY:Qi Gong (261BR30150) 
LOCATION:br Bürgerhaus, UG, Babstadter Straße 35, 74906 Bad Rappenau
END:VEVENT
BEGIN:VEVENT
DTSTAMP:20260422T093001
DTSTART;TZID=Europe/Berlin:20260421T180000
DTEND;TZID=Europe/Berlin:20260421T191500
UID:261BR30150-20260421T180000@VHSUNTERLAND
SUMMARY:Qi Gong (261BR30150) 
LOCATION:br Bürgerhaus, UG, Babstadter Straße 35, 74906 Bad Rappenau
END:VEVENT
BEGIN:VEVENT
DTSTAMP:20260422T093001
DTSTART;TZID=Europe/Berlin:20260428T180000
DTEND;TZID=Europe/Berlin:20260428T191500
UID:261BR30150-20260428T180000@VHSUNTERLAND
SUMMARY:Qi Gong (261BR30150) 
LOCATION:br Bürgerhaus, UG, Babstadter Straße 35, 74906 Bad Rappenau
END:VEVENT
BEGIN:VEVENT
DTSTAMP:20260422T093001
DTSTART;TZID=Europe/Berlin:20260505T180000
DTEND;TZID=Europe/Berlin:20260505T191500
UID:261BR30150-20260505T180000@VHSUNTERLAND
SUMMARY:Qi Gong (261BR30150) 
LOCATION:br Bürgerhaus, UG, Babstadter Straße 35, 74906 Bad Rappenau
END:VEVENT
BEGIN:VEVENT
DTSTAMP:20260422T093001
DTSTART;TZID=Europe/Berlin:20260512T180000
DTEND;TZID=Europe/Berlin:20260512T191500
UID:261BR30150-20260512T180000@VHSUNTERLAND
SUMMARY:Qi Gong (261BR30150) 
LOCATION:br Bürgerhaus, UG, Babstadter Straße 35, 74906 Bad Rappenau
END:VEVENT
END:VCALENDAR