BEGIN:VCALENDAR
VERSION:2.0
PRODID:http://www.kufer.de/kuferweb / DE
METHOD:PUBLISH
CALSCALE:GREGORIAN
X-WR-TIMEZONE:Europe/Berlin
BEGIN:VTIMEZONE
TZID:Europe/Berlin
X-LIC-LOCATION:Europe/Berlin
BEGIN:DAYLIGHT
TZOFFSETFROM:+0100
TZOFFSETTO:+0200
TZNAME:CEST
DTSTART;TZID=Europe/Berlin:19700329T020000
RRULE:FREQ=YEARLY;INTERVAL=1;BYDAY=-1SU;BYMONTH=3
END:DAYLIGHT
BEGIN:STANDARD
TZOFFSETFROM:+0200
TZOFFSETTO:+0100
TZNAME:CET
DTSTART;TZID=Europe/Berlin:19701025T030000
RRULE:FREQ=YEARLY;INTERVAL=1;BYDAY=-1SU;BYMONTH=10
END:STANDARD
END:VTIMEZONE
BEGIN:VEVENT
DTSTAMP:20260423T195944
DTSTART;TZID=Europe/Berlin:20260226T144500
DTEND;TZID=Europe/Berlin:20260226T154500
UID:261BR30146-20260226T144500@VHSUNTERLAND
SUMMARY:Yoga auf und mit dem Stuhl (261BR30146) 
LOCATION:br Kulturhaus, Entspannungsraum, Heinsheimer Straße 16, 74906 Bad Rappenau
END:VEVENT
BEGIN:VEVENT
DTSTAMP:20260423T195944
DTSTART;TZID=Europe/Berlin:20260305T144500
DTEND;TZID=Europe/Berlin:20260305T154500
UID:261BR30146-20260305T144500@VHSUNTERLAND
SUMMARY:Yoga auf und mit dem Stuhl (261BR30146) 
LOCATION:br Kulturhaus, Entspannungsraum, Heinsheimer Straße 16, 74906 Bad Rappenau
END:VEVENT
BEGIN:VEVENT
DTSTAMP:20260423T195944
DTSTART;TZID=Europe/Berlin:20260312T144500
DTEND;TZID=Europe/Berlin:20260312T154500
UID:261BR30146-20260312T144500@VHSUNTERLAND
SUMMARY:Yoga auf und mit dem Stuhl (261BR30146) 
LOCATION:br Kulturhaus, Entspannungsraum, Heinsheimer Straße 16, 74906 Bad Rappenau
END:VEVENT
BEGIN:VEVENT
DTSTAMP:20260423T195944
DTSTART;TZID=Europe/Berlin:20260319T144500
DTEND;TZID=Europe/Berlin:20260319T154500
UID:261BR30146-20260319T144500@VHSUNTERLAND
SUMMARY:Yoga auf und mit dem Stuhl (261BR30146) 
LOCATION:br Kulturhaus, Entspannungsraum, Heinsheimer Straße 16, 74906 Bad Rappenau
END:VEVENT
BEGIN:VEVENT
DTSTAMP:20260423T195944
DTSTART;TZID=Europe/Berlin:20260326T144500
DTEND;TZID=Europe/Berlin:20260326T154500
UID:261BR30146-20260326T144500@VHSUNTERLAND
SUMMARY:Yoga auf und mit dem Stuhl (261BR30146) 
LOCATION:br Kulturhaus, Entspannungsraum, Heinsheimer Straße 16, 74906 Bad Rappenau
END:VEVENT
BEGIN:VEVENT
DTSTAMP:20260423T195944
DTSTART;TZID=Europe/Berlin:20260416T144500
DTEND;TZID=Europe/Berlin:20260416T154500
UID:261BR30146-20260416T144500@VHSUNTERLAND
SUMMARY:Yoga auf und mit dem Stuhl (261BR30146) 
LOCATION:br Kulturhaus, Entspannungsraum, Heinsheimer Straße 16, 74906 Bad Rappenau
END:VEVENT
BEGIN:VEVENT
DTSTAMP:20260423T195944
DTSTART;TZID=Europe/Berlin:20260423T144500
DTEND;TZID=Europe/Berlin:20260423T154500
UID:261BR30146-20260423T144500@VHSUNTERLAND
SUMMARY:Yoga auf und mit dem Stuhl (261BR30146) 
LOCATION:br Kulturhaus, Entspannungsraum, Heinsheimer Straße 16, 74906 Bad Rappenau
END:VEVENT
BEGIN:VEVENT
DTSTAMP:20260423T195944
DTSTART;TZID=Europe/Berlin:20260430T144500
DTEND;TZID=Europe/Berlin:20260430T154500
UID:261BR30146-20260430T144500@VHSUNTERLAND
SUMMARY:Yoga auf und mit dem Stuhl (261BR30146) 
LOCATION:br Kulturhaus, Entspannungsraum, Heinsheimer Straße 16, 74906 Bad Rappenau
END:VEVENT
BEGIN:VEVENT
DTSTAMP:20260423T195944
DTSTART;TZID=Europe/Berlin:20260507T144500
DTEND;TZID=Europe/Berlin:20260507T154500
UID:261BR30146-20260507T144500@VHSUNTERLAND
SUMMARY:Yoga auf und mit dem Stuhl (261BR30146) 
LOCATION:br Kulturhaus, Entspannungsraum, Heinsheimer Straße 16, 74906 Bad Rappenau
END:VEVENT
BEGIN:VEVENT
DTSTAMP:20260423T195944
DTSTART;TZID=Europe/Berlin:20260521T144500
DTEND;TZID=Europe/Berlin:20260521T154500
UID:261BR30146-20260521T144500@VHSUNTERLAND
SUMMARY:Yoga auf und mit dem Stuhl (261BR30146) 
LOCATION:br Kulturhaus, Entspannungsraum, Heinsheimer Straße 16, 74906 Bad Rappenau
END:VEVENT
END:VCALENDAR