BEGIN:VCALENDAR
VERSION:2.0
PRODID:http://www.kufer.de/kuferweb / DE
METHOD:PUBLISH
CALSCALE:GREGORIAN
X-WR-TIMEZONE:Europe/Berlin
BEGIN:VTIMEZONE
TZID:Europe/Berlin
X-LIC-LOCATION:Europe/Berlin
BEGIN:DAYLIGHT
TZOFFSETFROM:+0100
TZOFFSETTO:+0200
TZNAME:CEST
DTSTART;TZID=Europe/Berlin:19700329T020000
RRULE:FREQ=YEARLY;INTERVAL=1;BYDAY=-1SU;BYMONTH=3
END:DAYLIGHT
BEGIN:STANDARD
TZOFFSETFROM:+0200
TZOFFSETTO:+0100
TZNAME:CET
DTSTART;TZID=Europe/Berlin:19701025T030000
RRULE:FREQ=YEARLY;INTERVAL=1;BYDAY=-1SU;BYMONTH=10
END:STANDARD
END:VTIMEZONE
BEGIN:VEVENT
DTSTAMP:20260423T144219
DTSTART;TZID=Europe/Berlin:20260304T182000
DTEND;TZID=Europe/Berlin:20260304T195000
UID:261BR30133-20260304T182000@VHSUNTERLAND
SUMMARY:Hatha Yoga (261BR30133) 
LOCATION:br Bürgerhaus, EG, Babstadter Straße 35, 74906 Bad Rappenau
END:VEVENT
BEGIN:VEVENT
DTSTAMP:20260423T144219
DTSTART;TZID=Europe/Berlin:20260311T182000
DTEND;TZID=Europe/Berlin:20260311T195000
UID:261BR30133-20260311T182000@VHSUNTERLAND
SUMMARY:Hatha Yoga (261BR30133) 
LOCATION:br Bürgerhaus, EG, Babstadter Straße 35, 74906 Bad Rappenau
END:VEVENT
BEGIN:VEVENT
DTSTAMP:20260423T144219
DTSTART;TZID=Europe/Berlin:20260318T182000
DTEND;TZID=Europe/Berlin:20260318T195000
UID:261BR30133-20260318T182000@VHSUNTERLAND
SUMMARY:Hatha Yoga (261BR30133) 
LOCATION:br Bürgerhaus, EG, Babstadter Straße 35, 74906 Bad Rappenau
END:VEVENT
BEGIN:VEVENT
DTSTAMP:20260423T144219
DTSTART;TZID=Europe/Berlin:20260325T182000
DTEND;TZID=Europe/Berlin:20260325T195000
UID:261BR30133-20260325T182000@VHSUNTERLAND
SUMMARY:Hatha Yoga (261BR30133) 
LOCATION:br Bürgerhaus, EG, Babstadter Straße 35, 74906 Bad Rappenau
END:VEVENT
BEGIN:VEVENT
DTSTAMP:20260423T144219
DTSTART;TZID=Europe/Berlin:20260415T182000
DTEND;TZID=Europe/Berlin:20260415T195000
UID:261BR30133-20260415T182000@VHSUNTERLAND
SUMMARY:Hatha Yoga (261BR30133) 
LOCATION:br Bürgerhaus, EG, Babstadter Straße 35, 74906 Bad Rappenau
END:VEVENT
BEGIN:VEVENT
DTSTAMP:20260423T144219
DTSTART;TZID=Europe/Berlin:20260422T182000
DTEND;TZID=Europe/Berlin:20260422T195000
UID:261BR30133-20260422T182000@VHSUNTERLAND
SUMMARY:Hatha Yoga (261BR30133) 
LOCATION:br Bürgerhaus, EG, Babstadter Straße 35, 74906 Bad Rappenau
END:VEVENT
BEGIN:VEVENT
DTSTAMP:20260423T144219
DTSTART;TZID=Europe/Berlin:20260429T182000
DTEND;TZID=Europe/Berlin:20260429T195000
UID:261BR30133-20260429T182000@VHSUNTERLAND
SUMMARY:Hatha Yoga (261BR30133) 
LOCATION:br Bürgerhaus, EG, Babstadter Straße 35, 74906 Bad Rappenau
END:VEVENT
BEGIN:VEVENT
DTSTAMP:20260423T144219
DTSTART;TZID=Europe/Berlin:20260506T182000
DTEND;TZID=Europe/Berlin:20260506T195000
UID:261BR30133-20260506T182000@VHSUNTERLAND
SUMMARY:Hatha Yoga (261BR30133) 
LOCATION:br Bürgerhaus, EG, Babstadter Straße 35, 74906 Bad Rappenau
END:VEVENT
BEGIN:VEVENT
DTSTAMP:20260423T144219
DTSTART;TZID=Europe/Berlin:20260513T182000
DTEND;TZID=Europe/Berlin:20260513T195000
UID:261BR30133-20260513T182000@VHSUNTERLAND
SUMMARY:Hatha Yoga (261BR30133) 
LOCATION:br Bürgerhaus, EG, Babstadter Straße 35, 74906 Bad Rappenau
END:VEVENT
BEGIN:VEVENT
DTSTAMP:20260423T144219
DTSTART;TZID=Europe/Berlin:20260520T182000
DTEND;TZID=Europe/Berlin:20260520T195000
UID:261BR30133-20260520T182000@VHSUNTERLAND
SUMMARY:Hatha Yoga (261BR30133) 
LOCATION:br Bürgerhaus, EG, Babstadter Straße 35, 74906 Bad Rappenau
END:VEVENT
END:VCALENDAR