BEGIN:VCALENDAR
VERSION:2.0
PRODID:http://www.kufer.de/kuferweb / DE
METHOD:PUBLISH
CALSCALE:GREGORIAN
X-WR-TIMEZONE:Europe/Berlin
BEGIN:VTIMEZONE
TZID:Europe/Berlin
X-LIC-LOCATION:Europe/Berlin
BEGIN:DAYLIGHT
TZOFFSETFROM:+0100
TZOFFSETTO:+0200
TZNAME:CEST
DTSTART;TZID=Europe/Berlin:19700329T020000
RRULE:FREQ=YEARLY;INTERVAL=1;BYDAY=-1SU;BYMONTH=3
END:DAYLIGHT
BEGIN:STANDARD
TZOFFSETFROM:+0200
TZOFFSETTO:+0100
TZNAME:CET
DTSTART;TZID=Europe/Berlin:19701025T030000
RRULE:FREQ=YEARLY;INTERVAL=1;BYDAY=-1SU;BYMONTH=10
END:STANDARD
END:VTIMEZONE
BEGIN:VEVENT
DTSTAMP:20260422T080328
DTSTART;TZID=Europe/Berlin:20260304T181000
DTEND;TZID=Europe/Berlin:20260304T191000
UID:261BR30114-20260304T181000@VHSUNTERLAND
SUMMARY:Pilates für Anfänger*innen und Fortgeschrittene (261BR30114) 
LOCATION:br Kulturhaus, Entspannungsraum, Heinsheimer Straße 16, 74906 Bad Rappenau
END:VEVENT
BEGIN:VEVENT
DTSTAMP:20260422T080328
DTSTART;TZID=Europe/Berlin:20260311T181000
DTEND;TZID=Europe/Berlin:20260311T191000
UID:261BR30114-20260311T181000@VHSUNTERLAND
SUMMARY:Pilates für Anfänger*innen und Fortgeschrittene (261BR30114) 
LOCATION:br Kulturhaus, Entspannungsraum, Heinsheimer Straße 16, 74906 Bad Rappenau
END:VEVENT
BEGIN:VEVENT
DTSTAMP:20260422T080328
DTSTART;TZID=Europe/Berlin:20260318T181000
DTEND;TZID=Europe/Berlin:20260318T191000
UID:261BR30114-20260318T181000@VHSUNTERLAND
SUMMARY:Pilates für Anfänger*innen und Fortgeschrittene (261BR30114) 
LOCATION:br Kulturhaus, Entspannungsraum, Heinsheimer Straße 16, 74906 Bad Rappenau
END:VEVENT
BEGIN:VEVENT
DTSTAMP:20260422T080328
DTSTART;TZID=Europe/Berlin:20260325T181000
DTEND;TZID=Europe/Berlin:20260325T191000
UID:261BR30114-20260325T181000@VHSUNTERLAND
SUMMARY:Pilates für Anfänger*innen und Fortgeschrittene (261BR30114) 
LOCATION:br Kulturhaus, Entspannungsraum, Heinsheimer Straße 16, 74906 Bad Rappenau
END:VEVENT
BEGIN:VEVENT
DTSTAMP:20260422T080328
DTSTART;TZID=Europe/Berlin:20260401T181000
DTEND;TZID=Europe/Berlin:20260401T191000
UID:261BR30114-20260401T181000@VHSUNTERLAND
SUMMARY:Pilates für Anfänger*innen und Fortgeschrittene (261BR30114) 
LOCATION:br Kulturhaus, Entspannungsraum, Heinsheimer Straße 16, 74906 Bad Rappenau
END:VEVENT
BEGIN:VEVENT
DTSTAMP:20260422T080328
DTSTART;TZID=Europe/Berlin:20260408T181000
DTEND;TZID=Europe/Berlin:20260408T191000
UID:261BR30114-20260408T181000@VHSUNTERLAND
SUMMARY:Pilates für Anfänger*innen und Fortgeschrittene (261BR30114) 
LOCATION:br Kulturhaus, Entspannungsraum, Heinsheimer Straße 16, 74906 Bad Rappenau
END:VEVENT
BEGIN:VEVENT
DTSTAMP:20260422T080328
DTSTART;TZID=Europe/Berlin:20260415T181000
DTEND;TZID=Europe/Berlin:20260415T191000
UID:261BR30114-20260415T181000@VHSUNTERLAND
SUMMARY:Pilates für Anfänger*innen und Fortgeschrittene (261BR30114) 
LOCATION:br Kulturhaus, Entspannungsraum, Heinsheimer Straße 16, 74906 Bad Rappenau
END:VEVENT
BEGIN:VEVENT
DTSTAMP:20260422T080328
DTSTART;TZID=Europe/Berlin:20260422T181000
DTEND;TZID=Europe/Berlin:20260422T191000
UID:261BR30114-20260422T181000@VHSUNTERLAND
SUMMARY:Pilates für Anfänger*innen und Fortgeschrittene (261BR30114) 
LOCATION:br Kulturhaus, Entspannungsraum, Heinsheimer Straße 16, 74906 Bad Rappenau
END:VEVENT
BEGIN:VEVENT
DTSTAMP:20260422T080328
DTSTART;TZID=Europe/Berlin:20260429T181000
DTEND;TZID=Europe/Berlin:20260429T191000
UID:261BR30114-20260429T181000@VHSUNTERLAND
SUMMARY:Pilates für Anfänger*innen und Fortgeschrittene (261BR30114) 
LOCATION:br Kulturhaus, Entspannungsraum, Heinsheimer Straße 16, 74906 Bad Rappenau
END:VEVENT
BEGIN:VEVENT
DTSTAMP:20260422T080328
DTSTART;TZID=Europe/Berlin:20260520T181000
DTEND;TZID=Europe/Berlin:20260520T191000
UID:261BR30114-20260520T181000@VHSUNTERLAND
SUMMARY:Pilates für Anfänger*innen und Fortgeschrittene (261BR30114) 
LOCATION:br Kulturhaus, Entspannungsraum, Heinsheimer Straße 16, 74906 Bad Rappenau
END:VEVENT
BEGIN:VEVENT
DTSTAMP:20260422T080328
DTSTART;TZID=Europe/Berlin:20260527T181000
DTEND;TZID=Europe/Berlin:20260527T191000
UID:261BR30114-20260527T181000@VHSUNTERLAND
DESCRIPTION:Ersatz für Ausfall am 06.05.2026
SUMMARY:Pilates für Anfänger*innen und Fortgeschrittene (261BR30114) 
LOCATION:br Kulturhaus, Entspannungsraum, Heinsheimer Straße 16, 74906 Bad Rappenau
END:VEVENT
BEGIN:VEVENT
DTSTAMP:20260422T080328
DTSTART;TZID=Europe/Berlin:20260603T181000
DTEND;TZID=Europe/Berlin:20260603T191000
UID:261BR30114-20260603T181000@VHSUNTERLAND
DESCRIPTION:Ersatz für Ausfall am 13.05.2026
SUMMARY:Pilates für Anfänger*innen und Fortgeschrittene (261BR30114) 
LOCATION:br Kulturhaus, Entspannungsraum, Heinsheimer Straße 16, 74906 Bad Rappenau
END:VEVENT
END:VCALENDAR