BEGIN:VCALENDAR
VERSION:2.0
PRODID:http://www.kufer.de/kuferweb / DE
METHOD:PUBLISH
CALSCALE:GREGORIAN
X-WR-TIMEZONE:Europe/Berlin
BEGIN:VTIMEZONE
TZID:Europe/Berlin
X-LIC-LOCATION:Europe/Berlin
BEGIN:DAYLIGHT
TZOFFSETFROM:+0100
TZOFFSETTO:+0200
TZNAME:CEST
DTSTART;TZID=Europe/Berlin:19700329T020000
RRULE:FREQ=YEARLY;INTERVAL=1;BYDAY=-1SU;BYMONTH=3
END:DAYLIGHT
BEGIN:STANDARD
TZOFFSETFROM:+0200
TZOFFSETTO:+0100
TZNAME:CET
DTSTART;TZID=Europe/Berlin:19701025T030000
RRULE:FREQ=YEARLY;INTERVAL=1;BYDAY=-1SU;BYMONTH=10
END:STANDARD
END:VTIMEZONE
BEGIN:VEVENT
DTSTAMP:20260422T171900
DTSTART;TZID=Europe/Berlin:20260203T203000
DTEND;TZID=Europe/Berlin:20260203T213000
UID:261BR30110-20260203T203000@VHSUNTERLAND
SUMMARY:Pilates  für Anfänger*innen und Fortgeschrittene (261BR30110) 
LOCATION:br Wasserschloss, Halle (2. OG), Hinter dem Schloss 1, 74906 Bad Rappenau
END:VEVENT
BEGIN:VEVENT
DTSTAMP:20260422T171900
DTSTART;TZID=Europe/Berlin:20260210T203000
DTEND;TZID=Europe/Berlin:20260210T213000
UID:261BR30110-20260210T203000@VHSUNTERLAND
SUMMARY:Pilates  für Anfänger*innen und Fortgeschrittene (261BR30110) 
LOCATION:br Wasserschloss, Halle (2. OG), Hinter dem Schloss 1, 74906 Bad Rappenau
END:VEVENT
BEGIN:VEVENT
DTSTAMP:20260422T171900
DTSTART;TZID=Europe/Berlin:20260224T203000
DTEND;TZID=Europe/Berlin:20260224T213000
UID:261BR30110-20260224T203000@VHSUNTERLAND
SUMMARY:Pilates  für Anfänger*innen und Fortgeschrittene (261BR30110) 
LOCATION:br Wasserschloss, Halle (2. OG), Hinter dem Schloss 1, 74906 Bad Rappenau
END:VEVENT
BEGIN:VEVENT
DTSTAMP:20260422T171900
DTSTART;TZID=Europe/Berlin:20260303T203000
DTEND;TZID=Europe/Berlin:20260303T213000
UID:261BR30110-20260303T203000@VHSUNTERLAND
SUMMARY:Pilates  für Anfänger*innen und Fortgeschrittene (261BR30110) 
LOCATION:br Wasserschloss, Halle (2. OG), Hinter dem Schloss 1, 74906 Bad Rappenau
END:VEVENT
BEGIN:VEVENT
DTSTAMP:20260422T171900
DTSTART;TZID=Europe/Berlin:20260310T203000
DTEND;TZID=Europe/Berlin:20260310T213000
UID:261BR30110-20260310T203000@VHSUNTERLAND
SUMMARY:Pilates  für Anfänger*innen und Fortgeschrittene (261BR30110) 
LOCATION:br Wasserschloss, Halle (2. OG), Hinter dem Schloss 1, 74906 Bad Rappenau
END:VEVENT
BEGIN:VEVENT
DTSTAMP:20260422T171900
DTSTART;TZID=Europe/Berlin:20260317T203000
DTEND;TZID=Europe/Berlin:20260317T213000
UID:261BR30110-20260317T203000@VHSUNTERLAND
SUMMARY:Pilates  für Anfänger*innen und Fortgeschrittene (261BR30110) 
LOCATION:br Wasserschloss, Halle (2. OG), Hinter dem Schloss 1, 74906 Bad Rappenau
END:VEVENT
BEGIN:VEVENT
DTSTAMP:20260422T171900
DTSTART;TZID=Europe/Berlin:20260324T203000
DTEND;TZID=Europe/Berlin:20260324T213000
UID:261BR30110-20260324T203000@VHSUNTERLAND
SUMMARY:Pilates  für Anfänger*innen und Fortgeschrittene (261BR30110) 
LOCATION:br Wasserschloss, Halle (2. OG), Hinter dem Schloss 1, 74906 Bad Rappenau
END:VEVENT
BEGIN:VEVENT
DTSTAMP:20260422T171900
DTSTART;TZID=Europe/Berlin:20260414T203000
DTEND;TZID=Europe/Berlin:20260414T213000
UID:261BR30110-20260414T203000@VHSUNTERLAND
SUMMARY:Pilates  für Anfänger*innen und Fortgeschrittene (261BR30110) 
LOCATION:br Wasserschloss, Halle (2. OG), Hinter dem Schloss 1, 74906 Bad Rappenau
END:VEVENT
BEGIN:VEVENT
DTSTAMP:20260422T171900
DTSTART;TZID=Europe/Berlin:20260421T203000
DTEND;TZID=Europe/Berlin:20260421T213000
UID:261BR30110-20260421T203000@VHSUNTERLAND
SUMMARY:Pilates  für Anfänger*innen und Fortgeschrittene (261BR30110) 
LOCATION:br Wasserschloss, Halle (2. OG), Hinter dem Schloss 1, 74906 Bad Rappenau
END:VEVENT
BEGIN:VEVENT
DTSTAMP:20260422T171900
DTSTART;TZID=Europe/Berlin:20260428T203000
DTEND;TZID=Europe/Berlin:20260428T213000
UID:261BR30110-20260428T203000@VHSUNTERLAND
SUMMARY:Pilates  für Anfänger*innen und Fortgeschrittene (261BR30110) 
LOCATION:br Wasserschloss, Halle (2. OG), Hinter dem Schloss 1, 74906 Bad Rappenau
END:VEVENT
BEGIN:VEVENT
DTSTAMP:20260422T171900
DTSTART;TZID=Europe/Berlin:20260505T203000
DTEND;TZID=Europe/Berlin:20260505T213000
UID:261BR30110-20260505T203000@VHSUNTERLAND
SUMMARY:Pilates  für Anfänger*innen und Fortgeschrittene (261BR30110) 
LOCATION:br Wasserschloss, Halle (2. OG), Hinter dem Schloss 1, 74906 Bad Rappenau
END:VEVENT
BEGIN:VEVENT
DTSTAMP:20260422T171900
DTSTART;TZID=Europe/Berlin:20260512T203000
DTEND;TZID=Europe/Berlin:20260512T213000
UID:261BR30110-20260512T203000@VHSUNTERLAND
SUMMARY:Pilates  für Anfänger*innen und Fortgeschrittene (261BR30110) 
LOCATION:br Wasserschloss, Halle (2. OG), Hinter dem Schloss 1, 74906 Bad Rappenau
END:VEVENT
END:VCALENDAR