BEGIN:VCALENDAR
VERSION:2.0
PRODID:http://www.kufer.de/kuferweb / DE
METHOD:PUBLISH
CALSCALE:GREGORIAN
X-WR-TIMEZONE:Europe/Berlin
BEGIN:VTIMEZONE
TZID:Europe/Berlin
X-LIC-LOCATION:Europe/Berlin
BEGIN:DAYLIGHT
TZOFFSETFROM:+0100
TZOFFSETTO:+0200
TZNAME:CEST
DTSTART;TZID=Europe/Berlin:19700329T020000
RRULE:FREQ=YEARLY;INTERVAL=1;BYDAY=-1SU;BYMONTH=3
END:DAYLIGHT
BEGIN:STANDARD
TZOFFSETFROM:+0200
TZOFFSETTO:+0100
TZNAME:CET
DTSTART;TZID=Europe/Berlin:19701025T030000
RRULE:FREQ=YEARLY;INTERVAL=1;BYDAY=-1SU;BYMONTH=10
END:STANDARD
END:VTIMEZONE
BEGIN:VEVENT
DTSTAMP:20260422T210337
DTSTART;TZID=Europe/Berlin:20260803T093000
DTEND;TZID=Europe/Berlin:20260803T123000
UID:261BR20775-20260803T093000@VHSUNTERLAND
SUMMARY:Kunstcamp – Unterwegs in der Natur mit Farben und Pinsel   für Kinder von 7 - 12 Jahren (261BR20775) 
LOCATION:br Kulturhaus, Raum K2, Heinsheimer Straße 16, 74906 Bad Rappenau
END:VEVENT
BEGIN:VEVENT
DTSTAMP:20260422T210337
DTSTART;TZID=Europe/Berlin:20260804T093000
DTEND;TZID=Europe/Berlin:20260804T123000
UID:261BR20775-20260804T093000@VHSUNTERLAND
SUMMARY:Kunstcamp – Unterwegs in der Natur mit Farben und Pinsel   für Kinder von 7 - 12 Jahren (261BR20775) 
LOCATION:br Kulturhaus, Raum K2, Heinsheimer Straße 16, 74906 Bad Rappenau
END:VEVENT
BEGIN:VEVENT
DTSTAMP:20260422T210337
DTSTART;TZID=Europe/Berlin:20260805T093000
DTEND;TZID=Europe/Berlin:20260805T123000
UID:261BR20775-20260805T093000@VHSUNTERLAND
SUMMARY:Kunstcamp – Unterwegs in der Natur mit Farben und Pinsel   für Kinder von 7 - 12 Jahren (261BR20775) 
LOCATION:br Kulturhaus, Raum K2, Heinsheimer Straße 16, 74906 Bad Rappenau
END:VEVENT
BEGIN:VEVENT
DTSTAMP:20260422T210337
DTSTART;TZID=Europe/Berlin:20260806T093000
DTEND;TZID=Europe/Berlin:20260806T123000
UID:261BR20775-20260806T093000@VHSUNTERLAND
SUMMARY:Kunstcamp – Unterwegs in der Natur mit Farben und Pinsel   für Kinder von 7 - 12 Jahren (261BR20775) 
LOCATION:br Kulturhaus, Raum K2, Heinsheimer Straße 16, 74906 Bad Rappenau
END:VEVENT
END:VCALENDAR