BEGIN:VCALENDAR
VERSION:2.0
PRODID:http://www.kufer.de/kuferweb / DE
METHOD:PUBLISH
CALSCALE:GREGORIAN
X-WR-TIMEZONE:Europe/Berlin
BEGIN:VTIMEZONE
TZID:Europe/Berlin
X-LIC-LOCATION:Europe/Berlin
BEGIN:DAYLIGHT
TZOFFSETFROM:+0100
TZOFFSETTO:+0200
TZNAME:CEST
DTSTART;TZID=Europe/Berlin:19700329T020000
RRULE:FREQ=YEARLY;INTERVAL=1;BYDAY=-1SU;BYMONTH=3
END:DAYLIGHT
BEGIN:STANDARD
TZOFFSETFROM:+0200
TZOFFSETTO:+0100
TZNAME:CET
DTSTART;TZID=Europe/Berlin:19701025T030000
RRULE:FREQ=YEARLY;INTERVAL=1;BYDAY=-1SU;BYMONTH=10
END:STANDARD
END:VTIMEZONE
BEGIN:VEVENT
DTSTAMP:20260424T161659
DTSTART;TZID=Europe/Berlin:20260225T090000
DTEND;TZID=Europe/Berlin:20260225T120000
UID:261BR10071-20260225T090000@VHSUNTERLAND
SUMMARY:VHS-Akademie: Blick über den Tellerrand - in die Welt Gendermedizin – warum es Unterschiede in der medizinischen Versorgung bei Frauen und Männern gibt (261BR10071) 
LOCATION:br Kulturhaus, Seminarraum, Heinsheimer Straße 16, 74906 Bad Rappenau
END:VEVENT
BEGIN:VEVENT
DTSTAMP:20260424T161659
DTSTART;TZID=Europe/Berlin:20260304T090000
DTEND;TZID=Europe/Berlin:20260304T120000
UID:261BR10079-20260304T090000@VHSUNTERLAND
SUMMARY:VHS-Akademie: Blick über den Tellerrand - in die Welt Cuba – zwischen Zuckerrohr und Spitzentanz (261BR10079) 
LOCATION:br Kulturhaus, Seminarraum, Heinsheimer Straße 16, 74906 Bad Rappenau
END:VEVENT
BEGIN:VEVENT
DTSTAMP:20260424T161659
DTSTART;TZID=Europe/Berlin:20260311T090000
DTEND;TZID=Europe/Berlin:20260311T120000
UID:261BR10073-20260311T090000@VHSUNTERLAND
SUMMARY:VHS-Akademie: Blick über den Tellerrand - in die Welt Illusion und Wirklichkeit – Vom Trompe-l'oeil über Fotorealismus bis zu KI in der Kunst (261BR10073) 
LOCATION:br Kulturhaus, Seminarraum, Heinsheimer Straße 16, 74906 Bad Rappenau
END:VEVENT
BEGIN:VEVENT
DTSTAMP:20260424T161659
DTSTART;TZID=Europe/Berlin:20260325T090000
DTEND;TZID=Europe/Berlin:20260325T120000
UID:261BR10075-20260325T090000@VHSUNTERLAND
SUMMARY:VHS-Akademie: Blick über den Tellerrand - in die Welt Von der Erde ins Weltall (261BR10075) 
LOCATION:br Kulturhaus, Seminarraum, Heinsheimer Straße 16, 74906 Bad Rappenau
END:VEVENT
BEGIN:VEVENT
DTSTAMP:20260424T161659
DTSTART;TZID=Europe/Berlin:20260415T090000
DTEND;TZID=Europe/Berlin:20260415T120000
UID:261BR10076-20260415T090000@VHSUNTERLAND
SUMMARY:VHS-Akademie: Blick über den Tellerrand - in die Welt Schlaglicht auf die aktuelle politische Lage (261BR10076) 
LOCATION:br Kulturhaus, Seminarraum, Heinsheimer Straße 16, 74906 Bad Rappenau
END:VEVENT
BEGIN:VEVENT
DTSTAMP:20260424T161659
DTSTART;TZID=Europe/Berlin:20260422T090000
DTEND;TZID=Europe/Berlin:20260422T120000
UID:261BR10077-20260422T090000@VHSUNTERLAND
SUMMARY:VHS-Akademie: Blick über den Tellerrand - in die Welt Der Jemen (261BR10077) 
LOCATION:br Kulturhaus, Seminarraum, Heinsheimer Straße 16, 74906 Bad Rappenau
END:VEVENT
BEGIN:VEVENT
DTSTAMP:20260424T161659
DTSTART;TZID=Europe/Berlin:20260429T090000
DTEND;TZID=Europe/Berlin:20260429T120000
UID:261BR10078-20260429T090000@VHSUNTERLAND
SUMMARY:VHS-Akademie: Blick über den Tellerrand - in die Welt Wie gespalten ist unsere Gesellschaft (261BR10078) 
LOCATION:br Kulturhaus, Seminarraum, Heinsheimer Straße 16, 74906 Bad Rappenau
END:VEVENT
BEGIN:VEVENT
DTSTAMP:20260424T161659
DTSTART;TZID=Europe/Berlin:20260506T090000
DTEND;TZID=Europe/Berlin:20260506T120000
UID:261BR10072-20260506T090000@VHSUNTERLAND
DESCRIPTION:Ersatz für Ausfall am 04.03.2026
SUMMARY:VHS-Akademie: Blick über den Tellerrand - in die Welt Das Zentrum der antiken Welt: Sizilien zwischen Europa, Afrika und dem Orient (261BR10072) 
LOCATION:br Kulturhaus, Seminarraum, Heinsheimer Straße 16, 74906 Bad Rappenau
END:VEVENT
BEGIN:VEVENT
DTSTAMP:20260424T161659
DTSTART;TZID=Europe/Berlin:20260520T090000
DTEND;TZID=Europe/Berlin:20260520T120000
UID:261BR10080-20260520T090000@VHSUNTERLAND
SUMMARY:VHS-Akademie: Blick über den Tellerrand - in die Welt Auf den Spuren Bachs (261BR10080) 
LOCATION:br Kulturhaus, Seminarraum, Heinsheimer Straße 16, 74906 Bad Rappenau
END:VEVENT
BEGIN:VEVENT
DTSTAMP:20260424T161659
DTSTART;TZID=Europe/Berlin:20260617T090000
DTEND;TZID=Europe/Berlin:20260617T120000
UID:261BR10074-20260617T090000@VHSUNTERLAND
SUMMARY:VHS-Akademie: Blick über den Tellerrand - in die Welt Sinnesorgane des Menschen (261BR10074) 
LOCATION:br Kulturhaus, Seminarraum, Heinsheimer Straße 16, 74906 Bad Rappenau
END:VEVENT
END:VCALENDAR