BEGIN:VCALENDAR
VERSION:2.0
PRODID:http://www.kufer.de/kuferweb / DE
METHOD:PUBLISH
CALSCALE:GREGORIAN
X-WR-TIMEZONE:Europe/Berlin
BEGIN:VTIMEZONE
TZID:Europe/Berlin
X-LIC-LOCATION:Europe/Berlin
BEGIN:DAYLIGHT
TZOFFSETFROM:+0100
TZOFFSETTO:+0200
TZNAME:CEST
DTSTART;TZID=Europe/Berlin:19700329T020000
RRULE:FREQ=YEARLY;INTERVAL=1;BYDAY=-1SU;BYMONTH=3
END:DAYLIGHT
BEGIN:STANDARD
TZOFFSETFROM:+0200
TZOFFSETTO:+0100
TZNAME:CET
DTSTART;TZID=Europe/Berlin:19701025T030000
RRULE:FREQ=YEARLY;INTERVAL=1;BYDAY=-1SU;BYMONTH=10
END:STANDARD
END:VTIMEZONE
BEGIN:VEVENT
DTSTAMP:20260422T122801
DTSTART;TZID=Europe/Berlin:20260224T090000
DTEND;TZID=Europe/Berlin:20260224T120000
UID:261BR10051-20260224T090000@VHSUNTERLAND
SUMMARY:VHS-Akademie: Blick über den Tellerrand Als die Literatur Deutschland verließ – der Exodus der Literaten ab 1933 (261BR10051) 
LOCATION:br Forum Fränkischer Hof, Musiksaal, Heinsheimer Straße 16, 74906 Bad Rappenau
END:VEVENT
BEGIN:VEVENT
DTSTAMP:20260422T122801
DTSTART;TZID=Europe/Berlin:20260303T090000
DTEND;TZID=Europe/Berlin:20260303T120000
UID:261BR10052-20260303T090000@VHSUNTERLAND
SUMMARY:VHS-Akademie: Blick über den Tellerrand Schlaglicht auf die aktuelle politische Lage (261BR10052) 
LOCATION:br Forum Fränkischer Hof, Musiksaal, Heinsheimer Straße 16, 74906 Bad Rappenau
END:VEVENT
BEGIN:VEVENT
DTSTAMP:20260422T122801
DTSTART;TZID=Europe/Berlin:20260310T090000
DTEND;TZID=Europe/Berlin:20260310T120000
UID:261BR10053-20260310T090000@VHSUNTERLAND
SUMMARY:VHS-Akademie: Blick über den Tellerrand Mehr als Massel, Klezmer und Mischpoke – Einblicke in die jiddische Welt (261BR10053) 
LOCATION:br Forum Fränkischer Hof, Musiksaal, Heinsheimer Straße 16, 74906 Bad Rappenau
END:VEVENT
BEGIN:VEVENT
DTSTAMP:20260422T122801
DTSTART;TZID=Europe/Berlin:20260324T090000
DTEND;TZID=Europe/Berlin:20260324T120000
UID:261BR10055-20260324T090000@VHSUNTERLAND
SUMMARY:VHS-Akademie: Blick über den Tellerrand Von der Erde ins Weltall (261BR10055) 
LOCATION:br Forum Fränkischer Hof, Musiksaal, Heinsheimer Straße 16, 74906 Bad Rappenau
END:VEVENT
BEGIN:VEVENT
DTSTAMP:20260422T122801
DTSTART;TZID=Europe/Berlin:20260421T090000
DTEND;TZID=Europe/Berlin:20260421T120000
UID:261BR10056-20260421T090000@VHSUNTERLAND
SUMMARY:VHS-Akademie: Blick über den Tellerrand Wie gespalten ist unsere Gesellschaft (261BR10056) 
LOCATION:br Forum Fränkischer Hof, Musiksaal, Heinsheimer Straße 16, 74906 Bad Rappenau
END:VEVENT
BEGIN:VEVENT
DTSTAMP:20260422T122801
DTSTART;TZID=Europe/Berlin:20260428T090000
DTEND;TZID=Europe/Berlin:20260428T120000
UID:261BR10057-20260428T090000@VHSUNTERLAND
SUMMARY:VHS-Akademie: Blick über den Tellerrand Der Jemen (261BR10057) 
LOCATION:br Forum Fränkischer Hof, Musiksaal, Heinsheimer Straße 16, 74906 Bad Rappenau
END:VEVENT
BEGIN:VEVENT
DTSTAMP:20260422T122801
DTSTART;TZID=Europe/Berlin:20260505T090000
DTEND;TZID=Europe/Berlin:20260505T120000
UID:261BR10058-20260505T090000@VHSUNTERLAND
SUMMARY:VHS-Akademie: Blick über den Tellerrand Cuba – zwischen Zuckerrohr und Spitzentanz (261BR10058) 
LOCATION:br Forum Fränkischer Hof, Musiksaal, Heinsheimer Straße 16, 74906 Bad Rappenau
END:VEVENT
BEGIN:VEVENT
DTSTAMP:20260422T122801
DTSTART;TZID=Europe/Berlin:20260512T090000
DTEND;TZID=Europe/Berlin:20260512T120000
UID:261BR10059-20260512T090000@VHSUNTERLAND
SUMMARY:VHS-Akademie: Blick über den Tellerrand Illusion und Wirklichkeit – Vom Trompe-l'oeil über Fotorealismus bis zu KI in der Kunst (261BR10059) 
LOCATION:br Forum Fränkischer Hof, Musiksaal, Heinsheimer Straße 16, 74906 Bad Rappenau
END:VEVENT
BEGIN:VEVENT
DTSTAMP:20260422T122801
DTSTART;TZID=Europe/Berlin:20260519T090000
DTEND;TZID=Europe/Berlin:20260519T120000
UID:261BR10060-20260519T090000@VHSUNTERLAND
SUMMARY:VHS-Akademie: Blick über den Tellerrand Dimensionen der Pressefreiheit – Geschichte und Gegenwart eines Grundrechts (261BR10060) 
LOCATION:br Forum Fränkischer Hof, Musiksaal, Heinsheimer Straße 16, 74906 Bad Rappenau
END:VEVENT
BEGIN:VEVENT
DTSTAMP:20260422T122801
DTSTART;TZID=Europe/Berlin:20260616T090000
DTEND;TZID=Europe/Berlin:20260616T120000
UID:261BR10054-20260616T090000@VHSUNTERLAND
SUMMARY:VHS-Akademie: Blick über den Tellerrand Faszination „Menschliches Gehirn“ (261BR10054) 
LOCATION:br Forum Fränkischer Hof, Musiksaal, Heinsheimer Straße 16, 74906 Bad Rappenau
END:VEVENT
END:VCALENDAR