BEGIN:VCALENDAR
VERSION:2.0
PRODID:http://www.kufer.de/kuferweb / DE
METHOD:PUBLISH
CALSCALE:GREGORIAN
X-WR-TIMEZONE:Europe/Berlin
BEGIN:VTIMEZONE
TZID:Europe/Berlin
X-LIC-LOCATION:Europe/Berlin
BEGIN:DAYLIGHT
TZOFFSETFROM:+0100
TZOFFSETTO:+0200
TZNAME:CEST
DTSTART;TZID=Europe/Berlin:19700329T020000
RRULE:FREQ=YEARLY;INTERVAL=1;BYDAY=-1SU;BYMONTH=3
END:DAYLIGHT
BEGIN:STANDARD
TZOFFSETFROM:+0200
TZOFFSETTO:+0100
TZNAME:CET
DTSTART;TZID=Europe/Berlin:19701025T030000
RRULE:FREQ=YEARLY;INTERVAL=1;BYDAY=-1SU;BYMONTH=10
END:STANDARD
END:VTIMEZONE
BEGIN:VEVENT
DTSTAMP:20260423T195823
DTSTART;TZID=Europe/Berlin:20260330T100000
DTEND;TZID=Europe/Berlin:20260330T121500
UID:261BH50187-20260330T100000@VHSUNTERLAND
SUMMARY:Microsoft Small Basic Programmieren für Kinder und Jugendliche ab 10 Jahren (261BH50187) 
LOCATION:bh Rondell, Medien.Raum, Heilbronner Straße 36, 74336 Brackenheim
END:VEVENT
BEGIN:VEVENT
DTSTAMP:20260423T195823
DTSTART;TZID=Europe/Berlin:20260331T100000
DTEND;TZID=Europe/Berlin:20260331T121500
UID:261BH50187-20260331T100000@VHSUNTERLAND
SUMMARY:Microsoft Small Basic Programmieren für Kinder und Jugendliche ab 10 Jahren (261BH50187) 
LOCATION:bh Rondell, Medien.Raum, Heilbronner Straße 36, 74336 Brackenheim
END:VEVENT
BEGIN:VEVENT
DTSTAMP:20260423T195823
DTSTART;TZID=Europe/Berlin:20260401T100000
DTEND;TZID=Europe/Berlin:20260401T121500
UID:261BH50187-20260401T100000@VHSUNTERLAND
SUMMARY:Microsoft Small Basic Programmieren für Kinder und Jugendliche ab 10 Jahren (261BH50187) 
LOCATION:bh Rondell, Medien.Raum, Heilbronner Straße 36, 74336 Brackenheim
END:VEVENT
END:VCALENDAR