BEGIN:VCALENDAR
VERSION:2.0
PRODID:http://www.kufer.de/kuferweb / DE
METHOD:PUBLISH
CALSCALE:GREGORIAN
X-WR-TIMEZONE:Europe/Berlin
BEGIN:VTIMEZONE
TZID:Europe/Berlin
X-LIC-LOCATION:Europe/Berlin
BEGIN:DAYLIGHT
TZOFFSETFROM:+0100
TZOFFSETTO:+0200
TZNAME:CEST
DTSTART;TZID=Europe/Berlin:19700329T020000
RRULE:FREQ=YEARLY;INTERVAL=1;BYDAY=-1SU;BYMONTH=3
END:DAYLIGHT
BEGIN:STANDARD
TZOFFSETFROM:+0200
TZOFFSETTO:+0100
TZNAME:CET
DTSTART;TZID=Europe/Berlin:19701025T030000
RRULE:FREQ=YEARLY;INTERVAL=1;BYDAY=-1SU;BYMONTH=10
END:STANDARD
END:VTIMEZONE
BEGIN:VEVENT
DTSTAMP:20260424T144146
DTSTART;TZID=Europe/Berlin:20260508T084500
DTEND;TZID=Europe/Berlin:20260508T114500
UID:261BH50110-20260508T084500@VHSUNTERLAND
SUMMARY:Fit fürs Büro - Wordvertiefung, Excel und PowerPoint  für Teilnehmende mit  EDV- und Word-Basiswissen (261BH50110) 
LOCATION:bh Rondell, Medien.Raum, Heilbronner Straße 36, 74336 Brackenheim
END:VEVENT
BEGIN:VEVENT
DTSTAMP:20260424T144146
DTSTART;TZID=Europe/Berlin:20260522T084500
DTEND;TZID=Europe/Berlin:20260522T114500
UID:261BH50110-20260522T084500@VHSUNTERLAND
SUMMARY:Fit fürs Büro - Wordvertiefung, Excel und PowerPoint  für Teilnehmende mit  EDV- und Word-Basiswissen (261BH50110) 
LOCATION:bh Rondell, Medien.Raum, Heilbronner Straße 36, 74336 Brackenheim
END:VEVENT
BEGIN:VEVENT
DTSTAMP:20260424T144146
DTSTART;TZID=Europe/Berlin:20260612T084500
DTEND;TZID=Europe/Berlin:20260612T114500
UID:261BH50110-20260612T084500@VHSUNTERLAND
SUMMARY:Fit fürs Büro - Wordvertiefung, Excel und PowerPoint  für Teilnehmende mit  EDV- und Word-Basiswissen (261BH50110) 
LOCATION:bh Rondell, Medien.Raum, Heilbronner Straße 36, 74336 Brackenheim
END:VEVENT
BEGIN:VEVENT
DTSTAMP:20260424T144146
DTSTART;TZID=Europe/Berlin:20260619T084500
DTEND;TZID=Europe/Berlin:20260619T114500
UID:261BH50110-20260619T084500@VHSUNTERLAND
SUMMARY:Fit fürs Büro - Wordvertiefung, Excel und PowerPoint  für Teilnehmende mit  EDV- und Word-Basiswissen (261BH50110) 
LOCATION:bh Rondell, Medien.Raum, Heilbronner Straße 36, 74336 Brackenheim
END:VEVENT
BEGIN:VEVENT
DTSTAMP:20260424T144146
DTSTART;TZID=Europe/Berlin:20260626T084500
DTEND;TZID=Europe/Berlin:20260626T114500
UID:261BH50110-20260626T084500@VHSUNTERLAND
SUMMARY:Fit fürs Büro - Wordvertiefung, Excel und PowerPoint  für Teilnehmende mit  EDV- und Word-Basiswissen (261BH50110) 
LOCATION:bh Rondell, Medien.Raum, Heilbronner Straße 36, 74336 Brackenheim
END:VEVENT
END:VCALENDAR