BEGIN:VCALENDAR
VERSION:2.0
PRODID:http://www.kufer.de/kuferweb / DE
METHOD:PUBLISH
CALSCALE:GREGORIAN
X-WR-TIMEZONE:Europe/Berlin
BEGIN:VTIMEZONE
TZID:Europe/Berlin
X-LIC-LOCATION:Europe/Berlin
BEGIN:DAYLIGHT
TZOFFSETFROM:+0100
TZOFFSETTO:+0200
TZNAME:CEST
DTSTART;TZID=Europe/Berlin:19700329T020000
RRULE:FREQ=YEARLY;INTERVAL=1;BYDAY=-1SU;BYMONTH=3
END:DAYLIGHT
BEGIN:STANDARD
TZOFFSETFROM:+0200
TZOFFSETTO:+0100
TZNAME:CET
DTSTART;TZID=Europe/Berlin:19701025T030000
RRULE:FREQ=YEARLY;INTERVAL=1;BYDAY=-1SU;BYMONTH=10
END:STANDARD
END:VTIMEZONE
BEGIN:VEVENT
DTSTAMP:20260421T140937
DTSTART;TZID=Europe/Berlin:20260311T173000
DTEND;TZID=Europe/Berlin:20260311T190000
UID:261BH42213-20260311T173000@VHSUNTERLAND
SUMMARY:Spanisch A1.2 (online) für Anfänger*innen mit Vorkenntnisse (261BH42213) 
LOCATION:HN online Zoom, , 
END:VEVENT
BEGIN:VEVENT
DTSTAMP:20260421T140937
DTSTART;TZID=Europe/Berlin:20260318T173000
DTEND;TZID=Europe/Berlin:20260318T190000
UID:261BH42213-20260318T173000@VHSUNTERLAND
SUMMARY:Spanisch A1.2 (online) für Anfänger*innen mit Vorkenntnisse (261BH42213) 
LOCATION:HN online Zoom, , 
END:VEVENT
BEGIN:VEVENT
DTSTAMP:20260421T140937
DTSTART;TZID=Europe/Berlin:20260325T173000
DTEND;TZID=Europe/Berlin:20260325T190000
UID:261BH42213-20260325T173000@VHSUNTERLAND
SUMMARY:Spanisch A1.2 (online) für Anfänger*innen mit Vorkenntnisse (261BH42213) 
LOCATION:HN online Zoom, , 
END:VEVENT
BEGIN:VEVENT
DTSTAMP:20260421T140937
DTSTART;TZID=Europe/Berlin:20260422T173000
DTEND;TZID=Europe/Berlin:20260422T190000
UID:261BH42213-20260422T173000@VHSUNTERLAND
SUMMARY:Spanisch A1.2 (online) für Anfänger*innen mit Vorkenntnisse (261BH42213) 
LOCATION:HN online Zoom, , 
END:VEVENT
BEGIN:VEVENT
DTSTAMP:20260421T140937
DTSTART;TZID=Europe/Berlin:20260429T173000
DTEND;TZID=Europe/Berlin:20260429T190000
UID:261BH42213-20260429T173000@VHSUNTERLAND
SUMMARY:Spanisch A1.2 (online) für Anfänger*innen mit Vorkenntnisse (261BH42213) 
LOCATION:HN online Zoom, , 
END:VEVENT
BEGIN:VEVENT
DTSTAMP:20260421T140937
DTSTART;TZID=Europe/Berlin:20260520T173000
DTEND;TZID=Europe/Berlin:20260520T190000
UID:261BH42213-20260520T173000@VHSUNTERLAND
SUMMARY:Spanisch A1.2 (online) für Anfänger*innen mit Vorkenntnisse (261BH42213) 
LOCATION:HN online Zoom, , 
END:VEVENT
BEGIN:VEVENT
DTSTAMP:20260421T140937
DTSTART;TZID=Europe/Berlin:20260610T173000
DTEND;TZID=Europe/Berlin:20260610T190000
UID:261BH42213-20260610T173000@VHSUNTERLAND
SUMMARY:Spanisch A1.2 (online) für Anfänger*innen mit Vorkenntnisse (261BH42213) 
LOCATION:HN online Zoom, , 
END:VEVENT
BEGIN:VEVENT
DTSTAMP:20260421T140937
DTSTART;TZID=Europe/Berlin:20260617T173000
DTEND;TZID=Europe/Berlin:20260617T190000
UID:261BH42213-20260617T173000@VHSUNTERLAND
DESCRIPTION:Ersatz für Ausfall am 15.04.2026
SUMMARY:Spanisch A1.2 (online) für Anfänger*innen mit Vorkenntnisse (261BH42213) 
LOCATION:HN online Zoom, , 
END:VEVENT
BEGIN:VEVENT
DTSTAMP:20260421T140937
DTSTART;TZID=Europe/Berlin:20260624T173000
DTEND;TZID=Europe/Berlin:20260624T190000
UID:261BH42213-20260624T173000@VHSUNTERLAND
DESCRIPTION:Ersatz für Ausfall am 06.05.2026
SUMMARY:Spanisch A1.2 (online) für Anfänger*innen mit Vorkenntnisse (261BH42213) 
LOCATION:HN online Zoom, , 
END:VEVENT
BEGIN:VEVENT
DTSTAMP:20260421T140937
DTSTART;TZID=Europe/Berlin:20260701T173000
DTEND;TZID=Europe/Berlin:20260701T190000
UID:261BH42213-20260701T173000@VHSUNTERLAND
DESCRIPTION:Ersatz für Ausfall am 13.05.2026
SUMMARY:Spanisch A1.2 (online) für Anfänger*innen mit Vorkenntnisse (261BH42213) 
LOCATION:HN online Zoom, , 
END:VEVENT
END:VCALENDAR