BEGIN:VCALENDAR
VERSION:2.0
PRODID:http://www.kufer.de/kuferweb / DE
METHOD:PUBLISH
CALSCALE:GREGORIAN
X-WR-TIMEZONE:Europe/Berlin
BEGIN:VTIMEZONE
TZID:Europe/Berlin
X-LIC-LOCATION:Europe/Berlin
BEGIN:DAYLIGHT
TZOFFSETFROM:+0100
TZOFFSETTO:+0200
TZNAME:CEST
DTSTART;TZID=Europe/Berlin:19700329T020000
RRULE:FREQ=YEARLY;INTERVAL=1;BYDAY=-1SU;BYMONTH=3
END:DAYLIGHT
BEGIN:STANDARD
TZOFFSETFROM:+0200
TZOFFSETTO:+0100
TZNAME:CET
DTSTART;TZID=Europe/Berlin:19701025T030000
RRULE:FREQ=YEARLY;INTERVAL=1;BYDAY=-1SU;BYMONTH=10
END:STANDARD
END:VTIMEZONE
BEGIN:VEVENT
DTSTAMP:20260421T200030
DTSTART;TZID=Europe/Berlin:20260304T183000
DTEND;TZID=Europe/Berlin:20260304T200000
UID:261BH40425-20260304T183000@VHSUNTERLAND
SUMMARY:Deutsch A2.2 (261BH40425) 
LOCATION:bh Zabergäu-Gymnasium, Neubau, N 11, Hirnerweg 15, 74336 Brackenheim
END:VEVENT
BEGIN:VEVENT
DTSTAMP:20260421T200030
DTSTART;TZID=Europe/Berlin:20260311T183000
DTEND;TZID=Europe/Berlin:20260311T200000
UID:261BH40425-20260311T183000@VHSUNTERLAND
SUMMARY:Deutsch A2.2 (261BH40425) 
LOCATION:bh Zabergäu-Gymnasium, Neubau, N 11, Hirnerweg 15, 74336 Brackenheim
END:VEVENT
BEGIN:VEVENT
DTSTAMP:20260421T200030
DTSTART;TZID=Europe/Berlin:20260318T183000
DTEND;TZID=Europe/Berlin:20260318T200000
UID:261BH40425-20260318T183000@VHSUNTERLAND
SUMMARY:Deutsch A2.2 (261BH40425) 
LOCATION:bh Zabergäu-Gymnasium, Neubau, N 11, Hirnerweg 15, 74336 Brackenheim
END:VEVENT
BEGIN:VEVENT
DTSTAMP:20260421T200030
DTSTART;TZID=Europe/Berlin:20260325T183000
DTEND;TZID=Europe/Berlin:20260325T200000
UID:261BH40425-20260325T183000@VHSUNTERLAND
SUMMARY:Deutsch A2.2 (261BH40425) 
LOCATION:bh Zabergäu-Gymnasium, Neubau, N 11, Hirnerweg 15, 74336 Brackenheim
END:VEVENT
BEGIN:VEVENT
DTSTAMP:20260421T200030
DTSTART;TZID=Europe/Berlin:20260415T183000
DTEND;TZID=Europe/Berlin:20260415T200000
UID:261BH40425-20260415T183000@VHSUNTERLAND
SUMMARY:Deutsch A2.2 (261BH40425) 
LOCATION:bh Zabergäu-Gymnasium, Neubau, N 11, Hirnerweg 15, 74336 Brackenheim
END:VEVENT
BEGIN:VEVENT
DTSTAMP:20260421T200030
DTSTART;TZID=Europe/Berlin:20260422T183000
DTEND;TZID=Europe/Berlin:20260422T200000
UID:261BH40425-20260422T183000@VHSUNTERLAND
SUMMARY:Deutsch A2.2 (261BH40425) 
LOCATION:bh Zabergäu-Gymnasium, Neubau, N 11, Hirnerweg 15, 74336 Brackenheim
END:VEVENT
BEGIN:VEVENT
DTSTAMP:20260421T200030
DTSTART;TZID=Europe/Berlin:20260429T183000
DTEND;TZID=Europe/Berlin:20260429T200000
UID:261BH40425-20260429T183000@VHSUNTERLAND
SUMMARY:Deutsch A2.2 (261BH40425) 
LOCATION:bh Zabergäu-Gymnasium, Neubau, N 11, Hirnerweg 15, 74336 Brackenheim
END:VEVENT
BEGIN:VEVENT
DTSTAMP:20260421T200030
DTSTART;TZID=Europe/Berlin:20260506T183000
DTEND;TZID=Europe/Berlin:20260506T200000
UID:261BH40425-20260506T183000@VHSUNTERLAND
SUMMARY:Deutsch A2.2 (261BH40425) 
LOCATION:bh Zabergäu-Gymnasium, Neubau, N 11, Hirnerweg 15, 74336 Brackenheim
END:VEVENT
BEGIN:VEVENT
DTSTAMP:20260421T200030
DTSTART;TZID=Europe/Berlin:20260513T183000
DTEND;TZID=Europe/Berlin:20260513T200000
UID:261BH40425-20260513T183000@VHSUNTERLAND
SUMMARY:Deutsch A2.2 (261BH40425) 
LOCATION:bh Zabergäu-Gymnasium, Neubau, N 11, Hirnerweg 15, 74336 Brackenheim
END:VEVENT
BEGIN:VEVENT
DTSTAMP:20260421T200030
DTSTART;TZID=Europe/Berlin:20260520T183000
DTEND;TZID=Europe/Berlin:20260520T200000
UID:261BH40425-20260520T183000@VHSUNTERLAND
SUMMARY:Deutsch A2.2 (261BH40425) 
LOCATION:bh Zabergäu-Gymnasium, Neubau, N 11, Hirnerweg 15, 74336 Brackenheim
END:VEVENT
END:VCALENDAR