BEGIN:VCALENDAR
VERSION:2.0
PRODID:http://www.kufer.de/kuferweb / DE
METHOD:PUBLISH
CALSCALE:GREGORIAN
X-WR-TIMEZONE:Europe/Berlin
BEGIN:VTIMEZONE
TZID:Europe/Berlin
X-LIC-LOCATION:Europe/Berlin
BEGIN:DAYLIGHT
TZOFFSETFROM:+0100
TZOFFSETTO:+0200
TZNAME:CEST
DTSTART;TZID=Europe/Berlin:19700329T020000
RRULE:FREQ=YEARLY;INTERVAL=1;BYDAY=-1SU;BYMONTH=3
END:DAYLIGHT
BEGIN:STANDARD
TZOFFSETFROM:+0200
TZOFFSETTO:+0100
TZNAME:CET
DTSTART;TZID=Europe/Berlin:19701025T030000
RRULE:FREQ=YEARLY;INTERVAL=1;BYDAY=-1SU;BYMONTH=10
END:STANDARD
END:VTIMEZONE
BEGIN:VEVENT
DTSTAMP:20260420T113522
DTSTART;TZID=Europe/Berlin:20260228T160000
DTEND;TZID=Europe/Berlin:20260228T164500
UID:261BH30276-20260228T160000@VHSUNTERLAND
SUMMARY:Ausdauertraining für Anfänger*innen (261BH30276) 
LOCATION:bh Waldkindergarten, Parkplatz, , 74336 Brackenheim
END:VEVENT
BEGIN:VEVENT
DTSTAMP:20260420T113522
DTSTART;TZID=Europe/Berlin:20260307T160000
DTEND;TZID=Europe/Berlin:20260307T164500
UID:261BH30276-20260307T160000@VHSUNTERLAND
SUMMARY:Ausdauertraining für Anfänger*innen (261BH30276) 
LOCATION:bh Waldkindergarten, Parkplatz, , 74336 Brackenheim
END:VEVENT
BEGIN:VEVENT
DTSTAMP:20260420T113522
DTSTART;TZID=Europe/Berlin:20260314T160000
DTEND;TZID=Europe/Berlin:20260314T164500
UID:261BH30276-20260314T160000@VHSUNTERLAND
SUMMARY:Ausdauertraining für Anfänger*innen (261BH30276) 
LOCATION:bh Waldkindergarten, Parkplatz, , 74336 Brackenheim
END:VEVENT
BEGIN:VEVENT
DTSTAMP:20260420T113522
DTSTART;TZID=Europe/Berlin:20260328T160000
DTEND;TZID=Europe/Berlin:20260328T164500
UID:261BH30276-20260328T160000@VHSUNTERLAND
SUMMARY:Ausdauertraining für Anfänger*innen (261BH30276) 
LOCATION:bh Waldkindergarten, Parkplatz, , 74336 Brackenheim
END:VEVENT
BEGIN:VEVENT
DTSTAMP:20260420T113522
DTSTART;TZID=Europe/Berlin:20260418T160000
DTEND;TZID=Europe/Berlin:20260418T164500
UID:261BH30276-20260418T160000@VHSUNTERLAND
SUMMARY:Ausdauertraining für Anfänger*innen (261BH30276) 
LOCATION:bh Waldkindergarten, Parkplatz, , 74336 Brackenheim
END:VEVENT
BEGIN:VEVENT
DTSTAMP:20260420T113522
DTSTART;TZID=Europe/Berlin:20260502T160000
DTEND;TZID=Europe/Berlin:20260502T164500
UID:261BH30276-20260502T160000@VHSUNTERLAND
SUMMARY:Ausdauertraining für Anfänger*innen (261BH30276) 
LOCATION:bh Waldkindergarten, Parkplatz, , 74336 Brackenheim
END:VEVENT
BEGIN:VEVENT
DTSTAMP:20260420T113522
DTSTART;TZID=Europe/Berlin:20260518T160000
DTEND;TZID=Europe/Berlin:20260518T164500
UID:261BH30276-20260518T160000@VHSUNTERLAND
SUMMARY:Ausdauertraining für Anfänger*innen (261BH30276) 
LOCATION:bh Waldkindergarten, Parkplatz, , 74336 Brackenheim
END:VEVENT
END:VCALENDAR