BEGIN:VCALENDAR
VERSION:2.0
PRODID:http://www.kufer.de/kuferweb / DE
METHOD:PUBLISH
CALSCALE:GREGORIAN
X-WR-TIMEZONE:Europe/Berlin
BEGIN:VTIMEZONE
TZID:Europe/Berlin
X-LIC-LOCATION:Europe/Berlin
BEGIN:DAYLIGHT
TZOFFSETFROM:+0100
TZOFFSETTO:+0200
TZNAME:CEST
DTSTART;TZID=Europe/Berlin:19700329T020000
RRULE:FREQ=YEARLY;INTERVAL=1;BYDAY=-1SU;BYMONTH=3
END:DAYLIGHT
BEGIN:STANDARD
TZOFFSETFROM:+0200
TZOFFSETTO:+0100
TZNAME:CET
DTSTART;TZID=Europe/Berlin:19701025T030000
RRULE:FREQ=YEARLY;INTERVAL=1;BYDAY=-1SU;BYMONTH=10
END:STANDARD
END:VTIMEZONE
BEGIN:VEVENT
DTSTAMP:20260423T020135
DTSTART;TZID=Europe/Berlin:20260223T183000
DTEND;TZID=Europe/Berlin:20260223T193000
UID:261BH30265-20260223T183000@VHSUNTERLAND
SUMMARY:Fit & Fun ein intensives Fitnessprogramm (261BH30265) 
LOCATION:bh Gemeindehalle Botenheim, Gymnastikraum, Heidestraße 13, 74336 Brackenheim
END:VEVENT
BEGIN:VEVENT
DTSTAMP:20260423T020135
DTSTART;TZID=Europe/Berlin:20260302T183000
DTEND;TZID=Europe/Berlin:20260302T193000
UID:261BH30265-20260302T183000@VHSUNTERLAND
SUMMARY:Fit & Fun ein intensives Fitnessprogramm (261BH30265) 
LOCATION:bh Gemeindehalle Botenheim, Gymnastikraum, Heidestraße 13, 74336 Brackenheim
END:VEVENT
BEGIN:VEVENT
DTSTAMP:20260423T020135
DTSTART;TZID=Europe/Berlin:20260309T183000
DTEND;TZID=Europe/Berlin:20260309T193000
UID:261BH30265-20260309T183000@VHSUNTERLAND
SUMMARY:Fit & Fun ein intensives Fitnessprogramm (261BH30265) 
LOCATION:bh Gemeindehalle Botenheim, Gymnastikraum, Heidestraße 13, 74336 Brackenheim
END:VEVENT
BEGIN:VEVENT
DTSTAMP:20260423T020135
DTSTART;TZID=Europe/Berlin:20260316T183000
DTEND;TZID=Europe/Berlin:20260316T193000
UID:261BH30265-20260316T183000@VHSUNTERLAND
SUMMARY:Fit & Fun ein intensives Fitnessprogramm (261BH30265) 
LOCATION:bh Gemeindehalle Botenheim, Gymnastikraum, Heidestraße 13, 74336 Brackenheim
END:VEVENT
BEGIN:VEVENT
DTSTAMP:20260423T020135
DTSTART;TZID=Europe/Berlin:20260323T183000
DTEND;TZID=Europe/Berlin:20260323T193000
UID:261BH30265-20260323T183000@VHSUNTERLAND
SUMMARY:Fit & Fun ein intensives Fitnessprogramm (261BH30265) 
LOCATION:bh Gemeindehalle Botenheim, Gymnastikraum, Heidestraße 13, 74336 Brackenheim
END:VEVENT
BEGIN:VEVENT
DTSTAMP:20260423T020135
DTSTART;TZID=Europe/Berlin:20260413T183000
DTEND;TZID=Europe/Berlin:20260413T193000
UID:261BH30265-20260413T183000@VHSUNTERLAND
SUMMARY:Fit & Fun ein intensives Fitnessprogramm (261BH30265) 
LOCATION:bh Gemeindehalle Botenheim, Gymnastikraum, Heidestraße 13, 74336 Brackenheim
END:VEVENT
BEGIN:VEVENT
DTSTAMP:20260423T020135
DTSTART;TZID=Europe/Berlin:20260420T183000
DTEND;TZID=Europe/Berlin:20260420T193000
UID:261BH30265-20260420T183000@VHSUNTERLAND
SUMMARY:Fit & Fun ein intensives Fitnessprogramm (261BH30265) 
LOCATION:bh Gemeindehalle Botenheim, Gymnastikraum, Heidestraße 13, 74336 Brackenheim
END:VEVENT
BEGIN:VEVENT
DTSTAMP:20260423T020135
DTSTART;TZID=Europe/Berlin:20260427T183000
DTEND;TZID=Europe/Berlin:20260427T193000
UID:261BH30265-20260427T183000@VHSUNTERLAND
SUMMARY:Fit & Fun ein intensives Fitnessprogramm (261BH30265) 
LOCATION:bh Gemeindehalle Botenheim, Gymnastikraum, Heidestraße 13, 74336 Brackenheim
END:VEVENT
BEGIN:VEVENT
DTSTAMP:20260423T020135
DTSTART;TZID=Europe/Berlin:20260504T183000
DTEND;TZID=Europe/Berlin:20260504T193000
UID:261BH30265-20260504T183000@VHSUNTERLAND
SUMMARY:Fit & Fun ein intensives Fitnessprogramm (261BH30265) 
LOCATION:bh Gemeindehalle Botenheim, Gymnastikraum, Heidestraße 13, 74336 Brackenheim
END:VEVENT
BEGIN:VEVENT
DTSTAMP:20260423T020135
DTSTART;TZID=Europe/Berlin:20260511T183000
DTEND;TZID=Europe/Berlin:20260511T193000
UID:261BH30265-20260511T183000@VHSUNTERLAND
SUMMARY:Fit & Fun ein intensives Fitnessprogramm (261BH30265) 
LOCATION:bh Gemeindehalle Botenheim, Gymnastikraum, Heidestraße 13, 74336 Brackenheim
END:VEVENT
BEGIN:VEVENT
DTSTAMP:20260423T020135
DTSTART;TZID=Europe/Berlin:20260518T183000
DTEND;TZID=Europe/Berlin:20260518T193000
UID:261BH30265-20260518T183000@VHSUNTERLAND
SUMMARY:Fit & Fun ein intensives Fitnessprogramm (261BH30265) 
LOCATION:bh Gemeindehalle Botenheim, Gymnastikraum, Heidestraße 13, 74336 Brackenheim
END:VEVENT
BEGIN:VEVENT
DTSTAMP:20260423T020135
DTSTART;TZID=Europe/Berlin:20260608T183000
DTEND;TZID=Europe/Berlin:20260608T193000
UID:261BH30265-20260608T183000@VHSUNTERLAND
SUMMARY:Fit & Fun ein intensives Fitnessprogramm (261BH30265) 
LOCATION:bh Gemeindehalle Botenheim, Gymnastikraum, Heidestraße 13, 74336 Brackenheim
END:VEVENT
BEGIN:VEVENT
DTSTAMP:20260423T020135
DTSTART;TZID=Europe/Berlin:20260615T183000
DTEND;TZID=Europe/Berlin:20260615T193000
UID:261BH30265-20260615T183000@VHSUNTERLAND
SUMMARY:Fit & Fun ein intensives Fitnessprogramm (261BH30265) 
LOCATION:bh Gemeindehalle Botenheim, Gymnastikraum, Heidestraße 13, 74336 Brackenheim
END:VEVENT
BEGIN:VEVENT
DTSTAMP:20260423T020135
DTSTART;TZID=Europe/Berlin:20260622T183000
DTEND;TZID=Europe/Berlin:20260622T193000
UID:261BH30265-20260622T183000@VHSUNTERLAND
SUMMARY:Fit & Fun ein intensives Fitnessprogramm (261BH30265) 
LOCATION:bh Gemeindehalle Botenheim, Gymnastikraum, Heidestraße 13, 74336 Brackenheim
END:VEVENT
BEGIN:VEVENT
DTSTAMP:20260423T020135
DTSTART;TZID=Europe/Berlin:20260629T183000
DTEND;TZID=Europe/Berlin:20260629T193000
UID:261BH30265-20260629T183000@VHSUNTERLAND
SUMMARY:Fit & Fun ein intensives Fitnessprogramm (261BH30265) 
LOCATION:bh Gemeindehalle Botenheim, Gymnastikraum, Heidestraße 13, 74336 Brackenheim
END:VEVENT
END:VCALENDAR