BEGIN:VCALENDAR
VERSION:2.0
PRODID:http://www.kufer.de/kuferweb / DE
METHOD:PUBLISH
CALSCALE:GREGORIAN
X-WR-TIMEZONE:Europe/Berlin
BEGIN:VTIMEZONE
TZID:Europe/Berlin
X-LIC-LOCATION:Europe/Berlin
BEGIN:DAYLIGHT
TZOFFSETFROM:+0100
TZOFFSETTO:+0200
TZNAME:CEST
DTSTART;TZID=Europe/Berlin:19700329T020000
RRULE:FREQ=YEARLY;INTERVAL=1;BYDAY=-1SU;BYMONTH=3
END:DAYLIGHT
BEGIN:STANDARD
TZOFFSETFROM:+0200
TZOFFSETTO:+0100
TZNAME:CET
DTSTART;TZID=Europe/Berlin:19701025T030000
RRULE:FREQ=YEARLY;INTERVAL=1;BYDAY=-1SU;BYMONTH=10
END:STANDARD
END:VTIMEZONE
BEGIN:VEVENT
DTSTAMP:20260420T185537
DTSTART;TZID=Europe/Berlin:20260223T171000
DTEND;TZID=Europe/Berlin:20260223T181000
UID:261BH30221-20260223T171000@VHSUNTERLAND
SUMMARY:Rückengesundheit - vorbeugen und lindern (261BH30221) 
LOCATION:bh Gemeindehalle Botenheim, Gymnastikraum, Heidestraße 13, 74336 Brackenheim
END:VEVENT
BEGIN:VEVENT
DTSTAMP:20260420T185537
DTSTART;TZID=Europe/Berlin:20260302T171000
DTEND;TZID=Europe/Berlin:20260302T181000
UID:261BH30221-20260302T171000@VHSUNTERLAND
SUMMARY:Rückengesundheit - vorbeugen und lindern (261BH30221) 
LOCATION:bh Gemeindehalle Botenheim, Gymnastikraum, Heidestraße 13, 74336 Brackenheim
END:VEVENT
BEGIN:VEVENT
DTSTAMP:20260420T185537
DTSTART;TZID=Europe/Berlin:20260309T171000
DTEND;TZID=Europe/Berlin:20260309T181000
UID:261BH30221-20260309T171000@VHSUNTERLAND
SUMMARY:Rückengesundheit - vorbeugen und lindern (261BH30221) 
LOCATION:bh Gemeindehalle Botenheim, Gymnastikraum, Heidestraße 13, 74336 Brackenheim
END:VEVENT
BEGIN:VEVENT
DTSTAMP:20260420T185537
DTSTART;TZID=Europe/Berlin:20260316T171000
DTEND;TZID=Europe/Berlin:20260316T181000
UID:261BH30221-20260316T171000@VHSUNTERLAND
SUMMARY:Rückengesundheit - vorbeugen und lindern (261BH30221) 
LOCATION:bh Gemeindehalle Botenheim, Gymnastikraum, Heidestraße 13, 74336 Brackenheim
END:VEVENT
BEGIN:VEVENT
DTSTAMP:20260420T185537
DTSTART;TZID=Europe/Berlin:20260323T171000
DTEND;TZID=Europe/Berlin:20260323T181000
UID:261BH30221-20260323T171000@VHSUNTERLAND
SUMMARY:Rückengesundheit - vorbeugen und lindern (261BH30221) 
LOCATION:bh Gemeindehalle Botenheim, Gymnastikraum, Heidestraße 13, 74336 Brackenheim
END:VEVENT
BEGIN:VEVENT
DTSTAMP:20260420T185537
DTSTART;TZID=Europe/Berlin:20260413T171000
DTEND;TZID=Europe/Berlin:20260413T181000
UID:261BH30221-20260413T171000@VHSUNTERLAND
SUMMARY:Rückengesundheit - vorbeugen und lindern (261BH30221) 
LOCATION:bh Gemeindehalle Botenheim, Gymnastikraum, Heidestraße 13, 74336 Brackenheim
END:VEVENT
BEGIN:VEVENT
DTSTAMP:20260420T185537
DTSTART;TZID=Europe/Berlin:20260420T171000
DTEND;TZID=Europe/Berlin:20260420T181000
UID:261BH30221-20260420T171000@VHSUNTERLAND
SUMMARY:Rückengesundheit - vorbeugen und lindern (261BH30221) 
LOCATION:bh Gemeindehalle Botenheim, Gymnastikraum, Heidestraße 13, 74336 Brackenheim
END:VEVENT
BEGIN:VEVENT
DTSTAMP:20260420T185537
DTSTART;TZID=Europe/Berlin:20260427T171000
DTEND;TZID=Europe/Berlin:20260427T181000
UID:261BH30221-20260427T171000@VHSUNTERLAND
SUMMARY:Rückengesundheit - vorbeugen und lindern (261BH30221) 
LOCATION:bh Gemeindehalle Botenheim, Gymnastikraum, Heidestraße 13, 74336 Brackenheim
END:VEVENT
BEGIN:VEVENT
DTSTAMP:20260420T185537
DTSTART;TZID=Europe/Berlin:20260504T171000
DTEND;TZID=Europe/Berlin:20260504T181000
UID:261BH30221-20260504T171000@VHSUNTERLAND
SUMMARY:Rückengesundheit - vorbeugen und lindern (261BH30221) 
LOCATION:bh Gemeindehalle Botenheim, Gymnastikraum, Heidestraße 13, 74336 Brackenheim
END:VEVENT
BEGIN:VEVENT
DTSTAMP:20260420T185537
DTSTART;TZID=Europe/Berlin:20260511T171000
DTEND;TZID=Europe/Berlin:20260511T181000
UID:261BH30221-20260511T171000@VHSUNTERLAND
SUMMARY:Rückengesundheit - vorbeugen und lindern (261BH30221) 
LOCATION:bh Gemeindehalle Botenheim, Gymnastikraum, Heidestraße 13, 74336 Brackenheim
END:VEVENT
BEGIN:VEVENT
DTSTAMP:20260420T185537
DTSTART;TZID=Europe/Berlin:20260518T171000
DTEND;TZID=Europe/Berlin:20260518T181000
UID:261BH30221-20260518T171000@VHSUNTERLAND
SUMMARY:Rückengesundheit - vorbeugen und lindern (261BH30221) 
LOCATION:bh Gemeindehalle Botenheim, Gymnastikraum, Heidestraße 13, 74336 Brackenheim
END:VEVENT
BEGIN:VEVENT
DTSTAMP:20260420T185537
DTSTART;TZID=Europe/Berlin:20260608T171000
DTEND;TZID=Europe/Berlin:20260608T181000
UID:261BH30221-20260608T171000@VHSUNTERLAND
SUMMARY:Rückengesundheit - vorbeugen und lindern (261BH30221) 
LOCATION:bh Gemeindehalle Botenheim, Gymnastikraum, Heidestraße 13, 74336 Brackenheim
END:VEVENT
BEGIN:VEVENT
DTSTAMP:20260420T185537
DTSTART;TZID=Europe/Berlin:20260615T171000
DTEND;TZID=Europe/Berlin:20260615T181000
UID:261BH30221-20260615T171000@VHSUNTERLAND
SUMMARY:Rückengesundheit - vorbeugen und lindern (261BH30221) 
LOCATION:bh Gemeindehalle Botenheim, Gymnastikraum, Heidestraße 13, 74336 Brackenheim
END:VEVENT
BEGIN:VEVENT
DTSTAMP:20260420T185537
DTSTART;TZID=Europe/Berlin:20260622T171000
DTEND;TZID=Europe/Berlin:20260622T181000
UID:261BH30221-20260622T171000@VHSUNTERLAND
SUMMARY:Rückengesundheit - vorbeugen und lindern (261BH30221) 
LOCATION:bh Gemeindehalle Botenheim, Gymnastikraum, Heidestraße 13, 74336 Brackenheim
END:VEVENT
BEGIN:VEVENT
DTSTAMP:20260420T185537
DTSTART;TZID=Europe/Berlin:20260629T171000
DTEND;TZID=Europe/Berlin:20260629T181000
UID:261BH30221-20260629T171000@VHSUNTERLAND
SUMMARY:Rückengesundheit - vorbeugen und lindern (261BH30221) 
LOCATION:bh Gemeindehalle Botenheim, Gymnastikraum, Heidestraße 13, 74336 Brackenheim
END:VEVENT
END:VCALENDAR