BEGIN:VCALENDAR
VERSION:2.0
PRODID:http://www.kufer.de/kuferweb / DE
METHOD:PUBLISH
CALSCALE:GREGORIAN
X-WR-TIMEZONE:Europe/Berlin
BEGIN:VTIMEZONE
TZID:Europe/Berlin
X-LIC-LOCATION:Europe/Berlin
BEGIN:DAYLIGHT
TZOFFSETFROM:+0100
TZOFFSETTO:+0200
TZNAME:CEST
DTSTART;TZID=Europe/Berlin:19700329T020000
RRULE:FREQ=YEARLY;INTERVAL=1;BYDAY=-1SU;BYMONTH=3
END:DAYLIGHT
BEGIN:STANDARD
TZOFFSETFROM:+0200
TZOFFSETTO:+0100
TZNAME:CET
DTSTART;TZID=Europe/Berlin:19701025T030000
RRULE:FREQ=YEARLY;INTERVAL=1;BYDAY=-1SU;BYMONTH=10
END:STANDARD
END:VTIMEZONE
BEGIN:VEVENT
DTSTAMP:20260420T195754
DTSTART;TZID=Europe/Berlin:20260224T093000
DTEND;TZID=Europe/Berlin:20260224T103000
UID:261BH30210-20260224T093000@VHSUNTERLAND
DESCRIPTION:Ersatz für Ausfall am 07.07.2026
SUMMARY:Gymnastik 70+ Auf dem Stuhl (261BH30210) 
LOCATION:bh Bürgerzentrum, Otto-Wendel-Saal, Austraße 21, 74336 Brackenheim
END:VEVENT
BEGIN:VEVENT
DTSTAMP:20260420T195754
DTSTART;TZID=Europe/Berlin:20260303T093000
DTEND;TZID=Europe/Berlin:20260303T103000
UID:261BH30210-20260303T093000@VHSUNTERLAND
SUMMARY:Gymnastik 70+ Auf dem Stuhl (261BH30210) 
LOCATION:bh Bürgerzentrum, Otto-Wendel-Saal, Austraße 21, 74336 Brackenheim
END:VEVENT
BEGIN:VEVENT
DTSTAMP:20260420T195754
DTSTART;TZID=Europe/Berlin:20260310T093000
DTEND;TZID=Europe/Berlin:20260310T103000
UID:261BH30210-20260310T093000@VHSUNTERLAND
SUMMARY:Gymnastik 70+ Auf dem Stuhl (261BH30210) 
LOCATION:bh Bürgerzentrum, Otto-Wendel-Saal, Austraße 21, 74336 Brackenheim
END:VEVENT
BEGIN:VEVENT
DTSTAMP:20260420T195754
DTSTART;TZID=Europe/Berlin:20260317T093000
DTEND;TZID=Europe/Berlin:20260317T103000
UID:261BH30210-20260317T093000@VHSUNTERLAND
SUMMARY:Gymnastik 70+ Auf dem Stuhl (261BH30210) 
LOCATION:bh Bürgerzentrum, Otto-Wendel-Saal, Austraße 21, 74336 Brackenheim
END:VEVENT
BEGIN:VEVENT
DTSTAMP:20260420T195754
DTSTART;TZID=Europe/Berlin:20260324T093000
DTEND;TZID=Europe/Berlin:20260324T103000
UID:261BH30210-20260324T093000@VHSUNTERLAND
SUMMARY:Gymnastik 70+ Auf dem Stuhl (261BH30210) 
LOCATION:bh Bürgerzentrum, Otto-Wendel-Saal, Austraße 21, 74336 Brackenheim
END:VEVENT
BEGIN:VEVENT
DTSTAMP:20260420T195754
DTSTART;TZID=Europe/Berlin:20260414T093000
DTEND;TZID=Europe/Berlin:20260414T103000
UID:261BH30210-20260414T093000@VHSUNTERLAND
SUMMARY:Gymnastik 70+ Auf dem Stuhl (261BH30210) 
LOCATION:bh Bürgerzentrum, Otto-Wendel-Saal, Austraße 21, 74336 Brackenheim
END:VEVENT
BEGIN:VEVENT
DTSTAMP:20260420T195754
DTSTART;TZID=Europe/Berlin:20260421T093000
DTEND;TZID=Europe/Berlin:20260421T103000
UID:261BH30210-20260421T093000@VHSUNTERLAND
SUMMARY:Gymnastik 70+ Auf dem Stuhl (261BH30210) 
LOCATION:bh Bürgerzentrum, Otto-Wendel-Saal, Austraße 21, 74336 Brackenheim
END:VEVENT
BEGIN:VEVENT
DTSTAMP:20260420T195754
DTSTART;TZID=Europe/Berlin:20260428T093000
DTEND;TZID=Europe/Berlin:20260428T103000
UID:261BH30210-20260428T093000@VHSUNTERLAND
SUMMARY:Gymnastik 70+ Auf dem Stuhl (261BH30210) 
LOCATION:bh Bürgerzentrum, Otto-Wendel-Saal, Austraße 21, 74336 Brackenheim
END:VEVENT
BEGIN:VEVENT
DTSTAMP:20260420T195754
DTSTART;TZID=Europe/Berlin:20260505T093000
DTEND;TZID=Europe/Berlin:20260505T103000
UID:261BH30210-20260505T093000@VHSUNTERLAND
SUMMARY:Gymnastik 70+ Auf dem Stuhl (261BH30210) 
LOCATION:bh Bürgerzentrum, Otto-Wendel-Saal, Austraße 21, 74336 Brackenheim
END:VEVENT
BEGIN:VEVENT
DTSTAMP:20260420T195754
DTSTART;TZID=Europe/Berlin:20260512T093000
DTEND;TZID=Europe/Berlin:20260512T103000
UID:261BH30210-20260512T093000@VHSUNTERLAND
SUMMARY:Gymnastik 70+ Auf dem Stuhl (261BH30210) 
LOCATION:bh Bürgerzentrum, Otto-Wendel-Saal, Austraße 21, 74336 Brackenheim
END:VEVENT
BEGIN:VEVENT
DTSTAMP:20260420T195754
DTSTART;TZID=Europe/Berlin:20260519T093000
DTEND;TZID=Europe/Berlin:20260519T103000
UID:261BH30210-20260519T093000@VHSUNTERLAND
SUMMARY:Gymnastik 70+ Auf dem Stuhl (261BH30210) 
LOCATION:bh Bürgerzentrum, Otto-Wendel-Saal, Austraße 21, 74336 Brackenheim
END:VEVENT
BEGIN:VEVENT
DTSTAMP:20260420T195754
DTSTART;TZID=Europe/Berlin:20260609T093000
DTEND;TZID=Europe/Berlin:20260609T103000
UID:261BH30210-20260609T093000@VHSUNTERLAND
SUMMARY:Gymnastik 70+ Auf dem Stuhl (261BH30210) 
LOCATION:bh Bürgerzentrum, Otto-Wendel-Saal, Austraße 21, 74336 Brackenheim
END:VEVENT
BEGIN:VEVENT
DTSTAMP:20260420T195754
DTSTART;TZID=Europe/Berlin:20260616T093000
DTEND;TZID=Europe/Berlin:20260616T103000
UID:261BH30210-20260616T093000@VHSUNTERLAND
SUMMARY:Gymnastik 70+ Auf dem Stuhl (261BH30210) 
LOCATION:bh Bürgerzentrum, Otto-Wendel-Saal, Austraße 21, 74336 Brackenheim
END:VEVENT
BEGIN:VEVENT
DTSTAMP:20260420T195754
DTSTART;TZID=Europe/Berlin:20260623T093000
DTEND;TZID=Europe/Berlin:20260623T103000
UID:261BH30210-20260623T093000@VHSUNTERLAND
SUMMARY:Gymnastik 70+ Auf dem Stuhl (261BH30210) 
LOCATION:bh Bürgerzentrum, Otto-Wendel-Saal, Austraße 21, 74336 Brackenheim
END:VEVENT
BEGIN:VEVENT
DTSTAMP:20260420T195754
DTSTART;TZID=Europe/Berlin:20260630T093000
DTEND;TZID=Europe/Berlin:20260630T103000
UID:261BH30210-20260630T093000@VHSUNTERLAND
SUMMARY:Gymnastik 70+ Auf dem Stuhl (261BH30210) 
LOCATION:bh Bürgerzentrum, Otto-Wendel-Saal, Austraße 21, 74336 Brackenheim
END:VEVENT
END:VCALENDAR