BEGIN:VCALENDAR
VERSION:2.0
PRODID:http://www.kufer.de/kuferweb / DE
METHOD:PUBLISH
CALSCALE:GREGORIAN
X-WR-TIMEZONE:Europe/Berlin
BEGIN:VTIMEZONE
TZID:Europe/Berlin
X-LIC-LOCATION:Europe/Berlin
BEGIN:DAYLIGHT
TZOFFSETFROM:+0100
TZOFFSETTO:+0200
TZNAME:CEST
DTSTART;TZID=Europe/Berlin:19700329T020000
RRULE:FREQ=YEARLY;INTERVAL=1;BYDAY=-1SU;BYMONTH=3
END:DAYLIGHT
BEGIN:STANDARD
TZOFFSETFROM:+0200
TZOFFSETTO:+0100
TZNAME:CET
DTSTART;TZID=Europe/Berlin:19701025T030000
RRULE:FREQ=YEARLY;INTERVAL=1;BYDAY=-1SU;BYMONTH=10
END:STANDARD
END:VTIMEZONE
BEGIN:VEVENT
DTSTAMP:20260423T111720
DTSTART;TZID=Europe/Berlin:20260223T183000
DTEND;TZID=Europe/Berlin:20260223T194500
UID:261BH30161-20260223T183000@VHSUNTERLAND
SUMMARY:Die Feldenkrais-Methode Beweglicher werden (261BH30161) 
LOCATION:bh Treffpunkt Bildung und Familie, Dachgeschoss, Bürgerturmstraße 6, 74336 Brackenheim
END:VEVENT
BEGIN:VEVENT
DTSTAMP:20260423T111720
DTSTART;TZID=Europe/Berlin:20260302T183000
DTEND;TZID=Europe/Berlin:20260302T194500
UID:261BH30161-20260302T183000@VHSUNTERLAND
SUMMARY:Die Feldenkrais-Methode Beweglicher werden (261BH30161) 
LOCATION:bh Treffpunkt Bildung und Familie, Dachgeschoss, Bürgerturmstraße 6, 74336 Brackenheim
END:VEVENT
BEGIN:VEVENT
DTSTAMP:20260423T111720
DTSTART;TZID=Europe/Berlin:20260309T183000
DTEND;TZID=Europe/Berlin:20260309T194500
UID:261BH30161-20260309T183000@VHSUNTERLAND
SUMMARY:Die Feldenkrais-Methode Beweglicher werden (261BH30161) 
LOCATION:bh Treffpunkt Bildung und Familie, Dachgeschoss, Bürgerturmstraße 6, 74336 Brackenheim
END:VEVENT
BEGIN:VEVENT
DTSTAMP:20260423T111720
DTSTART;TZID=Europe/Berlin:20260316T183000
DTEND;TZID=Europe/Berlin:20260316T194500
UID:261BH30161-20260316T183000@VHSUNTERLAND
SUMMARY:Die Feldenkrais-Methode Beweglicher werden (261BH30161) 
LOCATION:bh Treffpunkt Bildung und Familie, Dachgeschoss, Bürgerturmstraße 6, 74336 Brackenheim
END:VEVENT
BEGIN:VEVENT
DTSTAMP:20260423T111720
DTSTART;TZID=Europe/Berlin:20260323T183000
DTEND;TZID=Europe/Berlin:20260323T194500
UID:261BH30161-20260323T183000@VHSUNTERLAND
SUMMARY:Die Feldenkrais-Methode Beweglicher werden (261BH30161) 
LOCATION:bh Treffpunkt Bildung und Familie, Dachgeschoss, Bürgerturmstraße 6, 74336 Brackenheim
END:VEVENT
BEGIN:VEVENT
DTSTAMP:20260423T111720
DTSTART;TZID=Europe/Berlin:20260413T183000
DTEND;TZID=Europe/Berlin:20260413T194500
UID:261BH30161-20260413T183000@VHSUNTERLAND
SUMMARY:Die Feldenkrais-Methode Beweglicher werden (261BH30161) 
LOCATION:bh Treffpunkt Bildung und Familie, Dachgeschoss, Bürgerturmstraße 6, 74336 Brackenheim
END:VEVENT
BEGIN:VEVENT
DTSTAMP:20260423T111720
DTSTART;TZID=Europe/Berlin:20260420T183000
DTEND;TZID=Europe/Berlin:20260420T194500
UID:261BH30161-20260420T183000@VHSUNTERLAND
SUMMARY:Die Feldenkrais-Methode Beweglicher werden (261BH30161) 
LOCATION:bh Treffpunkt Bildung und Familie, Dachgeschoss, Bürgerturmstraße 6, 74336 Brackenheim
END:VEVENT
BEGIN:VEVENT
DTSTAMP:20260423T111720
DTSTART;TZID=Europe/Berlin:20260427T183000
DTEND;TZID=Europe/Berlin:20260427T194500
UID:261BH30161-20260427T183000@VHSUNTERLAND
SUMMARY:Die Feldenkrais-Methode Beweglicher werden (261BH30161) 
LOCATION:bh Treffpunkt Bildung und Familie, Dachgeschoss, Bürgerturmstraße 6, 74336 Brackenheim
END:VEVENT
BEGIN:VEVENT
DTSTAMP:20260423T111720
DTSTART;TZID=Europe/Berlin:20260504T183000
DTEND;TZID=Europe/Berlin:20260504T194500
UID:261BH30161-20260504T183000@VHSUNTERLAND
SUMMARY:Die Feldenkrais-Methode Beweglicher werden (261BH30161) 
LOCATION:bh Treffpunkt Bildung und Familie, Dachgeschoss, Bürgerturmstraße 6, 74336 Brackenheim
END:VEVENT
END:VCALENDAR