BEGIN:VCALENDAR
VERSION:2.0
PRODID:http://www.kufer.de/kuferweb / DE
METHOD:PUBLISH
CALSCALE:GREGORIAN
X-WR-TIMEZONE:Europe/Berlin
BEGIN:VTIMEZONE
TZID:Europe/Berlin
X-LIC-LOCATION:Europe/Berlin
BEGIN:DAYLIGHT
TZOFFSETFROM:+0100
TZOFFSETTO:+0200
TZNAME:CEST
DTSTART;TZID=Europe/Berlin:19700329T020000
RRULE:FREQ=YEARLY;INTERVAL=1;BYDAY=-1SU;BYMONTH=3
END:DAYLIGHT
BEGIN:STANDARD
TZOFFSETFROM:+0200
TZOFFSETTO:+0100
TZNAME:CET
DTSTART;TZID=Europe/Berlin:19701025T030000
RRULE:FREQ=YEARLY;INTERVAL=1;BYDAY=-1SU;BYMONTH=10
END:STANDARD
END:VTIMEZONE
BEGIN:VEVENT
DTSTAMP:20260422T200950
DTSTART;TZID=Europe/Berlin:20260223T170000
DTEND;TZID=Europe/Berlin:20260223T181500
UID:261BH30160-20260223T170000@VHSUNTERLAND
SUMMARY:Die Feldenkrais-Methode Beweglicher werden (261BH30160) 
LOCATION:bh Treffpunkt Bildung und Familie, Dachgeschoss, Bürgerturmstraße 6, 74336 Brackenheim
END:VEVENT
BEGIN:VEVENT
DTSTAMP:20260422T200950
DTSTART;TZID=Europe/Berlin:20260302T170000
DTEND;TZID=Europe/Berlin:20260302T181500
UID:261BH30160-20260302T170000@VHSUNTERLAND
SUMMARY:Die Feldenkrais-Methode Beweglicher werden (261BH30160) 
LOCATION:bh Treffpunkt Bildung und Familie, Dachgeschoss, Bürgerturmstraße 6, 74336 Brackenheim
END:VEVENT
BEGIN:VEVENT
DTSTAMP:20260422T200950
DTSTART;TZID=Europe/Berlin:20260309T170000
DTEND;TZID=Europe/Berlin:20260309T181500
UID:261BH30160-20260309T170000@VHSUNTERLAND
SUMMARY:Die Feldenkrais-Methode Beweglicher werden (261BH30160) 
LOCATION:bh Treffpunkt Bildung und Familie, Dachgeschoss, Bürgerturmstraße 6, 74336 Brackenheim
END:VEVENT
BEGIN:VEVENT
DTSTAMP:20260422T200950
DTSTART;TZID=Europe/Berlin:20260316T170000
DTEND;TZID=Europe/Berlin:20260316T181500
UID:261BH30160-20260316T170000@VHSUNTERLAND
SUMMARY:Die Feldenkrais-Methode Beweglicher werden (261BH30160) 
LOCATION:bh Treffpunkt Bildung und Familie, Dachgeschoss, Bürgerturmstraße 6, 74336 Brackenheim
END:VEVENT
BEGIN:VEVENT
DTSTAMP:20260422T200950
DTSTART;TZID=Europe/Berlin:20260323T170000
DTEND;TZID=Europe/Berlin:20260323T181500
UID:261BH30160-20260323T170000@VHSUNTERLAND
SUMMARY:Die Feldenkrais-Methode Beweglicher werden (261BH30160) 
LOCATION:bh Treffpunkt Bildung und Familie, Dachgeschoss, Bürgerturmstraße 6, 74336 Brackenheim
END:VEVENT
BEGIN:VEVENT
DTSTAMP:20260422T200950
DTSTART;TZID=Europe/Berlin:20260413T170000
DTEND;TZID=Europe/Berlin:20260413T181500
UID:261BH30160-20260413T170000@VHSUNTERLAND
SUMMARY:Die Feldenkrais-Methode Beweglicher werden (261BH30160) 
LOCATION:bh Treffpunkt Bildung und Familie, Dachgeschoss, Bürgerturmstraße 6, 74336 Brackenheim
END:VEVENT
BEGIN:VEVENT
DTSTAMP:20260422T200950
DTSTART;TZID=Europe/Berlin:20260420T170000
DTEND;TZID=Europe/Berlin:20260420T181500
UID:261BH30160-20260420T170000@VHSUNTERLAND
SUMMARY:Die Feldenkrais-Methode Beweglicher werden (261BH30160) 
LOCATION:bh Treffpunkt Bildung und Familie, Dachgeschoss, Bürgerturmstraße 6, 74336 Brackenheim
END:VEVENT
BEGIN:VEVENT
DTSTAMP:20260422T200950
DTSTART;TZID=Europe/Berlin:20260427T170000
DTEND;TZID=Europe/Berlin:20260427T181500
UID:261BH30160-20260427T170000@VHSUNTERLAND
SUMMARY:Die Feldenkrais-Methode Beweglicher werden (261BH30160) 
LOCATION:bh Treffpunkt Bildung und Familie, Dachgeschoss, Bürgerturmstraße 6, 74336 Brackenheim
END:VEVENT
BEGIN:VEVENT
DTSTAMP:20260422T200950
DTSTART;TZID=Europe/Berlin:20260504T170000
DTEND;TZID=Europe/Berlin:20260504T181500
UID:261BH30160-20260504T170000@VHSUNTERLAND
SUMMARY:Die Feldenkrais-Methode Beweglicher werden (261BH30160) 
LOCATION:bh Treffpunkt Bildung und Familie, Dachgeschoss, Bürgerturmstraße 6, 74336 Brackenheim
END:VEVENT
END:VCALENDAR