BEGIN:VCALENDAR
VERSION:2.0
PRODID:http://www.kufer.de/kuferweb / DE
METHOD:PUBLISH
CALSCALE:GREGORIAN
X-WR-TIMEZONE:Europe/Berlin
BEGIN:VTIMEZONE
TZID:Europe/Berlin
X-LIC-LOCATION:Europe/Berlin
BEGIN:DAYLIGHT
TZOFFSETFROM:+0100
TZOFFSETTO:+0200
TZNAME:CEST
DTSTART;TZID=Europe/Berlin:19700329T020000
RRULE:FREQ=YEARLY;INTERVAL=1;BYDAY=-1SU;BYMONTH=3
END:DAYLIGHT
BEGIN:STANDARD
TZOFFSETFROM:+0200
TZOFFSETTO:+0100
TZNAME:CET
DTSTART;TZID=Europe/Berlin:19701025T030000
RRULE:FREQ=YEARLY;INTERVAL=1;BYDAY=-1SU;BYMONTH=10
END:STANDARD
END:VTIMEZONE
BEGIN:VEVENT
DTSTAMP:20260423T101802
DTSTART;TZID=Europe/Berlin:20260225T180000
DTEND;TZID=Europe/Berlin:20260225T191500
UID:261BH30145-20260225T180000@VHSUNTERLAND
SUMMARY:Sammolahari Vinyasa Flow Bewegung, Atem und Bewusstsein im Einklang (261BH30145) 
LOCATION:bh Treffpunkt Bildung und Familie, Dachgeschoss, Bürgerturmstraße 6, 74336 Brackenheim
END:VEVENT
BEGIN:VEVENT
DTSTAMP:20260423T101802
DTSTART;TZID=Europe/Berlin:20260318T180000
DTEND;TZID=Europe/Berlin:20260318T191500
UID:261BH30145-20260318T180000@VHSUNTERLAND
SUMMARY:Sammolahari Vinyasa Flow Bewegung, Atem und Bewusstsein im Einklang (261BH30145) 
LOCATION:bh Treffpunkt Bildung und Familie, Dachgeschoss, Bürgerturmstraße 6, 74336 Brackenheim
END:VEVENT
BEGIN:VEVENT
DTSTAMP:20260423T101802
DTSTART;TZID=Europe/Berlin:20260325T180000
DTEND;TZID=Europe/Berlin:20260325T191500
UID:261BH30145-20260325T180000@VHSUNTERLAND
SUMMARY:Sammolahari Vinyasa Flow Bewegung, Atem und Bewusstsein im Einklang (261BH30145) 
LOCATION:bh Treffpunkt Bildung und Familie, Dachgeschoss, Bürgerturmstraße 6, 74336 Brackenheim
END:VEVENT
BEGIN:VEVENT
DTSTAMP:20260423T101802
DTSTART;TZID=Europe/Berlin:20260415T180000
DTEND;TZID=Europe/Berlin:20260415T191500
UID:261BH30145-20260415T180000@VHSUNTERLAND
SUMMARY:Sammolahari Vinyasa Flow Bewegung, Atem und Bewusstsein im Einklang (261BH30145) 
LOCATION:bh Treffpunkt Bildung und Familie, Dachgeschoss, Bürgerturmstraße 6, 74336 Brackenheim
END:VEVENT
BEGIN:VEVENT
DTSTAMP:20260423T101802
DTSTART;TZID=Europe/Berlin:20260422T180000
DTEND;TZID=Europe/Berlin:20260422T191500
UID:261BH30145-20260422T180000@VHSUNTERLAND
SUMMARY:Sammolahari Vinyasa Flow Bewegung, Atem und Bewusstsein im Einklang (261BH30145) 
LOCATION:bh Treffpunkt Bildung und Familie, Dachgeschoss, Bürgerturmstraße 6, 74336 Brackenheim
END:VEVENT
BEGIN:VEVENT
DTSTAMP:20260423T101802
DTSTART;TZID=Europe/Berlin:20260429T180000
DTEND;TZID=Europe/Berlin:20260429T191500
UID:261BH30145-20260429T180000@VHSUNTERLAND
SUMMARY:Sammolahari Vinyasa Flow Bewegung, Atem und Bewusstsein im Einklang (261BH30145) 
LOCATION:bh Treffpunkt Bildung und Familie, Dachgeschoss, Bürgerturmstraße 6, 74336 Brackenheim
END:VEVENT
BEGIN:VEVENT
DTSTAMP:20260423T101802
DTSTART;TZID=Europe/Berlin:20260513T180000
DTEND;TZID=Europe/Berlin:20260513T191500
UID:261BH30145-20260513T180000@VHSUNTERLAND
SUMMARY:Sammolahari Vinyasa Flow Bewegung, Atem und Bewusstsein im Einklang (261BH30145) 
LOCATION:bh Treffpunkt Bildung und Familie, Dachgeschoss, Bürgerturmstraße 6, 74336 Brackenheim
END:VEVENT
BEGIN:VEVENT
DTSTAMP:20260423T101802
DTSTART;TZID=Europe/Berlin:20260520T180000
DTEND;TZID=Europe/Berlin:20260520T191500
UID:261BH30145-20260520T180000@VHSUNTERLAND
SUMMARY:Sammolahari Vinyasa Flow Bewegung, Atem und Bewusstsein im Einklang (261BH30145) 
LOCATION:bh Treffpunkt Bildung und Familie, Dachgeschoss, Bürgerturmstraße 6, 74336 Brackenheim
END:VEVENT
BEGIN:VEVENT
DTSTAMP:20260423T101802
DTSTART;TZID=Europe/Berlin:20260610T180000
DTEND;TZID=Europe/Berlin:20260610T191500
UID:261BH30145-20260610T180000@VHSUNTERLAND
SUMMARY:Sammolahari Vinyasa Flow Bewegung, Atem und Bewusstsein im Einklang (261BH30145) 
LOCATION:bh Treffpunkt Bildung und Familie, Dachgeschoss, Bürgerturmstraße 6, 74336 Brackenheim
END:VEVENT
BEGIN:VEVENT
DTSTAMP:20260423T101802
DTSTART;TZID=Europe/Berlin:20260617T180000
DTEND;TZID=Europe/Berlin:20260617T191500
UID:261BH30145-20260617T180000@VHSUNTERLAND
DESCRIPTION:Ersatz für Ausfall am 04.03.2026
SUMMARY:Sammolahari Vinyasa Flow Bewegung, Atem und Bewusstsein im Einklang (261BH30145) 
LOCATION:bh Treffpunkt Bildung und Familie, Dachgeschoss, Bürgerturmstraße 6, 74336 Brackenheim
END:VEVENT
BEGIN:VEVENT
DTSTAMP:20260423T101802
DTSTART;TZID=Europe/Berlin:20260624T180000
DTEND;TZID=Europe/Berlin:20260624T191500
UID:261BH30145-20260624T180000@VHSUNTERLAND
DESCRIPTION:Ersatz für Ausfall am 11.03.2026
SUMMARY:Sammolahari Vinyasa Flow Bewegung, Atem und Bewusstsein im Einklang (261BH30145) 
LOCATION:bh Treffpunkt Bildung und Familie, Dachgeschoss, Bürgerturmstraße 6, 74336 Brackenheim
END:VEVENT
BEGIN:VEVENT
DTSTAMP:20260423T101802
DTSTART;TZID=Europe/Berlin:20260701T180000
DTEND;TZID=Europe/Berlin:20260701T191500
UID:261BH30145-20260701T180000@VHSUNTERLAND
DESCRIPTION:Ersatz für Ausfall am 06.05.2026
SUMMARY:Sammolahari Vinyasa Flow Bewegung, Atem und Bewusstsein im Einklang (261BH30145) 
LOCATION:bh Treffpunkt Bildung und Familie, Dachgeschoss, Bürgerturmstraße 6, 74336 Brackenheim
END:VEVENT
END:VCALENDAR