BEGIN:VCALENDAR
VERSION:2.0
PRODID:http://www.kufer.de/kuferweb / DE
METHOD:PUBLISH
CALSCALE:GREGORIAN
X-WR-TIMEZONE:Europe/Berlin
BEGIN:VTIMEZONE
TZID:Europe/Berlin
X-LIC-LOCATION:Europe/Berlin
BEGIN:DAYLIGHT
TZOFFSETFROM:+0100
TZOFFSETTO:+0200
TZNAME:CEST
DTSTART;TZID=Europe/Berlin:19700329T020000
RRULE:FREQ=YEARLY;INTERVAL=1;BYDAY=-1SU;BYMONTH=3
END:DAYLIGHT
BEGIN:STANDARD
TZOFFSETFROM:+0200
TZOFFSETTO:+0100
TZNAME:CET
DTSTART;TZID=Europe/Berlin:19701025T030000
RRULE:FREQ=YEARLY;INTERVAL=1;BYDAY=-1SU;BYMONTH=10
END:STANDARD
END:VTIMEZONE
BEGIN:VEVENT
DTSTAMP:20260422T171838
DTSTART;TZID=Europe/Berlin:20260226T171500
DTEND;TZID=Europe/Berlin:20260226T181500
UID:261BH30110-20260226T171500@VHSUNTERLAND
SUMMARY:Pilates (261BH30110) 
LOCATION:bh Alte Kelter Meimsheim, Löwengasse 14, 74336 Brackenheim
END:VEVENT
BEGIN:VEVENT
DTSTAMP:20260422T171838
DTSTART;TZID=Europe/Berlin:20260305T171500
DTEND;TZID=Europe/Berlin:20260305T181500
UID:261BH30110-20260305T171500@VHSUNTERLAND
SUMMARY:Pilates (261BH30110) 
LOCATION:bh Alte Kelter Meimsheim, Löwengasse 14, 74336 Brackenheim
END:VEVENT
BEGIN:VEVENT
DTSTAMP:20260422T171838
DTSTART;TZID=Europe/Berlin:20260312T171500
DTEND;TZID=Europe/Berlin:20260312T181500
UID:261BH30110-20260312T171500@VHSUNTERLAND
SUMMARY:Pilates (261BH30110) 
LOCATION:bh Alte Kelter Meimsheim, Löwengasse 14, 74336 Brackenheim
END:VEVENT
BEGIN:VEVENT
DTSTAMP:20260422T171838
DTSTART;TZID=Europe/Berlin:20260319T171500
DTEND;TZID=Europe/Berlin:20260319T181500
UID:261BH30110-20260319T171500@VHSUNTERLAND
SUMMARY:Pilates (261BH30110) 
LOCATION:bh Alte Kelter Meimsheim, Löwengasse 14, 74336 Brackenheim
END:VEVENT
BEGIN:VEVENT
DTSTAMP:20260422T171838
DTSTART;TZID=Europe/Berlin:20260409T171500
DTEND;TZID=Europe/Berlin:20260409T181500
UID:261BH30110-20260409T171500@VHSUNTERLAND
DESCRIPTION:Ersatz für Ausfall am 26.03.2026
SUMMARY:Pilates (261BH30110) 
LOCATION:bh Alte Kelter Meimsheim, Löwengasse 14, 74336 Brackenheim
END:VEVENT
BEGIN:VEVENT
DTSTAMP:20260422T171838
DTSTART;TZID=Europe/Berlin:20260416T171500
DTEND;TZID=Europe/Berlin:20260416T181500
UID:261BH30110-20260416T171500@VHSUNTERLAND
SUMMARY:Pilates (261BH30110) 
LOCATION:bh Alte Kelter Meimsheim, Löwengasse 14, 74336 Brackenheim
END:VEVENT
BEGIN:VEVENT
DTSTAMP:20260422T171838
DTSTART;TZID=Europe/Berlin:20260423T171500
DTEND;TZID=Europe/Berlin:20260423T181500
UID:261BH30110-20260423T171500@VHSUNTERLAND
SUMMARY:Pilates (261BH30110) 
LOCATION:bh Alte Kelter Meimsheim, Löwengasse 14, 74336 Brackenheim
END:VEVENT
BEGIN:VEVENT
DTSTAMP:20260422T171838
DTSTART;TZID=Europe/Berlin:20260430T171500
DTEND;TZID=Europe/Berlin:20260430T181500
UID:261BH30110-20260430T171500@VHSUNTERLAND
SUMMARY:Pilates (261BH30110) 
LOCATION:bh Alte Kelter Meimsheim, Löwengasse 14, 74336 Brackenheim
END:VEVENT
BEGIN:VEVENT
DTSTAMP:20260422T171838
DTSTART;TZID=Europe/Berlin:20260521T171500
DTEND;TZID=Europe/Berlin:20260521T181500
UID:261BH30110-20260521T171500@VHSUNTERLAND
SUMMARY:Pilates (261BH30110) 
LOCATION:bh Alte Kelter Meimsheim, Löwengasse 14, 74336 Brackenheim
END:VEVENT
BEGIN:VEVENT
DTSTAMP:20260422T171838
DTSTART;TZID=Europe/Berlin:20260611T171500
DTEND;TZID=Europe/Berlin:20260611T181500
UID:261BH30110-20260611T171500@VHSUNTERLAND
SUMMARY:Pilates (261BH30110) 
LOCATION:bh Alte Kelter Meimsheim, Löwengasse 14, 74336 Brackenheim
END:VEVENT
BEGIN:VEVENT
DTSTAMP:20260422T171838
DTSTART;TZID=Europe/Berlin:20260618T171500
DTEND;TZID=Europe/Berlin:20260618T181500
UID:261BH30110-20260618T171500@VHSUNTERLAND
SUMMARY:Pilates (261BH30110) 
LOCATION:bh Alte Kelter Meimsheim, Löwengasse 14, 74336 Brackenheim
END:VEVENT
BEGIN:VEVENT
DTSTAMP:20260422T171838
DTSTART;TZID=Europe/Berlin:20260625T171500
DTEND;TZID=Europe/Berlin:20260625T181500
UID:261BH30110-20260625T171500@VHSUNTERLAND
SUMMARY:Pilates (261BH30110) 
LOCATION:bh Alte Kelter Meimsheim, Löwengasse 14, 74336 Brackenheim
END:VEVENT
BEGIN:VEVENT
DTSTAMP:20260422T171838
DTSTART;TZID=Europe/Berlin:20260702T171500
DTEND;TZID=Europe/Berlin:20260702T181500
UID:261BH30110-20260702T171500@VHSUNTERLAND
SUMMARY:Pilates (261BH30110) 
LOCATION:bh Alte Kelter Meimsheim, Löwengasse 14, 74336 Brackenheim
END:VEVENT
BEGIN:VEVENT
DTSTAMP:20260422T171838
DTSTART;TZID=Europe/Berlin:20260709T171500
DTEND;TZID=Europe/Berlin:20260709T181500
UID:261BH30110-20260709T171500@VHSUNTERLAND
SUMMARY:Pilates (261BH30110) 
LOCATION:bh Alte Kelter Meimsheim, Löwengasse 14, 74336 Brackenheim
END:VEVENT
END:VCALENDAR