BEGIN:VCALENDAR
VERSION:2.0
PRODID:http://www.kufer.de/kuferweb / DE
METHOD:PUBLISH
CALSCALE:GREGORIAN
X-WR-TIMEZONE:Europe/Berlin
BEGIN:VTIMEZONE
TZID:Europe/Berlin
X-LIC-LOCATION:Europe/Berlin
BEGIN:DAYLIGHT
TZOFFSETFROM:+0100
TZOFFSETTO:+0200
TZNAME:CEST
DTSTART;TZID=Europe/Berlin:19700329T020000
RRULE:FREQ=YEARLY;INTERVAL=1;BYDAY=-1SU;BYMONTH=3
END:DAYLIGHT
BEGIN:STANDARD
TZOFFSETFROM:+0200
TZOFFSETTO:+0100
TZNAME:CET
DTSTART;TZID=Europe/Berlin:19701025T030000
RRULE:FREQ=YEARLY;INTERVAL=1;BYDAY=-1SU;BYMONTH=10
END:STANDARD
END:VTIMEZONE
BEGIN:VEVENT
DTSTAMP:20260425T061136
DTSTART;TZID=Europe/Berlin:20260803T093000
DTEND;TZID=Europe/Berlin:20260803T123000
UID:261BH20976-20260803T093000@VHSUNTERLAND
SUMMARY:Kinder-Webkurs in den Sommerferien (261BH20976) 
LOCATION:bh Web-Atelier Ingrid Frank, Meimsheimer Str. 7, 74336 Brackenheim
END:VEVENT
BEGIN:VEVENT
DTSTAMP:20260425T061136
DTSTART;TZID=Europe/Berlin:20260804T093000
DTEND;TZID=Europe/Berlin:20260804T123000
UID:261BH20976-20260804T093000@VHSUNTERLAND
SUMMARY:Kinder-Webkurs in den Sommerferien (261BH20976) 
LOCATION:bh Web-Atelier Ingrid Frank, Meimsheimer Str. 7, 74336 Brackenheim
END:VEVENT
BEGIN:VEVENT
DTSTAMP:20260425T061136
DTSTART;TZID=Europe/Berlin:20260805T093000
DTEND;TZID=Europe/Berlin:20260805T123000
UID:261BH20976-20260805T093000@VHSUNTERLAND
SUMMARY:Kinder-Webkurs in den Sommerferien (261BH20976) 
LOCATION:bh Web-Atelier Ingrid Frank, Meimsheimer Str. 7, 74336 Brackenheim
END:VEVENT
BEGIN:VEVENT
DTSTAMP:20260425T061136
DTSTART;TZID=Europe/Berlin:20260806T093000
DTEND;TZID=Europe/Berlin:20260806T123000
UID:261BH20976-20260806T093000@VHSUNTERLAND
SUMMARY:Kinder-Webkurs in den Sommerferien (261BH20976) 
LOCATION:bh Web-Atelier Ingrid Frank, Meimsheimer Str. 7, 74336 Brackenheim
END:VEVENT
BEGIN:VEVENT
DTSTAMP:20260425T061136
DTSTART;TZID=Europe/Berlin:20260807T093000
DTEND;TZID=Europe/Berlin:20260807T123000
UID:261BH20976-20260807T093000@VHSUNTERLAND
SUMMARY:Kinder-Webkurs in den Sommerferien (261BH20976) 
LOCATION:bh Web-Atelier Ingrid Frank, Meimsheimer Str. 7, 74336 Brackenheim
END:VEVENT
END:VCALENDAR