BEGIN:VCALENDAR
VERSION:2.0
PRODID:http://www.kufer.de/kuferweb / DE
METHOD:PUBLISH
CALSCALE:GREGORIAN
X-WR-TIMEZONE:Europe/Berlin
BEGIN:VTIMEZONE
TZID:Europe/Berlin
X-LIC-LOCATION:Europe/Berlin
BEGIN:DAYLIGHT
TZOFFSETFROM:+0100
TZOFFSETTO:+0200
TZNAME:CEST
DTSTART;TZID=Europe/Berlin:19700329T020000
RRULE:FREQ=YEARLY;INTERVAL=1;BYDAY=-1SU;BYMONTH=3
END:DAYLIGHT
BEGIN:STANDARD
TZOFFSETFROM:+0200
TZOFFSETTO:+0100
TZNAME:CET
DTSTART;TZID=Europe/Berlin:19701025T030000
RRULE:FREQ=YEARLY;INTERVAL=1;BYDAY=-1SU;BYMONTH=10
END:STANDARD
END:VTIMEZONE
BEGIN:VEVENT
DTSTAMP:20260420T084131
DTSTART;TZID=Europe/Berlin:20260310T193000
DTEND;TZID=Europe/Berlin:20260310T204500
UID:261BH20515-20260310T193000@VHSUNTERLAND
SUMMARY:Line Dance & Co für Fortgeschrittene (261BH20515) 
LOCATION:bh Alte Kelter Meimsheim, Löwengasse 14, 74336 Brackenheim
END:VEVENT
BEGIN:VEVENT
DTSTAMP:20260420T084131
DTSTART;TZID=Europe/Berlin:20260317T193000
DTEND;TZID=Europe/Berlin:20260317T204500
UID:261BH20515-20260317T193000@VHSUNTERLAND
SUMMARY:Line Dance & Co für Fortgeschrittene (261BH20515) 
LOCATION:bh Alte Kelter Meimsheim, Löwengasse 14, 74336 Brackenheim
END:VEVENT
BEGIN:VEVENT
DTSTAMP:20260420T084131
DTSTART;TZID=Europe/Berlin:20260324T193000
DTEND;TZID=Europe/Berlin:20260324T204500
UID:261BH20515-20260324T193000@VHSUNTERLAND
SUMMARY:Line Dance & Co für Fortgeschrittene (261BH20515) 
LOCATION:bh Alte Kelter Meimsheim, Löwengasse 14, 74336 Brackenheim
END:VEVENT
BEGIN:VEVENT
DTSTAMP:20260420T084131
DTSTART;TZID=Europe/Berlin:20260414T193000
DTEND;TZID=Europe/Berlin:20260414T204500
UID:261BH20515-20260414T193000@VHSUNTERLAND
SUMMARY:Line Dance & Co für Fortgeschrittene (261BH20515) 
LOCATION:bh Alte Kelter Meimsheim, Löwengasse 14, 74336 Brackenheim
END:VEVENT
BEGIN:VEVENT
DTSTAMP:20260420T084131
DTSTART;TZID=Europe/Berlin:20260421T193000
DTEND;TZID=Europe/Berlin:20260421T204500
UID:261BH20515-20260421T193000@VHSUNTERLAND
SUMMARY:Line Dance & Co für Fortgeschrittene (261BH20515) 
LOCATION:bh Alte Kelter Meimsheim, Löwengasse 14, 74336 Brackenheim
END:VEVENT
BEGIN:VEVENT
DTSTAMP:20260420T084131
DTSTART;TZID=Europe/Berlin:20260428T193000
DTEND;TZID=Europe/Berlin:20260428T204500
UID:261BH20515-20260428T193000@VHSUNTERLAND
SUMMARY:Line Dance & Co für Fortgeschrittene (261BH20515) 
LOCATION:bh Alte Kelter Meimsheim, Löwengasse 14, 74336 Brackenheim
END:VEVENT
BEGIN:VEVENT
DTSTAMP:20260420T084131
DTSTART;TZID=Europe/Berlin:20260505T193000
DTEND;TZID=Europe/Berlin:20260505T204500
UID:261BH20515-20260505T193000@VHSUNTERLAND
SUMMARY:Line Dance & Co für Fortgeschrittene (261BH20515) 
LOCATION:bh Alte Kelter Meimsheim, Löwengasse 14, 74336 Brackenheim
END:VEVENT
BEGIN:VEVENT
DTSTAMP:20260420T084131
DTSTART;TZID=Europe/Berlin:20260512T193000
DTEND;TZID=Europe/Berlin:20260512T204500
UID:261BH20515-20260512T193000@VHSUNTERLAND
DESCRIPTION:Ersatz für Ausfall am 03.03.2026
SUMMARY:Line Dance & Co für Fortgeschrittene (261BH20515) 
LOCATION:bh Alte Kelter Meimsheim, Löwengasse 14, 74336 Brackenheim
END:VEVENT
END:VCALENDAR