BEGIN:VCALENDAR
VERSION:2.0
PRODID:http://www.kufer.de/kuferweb / DE
METHOD:PUBLISH
CALSCALE:GREGORIAN
X-WR-TIMEZONE:Europe/Berlin
BEGIN:VTIMEZONE
TZID:Europe/Berlin
X-LIC-LOCATION:Europe/Berlin
BEGIN:DAYLIGHT
TZOFFSETFROM:+0100
TZOFFSETTO:+0200
TZNAME:CEST
DTSTART;TZID=Europe/Berlin:19700329T020000
RRULE:FREQ=YEARLY;INTERVAL=1;BYDAY=-1SU;BYMONTH=3
END:DAYLIGHT
BEGIN:STANDARD
TZOFFSETFROM:+0200
TZOFFSETTO:+0100
TZNAME:CET
DTSTART;TZID=Europe/Berlin:19701025T030000
RRULE:FREQ=YEARLY;INTERVAL=1;BYDAY=-1SU;BYMONTH=10
END:STANDARD
END:VTIMEZONE
BEGIN:VEVENT
DTSTAMP:20260424T092711
DTSTART;TZID=Europe/Berlin:20260224T183000
DTEND;TZID=Europe/Berlin:20260224T200000
UID:261BF41010-20260224T183000@VHSUNTERLAND
SUMMARY:Japanisch A1.2  für Anfänger*innen mit Vorkenntnissen (261BF41010) 
LOCATION:bf Otto-Klenert-Schule, Raum E 1, Fahräcker 2, 74177 Bad Friedrichshall
END:VEVENT
BEGIN:VEVENT
DTSTAMP:20260424T092711
DTSTART;TZID=Europe/Berlin:20260303T183000
DTEND;TZID=Europe/Berlin:20260303T200000
UID:261BF41010-20260303T183000@VHSUNTERLAND
SUMMARY:Japanisch A1.2  für Anfänger*innen mit Vorkenntnissen (261BF41010) 
LOCATION:bf Otto-Klenert-Schule, Raum E 1, Fahräcker 2, 74177 Bad Friedrichshall
END:VEVENT
BEGIN:VEVENT
DTSTAMP:20260424T092711
DTSTART;TZID=Europe/Berlin:20260310T183000
DTEND;TZID=Europe/Berlin:20260310T200000
UID:261BF41010-20260310T183000@VHSUNTERLAND
SUMMARY:Japanisch A1.2  für Anfänger*innen mit Vorkenntnissen (261BF41010) 
LOCATION:bf Otto-Klenert-Schule, Raum E 1, Fahräcker 2, 74177 Bad Friedrichshall
END:VEVENT
BEGIN:VEVENT
DTSTAMP:20260424T092711
DTSTART;TZID=Europe/Berlin:20260317T183000
DTEND;TZID=Europe/Berlin:20260317T200000
UID:261BF41010-20260317T183000@VHSUNTERLAND
SUMMARY:Japanisch A1.2  für Anfänger*innen mit Vorkenntnissen (261BF41010) 
LOCATION:bf Otto-Klenert-Schule, Raum E 1, Fahräcker 2, 74177 Bad Friedrichshall
END:VEVENT
BEGIN:VEVENT
DTSTAMP:20260424T092711
DTSTART;TZID=Europe/Berlin:20260324T183000
DTEND;TZID=Europe/Berlin:20260324T200000
UID:261BF41010-20260324T183000@VHSUNTERLAND
SUMMARY:Japanisch A1.2  für Anfänger*innen mit Vorkenntnissen (261BF41010) 
LOCATION:bf Otto-Klenert-Schule, Raum E 1, Fahräcker 2, 74177 Bad Friedrichshall
END:VEVENT
BEGIN:VEVENT
DTSTAMP:20260424T092711
DTSTART;TZID=Europe/Berlin:20260414T183000
DTEND;TZID=Europe/Berlin:20260414T200000
UID:261BF41010-20260414T183000@VHSUNTERLAND
SUMMARY:Japanisch A1.2  für Anfänger*innen mit Vorkenntnissen (261BF41010) 
LOCATION:bf Otto-Klenert-Schule, Raum E 1, Fahräcker 2, 74177 Bad Friedrichshall
END:VEVENT
BEGIN:VEVENT
DTSTAMP:20260424T092711
DTSTART;TZID=Europe/Berlin:20260421T183000
DTEND;TZID=Europe/Berlin:20260421T200000
UID:261BF41010-20260421T183000@VHSUNTERLAND
SUMMARY:Japanisch A1.2  für Anfänger*innen mit Vorkenntnissen (261BF41010) 
LOCATION:bf Otto-Klenert-Schule, Raum E 1, Fahräcker 2, 74177 Bad Friedrichshall
END:VEVENT
BEGIN:VEVENT
DTSTAMP:20260424T092711
DTSTART;TZID=Europe/Berlin:20260428T183000
DTEND;TZID=Europe/Berlin:20260428T200000
UID:261BF41010-20260428T183000@VHSUNTERLAND
SUMMARY:Japanisch A1.2  für Anfänger*innen mit Vorkenntnissen (261BF41010) 
LOCATION:bf Otto-Klenert-Schule, Raum E 1, Fahräcker 2, 74177 Bad Friedrichshall
END:VEVENT
BEGIN:VEVENT
DTSTAMP:20260424T092711
DTSTART;TZID=Europe/Berlin:20260505T183000
DTEND;TZID=Europe/Berlin:20260505T200000
UID:261BF41010-20260505T183000@VHSUNTERLAND
SUMMARY:Japanisch A1.2  für Anfänger*innen mit Vorkenntnissen (261BF41010) 
LOCATION:bf Otto-Klenert-Schule, Raum E 1, Fahräcker 2, 74177 Bad Friedrichshall
END:VEVENT
BEGIN:VEVENT
DTSTAMP:20260424T092711
DTSTART;TZID=Europe/Berlin:20260512T183000
DTEND;TZID=Europe/Berlin:20260512T200000
UID:261BF41010-20260512T183000@VHSUNTERLAND
SUMMARY:Japanisch A1.2  für Anfänger*innen mit Vorkenntnissen (261BF41010) 
LOCATION:bf Otto-Klenert-Schule, Raum E 1, Fahräcker 2, 74177 Bad Friedrichshall
END:VEVENT
BEGIN:VEVENT
DTSTAMP:20260424T092711
DTSTART;TZID=Europe/Berlin:20260519T183000
DTEND;TZID=Europe/Berlin:20260519T200000
UID:261BF41010-20260519T183000@VHSUNTERLAND
SUMMARY:Japanisch A1.2  für Anfänger*innen mit Vorkenntnissen (261BF41010) 
LOCATION:bf Otto-Klenert-Schule, Raum E 1, Fahräcker 2, 74177 Bad Friedrichshall
END:VEVENT
BEGIN:VEVENT
DTSTAMP:20260424T092711
DTSTART;TZID=Europe/Berlin:20260609T183000
DTEND;TZID=Europe/Berlin:20260609T200000
UID:261BF41010-20260609T183000@VHSUNTERLAND
SUMMARY:Japanisch A1.2  für Anfänger*innen mit Vorkenntnissen (261BF41010) 
LOCATION:bf Otto-Klenert-Schule, Raum E 1, Fahräcker 2, 74177 Bad Friedrichshall
END:VEVENT
BEGIN:VEVENT
DTSTAMP:20260424T092711
DTSTART;TZID=Europe/Berlin:20260616T183000
DTEND;TZID=Europe/Berlin:20260616T200000
UID:261BF41010-20260616T183000@VHSUNTERLAND
SUMMARY:Japanisch A1.2  für Anfänger*innen mit Vorkenntnissen (261BF41010) 
LOCATION:bf Otto-Klenert-Schule, Raum E 1, Fahräcker 2, 74177 Bad Friedrichshall
END:VEVENT
END:VCALENDAR