BEGIN:VCALENDAR
VERSION:2.0
PRODID:http://www.kufer.de/kuferweb / DE
METHOD:PUBLISH
CALSCALE:GREGORIAN
X-WR-TIMEZONE:Europe/Berlin
BEGIN:VTIMEZONE
TZID:Europe/Berlin
X-LIC-LOCATION:Europe/Berlin
BEGIN:DAYLIGHT
TZOFFSETFROM:+0100
TZOFFSETTO:+0200
TZNAME:CEST
DTSTART;TZID=Europe/Berlin:19700329T020000
RRULE:FREQ=YEARLY;INTERVAL=1;BYDAY=-1SU;BYMONTH=3
END:DAYLIGHT
BEGIN:STANDARD
TZOFFSETFROM:+0200
TZOFFSETTO:+0100
TZNAME:CET
DTSTART;TZID=Europe/Berlin:19701025T030000
RRULE:FREQ=YEARLY;INTERVAL=1;BYDAY=-1SU;BYMONTH=10
END:STANDARD
END:VTIMEZONE
BEGIN:VEVENT
DTSTAMP:20260421T090945
DTSTART;TZID=Europe/Berlin:20260223T193000
DTEND;TZID=Europe/Berlin:20260223T210000
UID:261BF40605-20260223T193000@VHSUNTERLAND
SUMMARY:Englisch A1.2 English starter (261BF40605) 
LOCATION:bf Gebäude Badstraße, VHS Raum 1, Badstraße 14, 74177 Bad Friedrichshall
END:VEVENT
BEGIN:VEVENT
DTSTAMP:20260421T090945
DTSTART;TZID=Europe/Berlin:20260302T193000
DTEND;TZID=Europe/Berlin:20260302T210000
UID:261BF40605-20260302T193000@VHSUNTERLAND
SUMMARY:Englisch A1.2 English starter (261BF40605) 
LOCATION:bf Gebäude Badstraße, VHS Raum 1, Badstraße 14, 74177 Bad Friedrichshall
END:VEVENT
BEGIN:VEVENT
DTSTAMP:20260421T090945
DTSTART;TZID=Europe/Berlin:20260309T193000
DTEND;TZID=Europe/Berlin:20260309T210000
UID:261BF40605-20260309T193000@VHSUNTERLAND
SUMMARY:Englisch A1.2 English starter (261BF40605) 
LOCATION:bf Gebäude Badstraße, VHS Raum 1, Badstraße 14, 74177 Bad Friedrichshall
END:VEVENT
BEGIN:VEVENT
DTSTAMP:20260421T090945
DTSTART;TZID=Europe/Berlin:20260316T193000
DTEND;TZID=Europe/Berlin:20260316T210000
UID:261BF40605-20260316T193000@VHSUNTERLAND
SUMMARY:Englisch A1.2 English starter (261BF40605) 
LOCATION:bf Gebäude Badstraße, VHS Raum 1, Badstraße 14, 74177 Bad Friedrichshall
END:VEVENT
BEGIN:VEVENT
DTSTAMP:20260421T090945
DTSTART;TZID=Europe/Berlin:20260323T193000
DTEND;TZID=Europe/Berlin:20260323T210000
UID:261BF40605-20260323T193000@VHSUNTERLAND
SUMMARY:Englisch A1.2 English starter (261BF40605) 
LOCATION:bf Gebäude Badstraße, VHS Raum 1, Badstraße 14, 74177 Bad Friedrichshall
END:VEVENT
BEGIN:VEVENT
DTSTAMP:20260421T090945
DTSTART;TZID=Europe/Berlin:20260413T193000
DTEND;TZID=Europe/Berlin:20260413T210000
UID:261BF40605-20260413T193000@VHSUNTERLAND
SUMMARY:Englisch A1.2 English starter (261BF40605) 
LOCATION:bf Gebäude Badstraße, VHS Raum 1, Badstraße 14, 74177 Bad Friedrichshall
END:VEVENT
BEGIN:VEVENT
DTSTAMP:20260421T090945
DTSTART;TZID=Europe/Berlin:20260420T193000
DTEND;TZID=Europe/Berlin:20260420T210000
UID:261BF40605-20260420T193000@VHSUNTERLAND
SUMMARY:Englisch A1.2 English starter (261BF40605) 
LOCATION:bf Gebäude Badstraße, VHS Raum 1, Badstraße 14, 74177 Bad Friedrichshall
END:VEVENT
BEGIN:VEVENT
DTSTAMP:20260421T090945
DTSTART;TZID=Europe/Berlin:20260427T193000
DTEND;TZID=Europe/Berlin:20260427T210000
UID:261BF40605-20260427T193000@VHSUNTERLAND
SUMMARY:Englisch A1.2 English starter (261BF40605) 
LOCATION:bf Gebäude Badstraße, VHS Raum 1, Badstraße 14, 74177 Bad Friedrichshall
END:VEVENT
BEGIN:VEVENT
DTSTAMP:20260421T090945
DTSTART;TZID=Europe/Berlin:20260504T193000
DTEND;TZID=Europe/Berlin:20260504T210000
UID:261BF40605-20260504T193000@VHSUNTERLAND
SUMMARY:Englisch A1.2 English starter (261BF40605) 
LOCATION:bf Gebäude Badstraße, VHS Raum 1, Badstraße 14, 74177 Bad Friedrichshall
END:VEVENT
BEGIN:VEVENT
DTSTAMP:20260421T090945
DTSTART;TZID=Europe/Berlin:20260511T193000
DTEND;TZID=Europe/Berlin:20260511T210000
UID:261BF40605-20260511T193000@VHSUNTERLAND
SUMMARY:Englisch A1.2 English starter (261BF40605) 
LOCATION:bf Gebäude Badstraße, VHS Raum 1, Badstraße 14, 74177 Bad Friedrichshall
END:VEVENT
BEGIN:VEVENT
DTSTAMP:20260421T090945
DTSTART;TZID=Europe/Berlin:20260518T193000
DTEND;TZID=Europe/Berlin:20260518T210000
UID:261BF40605-20260518T193000@VHSUNTERLAND
SUMMARY:Englisch A1.2 English starter (261BF40605) 
LOCATION:bf Gebäude Badstraße, VHS Raum 1, Badstraße 14, 74177 Bad Friedrichshall
END:VEVENT
BEGIN:VEVENT
DTSTAMP:20260421T090945
DTSTART;TZID=Europe/Berlin:20260608T193000
DTEND;TZID=Europe/Berlin:20260608T210000
UID:261BF40605-20260608T193000@VHSUNTERLAND
SUMMARY:Englisch A1.2 English starter (261BF40605) 
LOCATION:bf Gebäude Badstraße, VHS Raum 1, Badstraße 14, 74177 Bad Friedrichshall
END:VEVENT
END:VCALENDAR