BEGIN:VCALENDAR
VERSION:2.0
PRODID:http://www.kufer.de/kuferweb / DE
METHOD:PUBLISH
CALSCALE:GREGORIAN
X-WR-TIMEZONE:Europe/Berlin
BEGIN:VTIMEZONE
TZID:Europe/Berlin
X-LIC-LOCATION:Europe/Berlin
BEGIN:DAYLIGHT
TZOFFSETFROM:+0100
TZOFFSETTO:+0200
TZNAME:CEST
DTSTART;TZID=Europe/Berlin:19700329T020000
RRULE:FREQ=YEARLY;INTERVAL=1;BYDAY=-1SU;BYMONTH=3
END:DAYLIGHT
BEGIN:STANDARD
TZOFFSETFROM:+0200
TZOFFSETTO:+0100
TZNAME:CET
DTSTART;TZID=Europe/Berlin:19701025T030000
RRULE:FREQ=YEARLY;INTERVAL=1;BYDAY=-1SU;BYMONTH=10
END:STANDARD
END:VTIMEZONE
BEGIN:VEVENT
DTSTAMP:20260422T074255
DTSTART;TZID=Europe/Berlin:20260327T180000
DTEND;TZID=Europe/Berlin:20260327T190000
UID:261BF30260-20260327T180000@VHSUNTERLAND
SUMMARY:Fitness Mix (261BF30260) 
LOCATION:bf Lindenberghalle, Neuenstadter Straße 19, 74177 Bad Friedrichshall
END:VEVENT
BEGIN:VEVENT
DTSTAMP:20260422T074255
DTSTART;TZID=Europe/Berlin:20260417T180000
DTEND;TZID=Europe/Berlin:20260417T190000
UID:261BF30260-20260417T180000@VHSUNTERLAND
SUMMARY:Fitness Mix (261BF30260) 
LOCATION:bf Lindenberghalle, Neuenstadter Straße 19, 74177 Bad Friedrichshall
END:VEVENT
BEGIN:VEVENT
DTSTAMP:20260422T074255
DTSTART;TZID=Europe/Berlin:20260424T180000
DTEND;TZID=Europe/Berlin:20260424T190000
UID:261BF30260-20260424T180000@VHSUNTERLAND
SUMMARY:Fitness Mix (261BF30260) 
LOCATION:bf Lindenberghalle, Neuenstadter Straße 19, 74177 Bad Friedrichshall
END:VEVENT
BEGIN:VEVENT
DTSTAMP:20260422T074255
DTSTART;TZID=Europe/Berlin:20260508T180000
DTEND;TZID=Europe/Berlin:20260508T190000
UID:261BF30260-20260508T180000@VHSUNTERLAND
SUMMARY:Fitness Mix (261BF30260) 
LOCATION:bf Lindenberghalle, Neuenstadter Straße 19, 74177 Bad Friedrichshall
END:VEVENT
BEGIN:VEVENT
DTSTAMP:20260422T074255
DTSTART;TZID=Europe/Berlin:20260515T180000
DTEND;TZID=Europe/Berlin:20260515T190000
UID:261BF30260-20260515T180000@VHSUNTERLAND
SUMMARY:Fitness Mix (261BF30260) 
LOCATION:bf Lindenberghalle, Neuenstadter Straße 19, 74177 Bad Friedrichshall
END:VEVENT
END:VCALENDAR