BEGIN:VCALENDAR
VERSION:2.0
PRODID:http://www.kufer.de/kuferweb / DE
METHOD:PUBLISH
CALSCALE:GREGORIAN
X-WR-TIMEZONE:Europe/Berlin
BEGIN:VTIMEZONE
TZID:Europe/Berlin
X-LIC-LOCATION:Europe/Berlin
BEGIN:DAYLIGHT
TZOFFSETFROM:+0100
TZOFFSETTO:+0200
TZNAME:CEST
DTSTART;TZID=Europe/Berlin:19700329T020000
RRULE:FREQ=YEARLY;INTERVAL=1;BYDAY=-1SU;BYMONTH=3
END:DAYLIGHT
BEGIN:STANDARD
TZOFFSETFROM:+0200
TZOFFSETTO:+0100
TZNAME:CET
DTSTART;TZID=Europe/Berlin:19701025T030000
RRULE:FREQ=YEARLY;INTERVAL=1;BYDAY=-1SU;BYMONTH=10
END:STANDARD
END:VTIMEZONE
BEGIN:VEVENT
DTSTAMP:20260420T230513
DTSTART;TZID=Europe/Berlin:20260417T101500
DTEND;TZID=Europe/Berlin:20260417T111500
UID:261BF30201-20260417T101500@VHSUNTERLAND
SUMMARY:Beckenboden meets Faszien (261BF30201) 
LOCATION:bf Greckenschloss, Festsaal, Lindenweg 2, 74177 Bad Friedrichshall
END:VEVENT
BEGIN:VEVENT
DTSTAMP:20260420T230513
DTSTART;TZID=Europe/Berlin:20260424T101500
DTEND;TZID=Europe/Berlin:20260424T111500
UID:261BF30201-20260424T101500@VHSUNTERLAND
SUMMARY:Beckenboden meets Faszien (261BF30201) 
LOCATION:bf Greckenschloss, Festsaal, Lindenweg 2, 74177 Bad Friedrichshall
END:VEVENT
BEGIN:VEVENT
DTSTAMP:20260420T230513
DTSTART;TZID=Europe/Berlin:20260508T101500
DTEND;TZID=Europe/Berlin:20260508T111500
UID:261BF30201-20260508T101500@VHSUNTERLAND
SUMMARY:Beckenboden meets Faszien (261BF30201) 
LOCATION:bf Greckenschloss, Festsaal, Lindenweg 2, 74177 Bad Friedrichshall
END:VEVENT
BEGIN:VEVENT
DTSTAMP:20260420T230513
DTSTART;TZID=Europe/Berlin:20260515T101500
DTEND;TZID=Europe/Berlin:20260515T111500
UID:261BF30201-20260515T101500@VHSUNTERLAND
SUMMARY:Beckenboden meets Faszien (261BF30201) 
LOCATION:bf Greckenschloss, Festsaal, Lindenweg 2, 74177 Bad Friedrichshall
END:VEVENT
BEGIN:VEVENT
DTSTAMP:20260420T230513
DTSTART;TZID=Europe/Berlin:20260522T101500
DTEND;TZID=Europe/Berlin:20260522T111500
UID:261BF30201-20260522T101500@VHSUNTERLAND
SUMMARY:Beckenboden meets Faszien (261BF30201) 
LOCATION:bf Greckenschloss, Festsaal, Lindenweg 2, 74177 Bad Friedrichshall
END:VEVENT
BEGIN:VEVENT
DTSTAMP:20260420T230513
DTSTART;TZID=Europe/Berlin:20260612T101500
DTEND;TZID=Europe/Berlin:20260612T111500
UID:261BF30201-20260612T101500@VHSUNTERLAND
SUMMARY:Beckenboden meets Faszien (261BF30201) 
LOCATION:bf Greckenschloss, Festsaal, Lindenweg 2, 74177 Bad Friedrichshall
END:VEVENT
BEGIN:VEVENT
DTSTAMP:20260420T230513
DTSTART;TZID=Europe/Berlin:20260619T101500
DTEND;TZID=Europe/Berlin:20260619T111500
UID:261BF30201-20260619T101500@VHSUNTERLAND
SUMMARY:Beckenboden meets Faszien (261BF30201) 
LOCATION:bf Greckenschloss, Festsaal, Lindenweg 2, 74177 Bad Friedrichshall
END:VEVENT
END:VCALENDAR