BEGIN:VCALENDAR
VERSION:2.0
PRODID:http://www.kufer.de/kuferweb / DE
METHOD:PUBLISH
CALSCALE:GREGORIAN
X-WR-TIMEZONE:Europe/Berlin
BEGIN:VTIMEZONE
TZID:Europe/Berlin
X-LIC-LOCATION:Europe/Berlin
BEGIN:DAYLIGHT
TZOFFSETFROM:+0100
TZOFFSETTO:+0200
TZNAME:CEST
DTSTART;TZID=Europe/Berlin:19700329T020000
RRULE:FREQ=YEARLY;INTERVAL=1;BYDAY=-1SU;BYMONTH=3
END:DAYLIGHT
BEGIN:STANDARD
TZOFFSETFROM:+0200
TZOFFSETTO:+0100
TZNAME:CET
DTSTART;TZID=Europe/Berlin:19701025T030000
RRULE:FREQ=YEARLY;INTERVAL=1;BYDAY=-1SU;BYMONTH=10
END:STANDARD
END:VTIMEZONE
BEGIN:VEVENT
DTSTAMP:20260421T123540
DTSTART;TZID=Europe/Berlin:20260423T184500
DTEND;TZID=Europe/Berlin:20260423T194500
UID:261BF30120-20260423T184500@VHSUNTERLAND
SUMMARY:PMR und Beckenboden (261BF30120) 
LOCATION:bf Altes Rathaus, Ratssaal, Hauptstraße 4, 74177 Bad Friedrichshall
END:VEVENT
BEGIN:VEVENT
DTSTAMP:20260421T123540
DTSTART;TZID=Europe/Berlin:20260430T184500
DTEND;TZID=Europe/Berlin:20260430T194500
UID:261BF30120-20260430T184500@VHSUNTERLAND
SUMMARY:PMR und Beckenboden (261BF30120) 
LOCATION:bf Altes Rathaus, Ratssaal, Hauptstraße 4, 74177 Bad Friedrichshall
END:VEVENT
BEGIN:VEVENT
DTSTAMP:20260421T123540
DTSTART;TZID=Europe/Berlin:20260507T184500
DTEND;TZID=Europe/Berlin:20260507T194500
UID:261BF30120-20260507T184500@VHSUNTERLAND
SUMMARY:PMR und Beckenboden (261BF30120) 
LOCATION:bf Altes Rathaus, Ratssaal, Hauptstraße 4, 74177 Bad Friedrichshall
END:VEVENT
BEGIN:VEVENT
DTSTAMP:20260421T123540
DTSTART;TZID=Europe/Berlin:20260514T184500
DTEND;TZID=Europe/Berlin:20260514T194500
UID:261BF30120-20260514T184500@VHSUNTERLAND
SUMMARY:PMR und Beckenboden (261BF30120) 
LOCATION:bf Altes Rathaus, Ratssaal, Hauptstraße 4, 74177 Bad Friedrichshall
END:VEVENT
BEGIN:VEVENT
DTSTAMP:20260421T123540
DTSTART;TZID=Europe/Berlin:20260521T184500
DTEND;TZID=Europe/Berlin:20260521T194500
UID:261BF30120-20260521T184500@VHSUNTERLAND
SUMMARY:PMR und Beckenboden (261BF30120) 
LOCATION:bf Altes Rathaus, Ratssaal, Hauptstraße 4, 74177 Bad Friedrichshall
END:VEVENT
BEGIN:VEVENT
DTSTAMP:20260421T123540
DTSTART;TZID=Europe/Berlin:20260528T184500
DTEND;TZID=Europe/Berlin:20260528T194500
UID:261BF30120-20260528T184500@VHSUNTERLAND
SUMMARY:PMR und Beckenboden (261BF30120) 
LOCATION:bf Altes Rathaus, Ratssaal, Hauptstraße 4, 74177 Bad Friedrichshall
END:VEVENT
BEGIN:VEVENT
DTSTAMP:20260421T123540
DTSTART;TZID=Europe/Berlin:20260604T184500
DTEND;TZID=Europe/Berlin:20260604T194500
UID:261BF30120-20260604T184500@VHSUNTERLAND
SUMMARY:PMR und Beckenboden (261BF30120) 
LOCATION:bf Altes Rathaus, Ratssaal, Hauptstraße 4, 74177 Bad Friedrichshall
END:VEVENT
END:VCALENDAR