BEGIN:VCALENDAR
VERSION:2.0
PRODID:http://www.kufer.de/kuferweb / DE
METHOD:PUBLISH
CALSCALE:GREGORIAN
X-WR-TIMEZONE:Europe/Berlin
BEGIN:VTIMEZONE
TZID:Europe/Berlin
X-LIC-LOCATION:Europe/Berlin
BEGIN:DAYLIGHT
TZOFFSETFROM:+0100
TZOFFSETTO:+0200
TZNAME:CEST
DTSTART;TZID=Europe/Berlin:19700329T020000
RRULE:FREQ=YEARLY;INTERVAL=1;BYDAY=-1SU;BYMONTH=3
END:DAYLIGHT
BEGIN:STANDARD
TZOFFSETFROM:+0200
TZOFFSETTO:+0100
TZNAME:CET
DTSTART;TZID=Europe/Berlin:19701025T030000
RRULE:FREQ=YEARLY;INTERVAL=1;BYDAY=-1SU;BYMONTH=10
END:STANDARD
END:VTIMEZONE
BEGIN:VEVENT
DTSTAMP:20260422T074201
DTSTART;TZID=Europe/Berlin:20260423T173000
DTEND;TZID=Europe/Berlin:20260423T183000
UID:261BF30119-20260423T173000@VHSUNTERLAND
SUMMARY:Pilates für Anfänger*innen und Ältere (261BF30119) 
LOCATION:bf Altes Rathaus, Ratssaal, Hauptstraße 4, 74177 Bad Friedrichshall
END:VEVENT
BEGIN:VEVENT
DTSTAMP:20260422T074201
DTSTART;TZID=Europe/Berlin:20260430T173000
DTEND;TZID=Europe/Berlin:20260430T183000
UID:261BF30119-20260430T173000@VHSUNTERLAND
SUMMARY:Pilates für Anfänger*innen und Ältere (261BF30119) 
LOCATION:bf Altes Rathaus, Ratssaal, Hauptstraße 4, 74177 Bad Friedrichshall
END:VEVENT
BEGIN:VEVENT
DTSTAMP:20260422T074201
DTSTART;TZID=Europe/Berlin:20260507T173000
DTEND;TZID=Europe/Berlin:20260507T183000
UID:261BF30119-20260507T173000@VHSUNTERLAND
SUMMARY:Pilates für Anfänger*innen und Ältere (261BF30119) 
LOCATION:bf Altes Rathaus, Ratssaal, Hauptstraße 4, 74177 Bad Friedrichshall
END:VEVENT
BEGIN:VEVENT
DTSTAMP:20260422T074201
DTSTART;TZID=Europe/Berlin:20260514T173000
DTEND;TZID=Europe/Berlin:20260514T183000
UID:261BF30119-20260514T173000@VHSUNTERLAND
SUMMARY:Pilates für Anfänger*innen und Ältere (261BF30119) 
LOCATION:bf Altes Rathaus, Ratssaal, Hauptstraße 4, 74177 Bad Friedrichshall
END:VEVENT
BEGIN:VEVENT
DTSTAMP:20260422T074201
DTSTART;TZID=Europe/Berlin:20260521T173000
DTEND;TZID=Europe/Berlin:20260521T183000
UID:261BF30119-20260521T173000@VHSUNTERLAND
SUMMARY:Pilates für Anfänger*innen und Ältere (261BF30119) 
LOCATION:bf Altes Rathaus, Ratssaal, Hauptstraße 4, 74177 Bad Friedrichshall
END:VEVENT
BEGIN:VEVENT
DTSTAMP:20260422T074201
DTSTART;TZID=Europe/Berlin:20260528T173000
DTEND;TZID=Europe/Berlin:20260528T183000
UID:261BF30119-20260528T173000@VHSUNTERLAND
SUMMARY:Pilates für Anfänger*innen und Ältere (261BF30119) 
LOCATION:bf Altes Rathaus, Ratssaal, Hauptstraße 4, 74177 Bad Friedrichshall
END:VEVENT
BEGIN:VEVENT
DTSTAMP:20260422T074201
DTSTART;TZID=Europe/Berlin:20260604T173000
DTEND;TZID=Europe/Berlin:20260604T183000
UID:261BF30119-20260604T173000@VHSUNTERLAND
SUMMARY:Pilates für Anfänger*innen und Ältere (261BF30119) 
LOCATION:bf Altes Rathaus, Ratssaal, Hauptstraße 4, 74177 Bad Friedrichshall
END:VEVENT
END:VCALENDAR