BEGIN:VCALENDAR
VERSION:2.0
PRODID:http://www.kufer.de/kuferweb / DE
METHOD:PUBLISH
CALSCALE:GREGORIAN
X-WR-TIMEZONE:Europe/Berlin
BEGIN:VTIMEZONE
TZID:Europe/Berlin
X-LIC-LOCATION:Europe/Berlin
BEGIN:DAYLIGHT
TZOFFSETFROM:+0100
TZOFFSETTO:+0200
TZNAME:CEST
DTSTART;TZID=Europe/Berlin:19700329T020000
RRULE:FREQ=YEARLY;INTERVAL=1;BYDAY=-1SU;BYMONTH=3
END:DAYLIGHT
BEGIN:STANDARD
TZOFFSETFROM:+0200
TZOFFSETTO:+0100
TZNAME:CET
DTSTART;TZID=Europe/Berlin:19701025T030000
RRULE:FREQ=YEARLY;INTERVAL=1;BYDAY=-1SU;BYMONTH=10
END:STANDARD
END:VTIMEZONE
BEGIN:VEVENT
DTSTAMP:20260420T114709
DTSTART;TZID=Europe/Berlin:20260226T201500
DTEND;TZID=Europe/Berlin:20260226T211500
UID:261BF30113-20260226T201500@VHSUNTERLAND
SUMMARY:Pilates für Fortgeschrittene (261BF30113) 
LOCATION:bf Altes Rathaus, Ratssaal, Hauptstraße 4, 74177 Bad Friedrichshall
END:VEVENT
BEGIN:VEVENT
DTSTAMP:20260420T114709
DTSTART;TZID=Europe/Berlin:20260305T201500
DTEND;TZID=Europe/Berlin:20260305T211500
UID:261BF30113-20260305T201500@VHSUNTERLAND
SUMMARY:Pilates für Fortgeschrittene (261BF30113) 
LOCATION:bf Altes Rathaus, Ratssaal, Hauptstraße 4, 74177 Bad Friedrichshall
END:VEVENT
BEGIN:VEVENT
DTSTAMP:20260420T114709
DTSTART;TZID=Europe/Berlin:20260312T201500
DTEND;TZID=Europe/Berlin:20260312T211500
UID:261BF30113-20260312T201500@VHSUNTERLAND
SUMMARY:Pilates für Fortgeschrittene (261BF30113) 
LOCATION:bf Altes Rathaus, Ratssaal, Hauptstraße 4, 74177 Bad Friedrichshall
END:VEVENT
BEGIN:VEVENT
DTSTAMP:20260420T114709
DTSTART;TZID=Europe/Berlin:20260319T201500
DTEND;TZID=Europe/Berlin:20260319T211500
UID:261BF30113-20260319T201500@VHSUNTERLAND
SUMMARY:Pilates für Fortgeschrittene (261BF30113) 
LOCATION:bf Altes Rathaus, Ratssaal, Hauptstraße 4, 74177 Bad Friedrichshall
END:VEVENT
BEGIN:VEVENT
DTSTAMP:20260420T114709
DTSTART;TZID=Europe/Berlin:20260326T201500
DTEND;TZID=Europe/Berlin:20260326T211500
UID:261BF30113-20260326T201500@VHSUNTERLAND
SUMMARY:Pilates für Fortgeschrittene (261BF30113) 
LOCATION:bf Altes Rathaus, Ratssaal, Hauptstraße 4, 74177 Bad Friedrichshall
END:VEVENT
BEGIN:VEVENT
DTSTAMP:20260420T114709
DTSTART;TZID=Europe/Berlin:20260416T201500
DTEND;TZID=Europe/Berlin:20260416T211500
UID:261BF30113-20260416T201500@VHSUNTERLAND
SUMMARY:Pilates für Fortgeschrittene (261BF30113) 
LOCATION:bf Altes Rathaus, Ratssaal, Hauptstraße 4, 74177 Bad Friedrichshall
END:VEVENT
BEGIN:VEVENT
DTSTAMP:20260420T114709
DTSTART;TZID=Europe/Berlin:20260423T201500
DTEND;TZID=Europe/Berlin:20260423T211500
UID:261BF30113-20260423T201500@VHSUNTERLAND
SUMMARY:Pilates für Fortgeschrittene (261BF30113) 
LOCATION:bf Altes Rathaus, Ratssaal, Hauptstraße 4, 74177 Bad Friedrichshall
END:VEVENT
BEGIN:VEVENT
DTSTAMP:20260420T114709
DTSTART;TZID=Europe/Berlin:20260430T201500
DTEND;TZID=Europe/Berlin:20260430T211500
UID:261BF30113-20260430T201500@VHSUNTERLAND
SUMMARY:Pilates für Fortgeschrittene (261BF30113) 
LOCATION:bf Altes Rathaus, Ratssaal, Hauptstraße 4, 74177 Bad Friedrichshall
END:VEVENT
BEGIN:VEVENT
DTSTAMP:20260420T114709
DTSTART;TZID=Europe/Berlin:20260507T201500
DTEND;TZID=Europe/Berlin:20260507T211500
UID:261BF30113-20260507T201500@VHSUNTERLAND
SUMMARY:Pilates für Fortgeschrittene (261BF30113) 
LOCATION:bf Altes Rathaus, Ratssaal, Hauptstraße 4, 74177 Bad Friedrichshall
END:VEVENT
BEGIN:VEVENT
DTSTAMP:20260420T114709
DTSTART;TZID=Europe/Berlin:20260521T201500
DTEND;TZID=Europe/Berlin:20260521T211500
UID:261BF30113-20260521T201500@VHSUNTERLAND
SUMMARY:Pilates für Fortgeschrittene (261BF30113) 
LOCATION:bf Altes Rathaus, Ratssaal, Hauptstraße 4, 74177 Bad Friedrichshall
END:VEVENT
END:VCALENDAR