BEGIN:VCALENDAR
VERSION:2.0
PRODID:http://www.kufer.de/kuferweb / DE
METHOD:PUBLISH
CALSCALE:GREGORIAN
X-WR-TIMEZONE:Europe/Berlin
BEGIN:VTIMEZONE
TZID:Europe/Berlin
X-LIC-LOCATION:Europe/Berlin
BEGIN:DAYLIGHT
TZOFFSETFROM:+0100
TZOFFSETTO:+0200
TZNAME:CEST
DTSTART;TZID=Europe/Berlin:19700329T020000
RRULE:FREQ=YEARLY;INTERVAL=1;BYDAY=-1SU;BYMONTH=3
END:DAYLIGHT
BEGIN:STANDARD
TZOFFSETFROM:+0200
TZOFFSETTO:+0100
TZNAME:CET
DTSTART;TZID=Europe/Berlin:19701025T030000
RRULE:FREQ=YEARLY;INTERVAL=1;BYDAY=-1SU;BYMONTH=10
END:STANDARD
END:VTIMEZONE
BEGIN:VEVENT
DTSTAMP:20260422T140028
DTSTART;TZID=Europe/Berlin:20260227T163000
DTEND;TZID=Europe/Berlin:20260227T183000
UID:261BF20210-20260227T163000@VHSUNTERLAND
SUMMARY:Kreatives Schreiben (261BF20210) 
LOCATION:bf Altes Rathaus, Ratssaal, Hauptstraße 4, 74177 Bad Friedrichshall
END:VEVENT
BEGIN:VEVENT
DTSTAMP:20260422T140028
DTSTART;TZID=Europe/Berlin:20260327T163000
DTEND;TZID=Europe/Berlin:20260327T183000
UID:261BF20210-20260327T163000@VHSUNTERLAND
SUMMARY:Kreatives Schreiben (261BF20210) 
LOCATION:bf Altes Rathaus, Ratssaal, Hauptstraße 4, 74177 Bad Friedrichshall
END:VEVENT
BEGIN:VEVENT
DTSTAMP:20260422T140028
DTSTART;TZID=Europe/Berlin:20260508T163000
DTEND;TZID=Europe/Berlin:20260508T183000
UID:261BF20210-20260508T163000@VHSUNTERLAND
SUMMARY:Kreatives Schreiben (261BF20210) 
LOCATION:bf Altes Rathaus, Ratssaal, Hauptstraße 4, 74177 Bad Friedrichshall
END:VEVENT
END:VCALENDAR