BEGIN:VCALENDAR
VERSION:2.0
PRODID:http://www.kufer.de/kuferweb / DE
METHOD:PUBLISH
CALSCALE:GREGORIAN
X-WR-TIMEZONE:Europe/Berlin
BEGIN:VTIMEZONE
TZID:Europe/Berlin
X-LIC-LOCATION:Europe/Berlin
BEGIN:DAYLIGHT
TZOFFSETFROM:+0100
TZOFFSETTO:+0200
TZNAME:CEST
DTSTART;TZID=Europe/Berlin:19700329T020000
RRULE:FREQ=YEARLY;INTERVAL=1;BYDAY=-1SU;BYMONTH=3
END:DAYLIGHT
BEGIN:STANDARD
TZOFFSETFROM:+0200
TZOFFSETTO:+0100
TZNAME:CET
DTSTART;TZID=Europe/Berlin:19701025T030000
RRULE:FREQ=YEARLY;INTERVAL=1;BYDAY=-1SU;BYMONTH=10
END:STANDARD
END:VTIMEZONE
BEGIN:VEVENT
DTSTAMP:20260422T210223
DTSTART;TZID=Europe/Berlin:20260223T090000
DTEND;TZID=Europe/Berlin:20260223T160000
UID:261BF20070-20260223T090000@VHSUNTERLAND
SUMMARY:Kreativ ins neue Semester  Ausstellung im Rathaus (261BF20070) 
LOCATION:bf Rathaus, Foyer, Rathausplatz 1, 74177 Bad Friedrichshall
END:VEVENT
BEGIN:VEVENT
DTSTAMP:20260422T210223
DTSTART;TZID=Europe/Berlin:20260224T090000
DTEND;TZID=Europe/Berlin:20260224T160000
UID:261BF20070-20260224T090000@VHSUNTERLAND
SUMMARY:Kreativ ins neue Semester  Ausstellung im Rathaus (261BF20070) 
LOCATION:bf Rathaus, Foyer, Rathausplatz 1, 74177 Bad Friedrichshall
END:VEVENT
BEGIN:VEVENT
DTSTAMP:20260422T210223
DTSTART;TZID=Europe/Berlin:20260226T090000
DTEND;TZID=Europe/Berlin:20260226T160000
UID:261BF20070-20260226T090000@VHSUNTERLAND
SUMMARY:Kreativ ins neue Semester  Ausstellung im Rathaus (261BF20070) 
LOCATION:bf Rathaus, Foyer, Rathausplatz 1, 74177 Bad Friedrichshall
END:VEVENT
BEGIN:VEVENT
DTSTAMP:20260422T210223
DTSTART;TZID=Europe/Berlin:20260302T090000
DTEND;TZID=Europe/Berlin:20260302T160000
UID:261BF20070-20260302T090000@VHSUNTERLAND
SUMMARY:Kreativ ins neue Semester  Ausstellung im Rathaus (261BF20070) 
LOCATION:bf Rathaus, Foyer, Rathausplatz 1, 74177 Bad Friedrichshall
END:VEVENT
BEGIN:VEVENT
DTSTAMP:20260422T210223
DTSTART;TZID=Europe/Berlin:20260303T090000
DTEND;TZID=Europe/Berlin:20260303T160000
UID:261BF20070-20260303T090000@VHSUNTERLAND
SUMMARY:Kreativ ins neue Semester  Ausstellung im Rathaus (261BF20070) 
LOCATION:bf Rathaus, Foyer, Rathausplatz 1, 74177 Bad Friedrichshall
END:VEVENT
BEGIN:VEVENT
DTSTAMP:20260422T210223
DTSTART;TZID=Europe/Berlin:20260305T090000
DTEND;TZID=Europe/Berlin:20260305T160000
UID:261BF20070-20260305T090000@VHSUNTERLAND
SUMMARY:Kreativ ins neue Semester  Ausstellung im Rathaus (261BF20070) 
LOCATION:bf Rathaus, Foyer, Rathausplatz 1, 74177 Bad Friedrichshall
END:VEVENT
BEGIN:VEVENT
DTSTAMP:20260422T210223
DTSTART;TZID=Europe/Berlin:20260309T090000
DTEND;TZID=Europe/Berlin:20260309T160000
UID:261BF20070-20260309T090000@VHSUNTERLAND
SUMMARY:Kreativ ins neue Semester  Ausstellung im Rathaus (261BF20070) 
LOCATION:bf Rathaus, Foyer, Rathausplatz 1, 74177 Bad Friedrichshall
END:VEVENT
BEGIN:VEVENT
DTSTAMP:20260422T210223
DTSTART;TZID=Europe/Berlin:20260310T090000
DTEND;TZID=Europe/Berlin:20260310T160000
UID:261BF20070-20260310T090000@VHSUNTERLAND
SUMMARY:Kreativ ins neue Semester  Ausstellung im Rathaus (261BF20070) 
LOCATION:bf Rathaus, Foyer, Rathausplatz 1, 74177 Bad Friedrichshall
END:VEVENT
BEGIN:VEVENT
DTSTAMP:20260422T210223
DTSTART;TZID=Europe/Berlin:20260312T090000
DTEND;TZID=Europe/Berlin:20260312T160000
UID:261BF20070-20260312T090000@VHSUNTERLAND
SUMMARY:Kreativ ins neue Semester  Ausstellung im Rathaus (261BF20070) 
LOCATION:bf Rathaus, Foyer, Rathausplatz 1, 74177 Bad Friedrichshall
END:VEVENT
BEGIN:VEVENT
DTSTAMP:20260422T210223
DTSTART;TZID=Europe/Berlin:20260316T090000
DTEND;TZID=Europe/Berlin:20260316T160000
UID:261BF20070-20260316T090000@VHSUNTERLAND
SUMMARY:Kreativ ins neue Semester  Ausstellung im Rathaus (261BF20070) 
LOCATION:bf Rathaus, Foyer, Rathausplatz 1, 74177 Bad Friedrichshall
END:VEVENT
BEGIN:VEVENT
DTSTAMP:20260422T210223
DTSTART;TZID=Europe/Berlin:20260317T090000
DTEND;TZID=Europe/Berlin:20260317T160000
UID:261BF20070-20260317T090000@VHSUNTERLAND
SUMMARY:Kreativ ins neue Semester  Ausstellung im Rathaus (261BF20070) 
LOCATION:bf Rathaus, Foyer, Rathausplatz 1, 74177 Bad Friedrichshall
END:VEVENT
BEGIN:VEVENT
DTSTAMP:20260422T210223
DTSTART;TZID=Europe/Berlin:20260319T090000
DTEND;TZID=Europe/Berlin:20260319T160000
UID:261BF20070-20260319T090000@VHSUNTERLAND
SUMMARY:Kreativ ins neue Semester  Ausstellung im Rathaus (261BF20070) 
LOCATION:bf Rathaus, Foyer, Rathausplatz 1, 74177 Bad Friedrichshall
END:VEVENT
BEGIN:VEVENT
DTSTAMP:20260422T210223
DTSTART;TZID=Europe/Berlin:20260323T090000
DTEND;TZID=Europe/Berlin:20260323T160000
UID:261BF20070-20260323T090000@VHSUNTERLAND
SUMMARY:Kreativ ins neue Semester  Ausstellung im Rathaus (261BF20070) 
LOCATION:bf Rathaus, Foyer, Rathausplatz 1, 74177 Bad Friedrichshall
END:VEVENT
BEGIN:VEVENT
DTSTAMP:20260422T210223
DTSTART;TZID=Europe/Berlin:20260324T090000
DTEND;TZID=Europe/Berlin:20260324T160000
UID:261BF20070-20260324T090000@VHSUNTERLAND
SUMMARY:Kreativ ins neue Semester  Ausstellung im Rathaus (261BF20070) 
LOCATION:bf Rathaus, Foyer, Rathausplatz 1, 74177 Bad Friedrichshall
END:VEVENT
BEGIN:VEVENT
DTSTAMP:20260422T210223
DTSTART;TZID=Europe/Berlin:20260326T090000
DTEND;TZID=Europe/Berlin:20260326T160000
UID:261BF20070-20260326T090000@VHSUNTERLAND
SUMMARY:Kreativ ins neue Semester  Ausstellung im Rathaus (261BF20070) 
LOCATION:bf Rathaus, Foyer, Rathausplatz 1, 74177 Bad Friedrichshall
END:VEVENT
BEGIN:VEVENT
DTSTAMP:20260422T210223
DTSTART;TZID=Europe/Berlin:20260330T090000
DTEND;TZID=Europe/Berlin:20260330T160000
UID:261BF20070-20260330T090000@VHSUNTERLAND
SUMMARY:Kreativ ins neue Semester  Ausstellung im Rathaus (261BF20070) 
LOCATION:bf Rathaus, Foyer, Rathausplatz 1, 74177 Bad Friedrichshall
END:VEVENT
BEGIN:VEVENT
DTSTAMP:20260422T210223
DTSTART;TZID=Europe/Berlin:20260331T090000
DTEND;TZID=Europe/Berlin:20260331T160000
UID:261BF20070-20260331T090000@VHSUNTERLAND
SUMMARY:Kreativ ins neue Semester  Ausstellung im Rathaus (261BF20070) 
LOCATION:bf Rathaus, Foyer, Rathausplatz 1, 74177 Bad Friedrichshall
END:VEVENT
BEGIN:VEVENT
DTSTAMP:20260422T210223
DTSTART;TZID=Europe/Berlin:20260402T090000
DTEND;TZID=Europe/Berlin:20260402T160000
UID:261BF20070-20260402T090000@VHSUNTERLAND
SUMMARY:Kreativ ins neue Semester  Ausstellung im Rathaus (261BF20070) 
LOCATION:bf Rathaus, Foyer, Rathausplatz 1, 74177 Bad Friedrichshall
END:VEVENT
BEGIN:VEVENT
DTSTAMP:20260422T210223
DTSTART;TZID=Europe/Berlin:20260406T090000
DTEND;TZID=Europe/Berlin:20260406T160000
UID:261BF20070-20260406T090000@VHSUNTERLAND
SUMMARY:Kreativ ins neue Semester  Ausstellung im Rathaus (261BF20070) 
LOCATION:bf Rathaus, Foyer, Rathausplatz 1, 74177 Bad Friedrichshall
END:VEVENT
BEGIN:VEVENT
DTSTAMP:20260422T210223
DTSTART;TZID=Europe/Berlin:20260407T090000
DTEND;TZID=Europe/Berlin:20260407T160000
UID:261BF20070-20260407T090000@VHSUNTERLAND
SUMMARY:Kreativ ins neue Semester  Ausstellung im Rathaus (261BF20070) 
LOCATION:bf Rathaus, Foyer, Rathausplatz 1, 74177 Bad Friedrichshall
END:VEVENT
BEGIN:VEVENT
DTSTAMP:20260422T210223
DTSTART;TZID=Europe/Berlin:20260409T090000
DTEND;TZID=Europe/Berlin:20260409T160000
UID:261BF20070-20260409T090000@VHSUNTERLAND
SUMMARY:Kreativ ins neue Semester  Ausstellung im Rathaus (261BF20070) 
LOCATION:bf Rathaus, Foyer, Rathausplatz 1, 74177 Bad Friedrichshall
END:VEVENT
BEGIN:VEVENT
DTSTAMP:20260422T210223
DTSTART;TZID=Europe/Berlin:20260413T090000
DTEND;TZID=Europe/Berlin:20260413T160000
UID:261BF20070-20260413T090000@VHSUNTERLAND
SUMMARY:Kreativ ins neue Semester  Ausstellung im Rathaus (261BF20070) 
LOCATION:bf Rathaus, Foyer, Rathausplatz 1, 74177 Bad Friedrichshall
END:VEVENT
BEGIN:VEVENT
DTSTAMP:20260422T210223
DTSTART;TZID=Europe/Berlin:20260414T090000
DTEND;TZID=Europe/Berlin:20260414T160000
UID:261BF20070-20260414T090000@VHSUNTERLAND
SUMMARY:Kreativ ins neue Semester  Ausstellung im Rathaus (261BF20070) 
LOCATION:bf Rathaus, Foyer, Rathausplatz 1, 74177 Bad Friedrichshall
END:VEVENT
BEGIN:VEVENT
DTSTAMP:20260422T210223
DTSTART;TZID=Europe/Berlin:20260416T090000
DTEND;TZID=Europe/Berlin:20260416T160000
UID:261BF20070-20260416T090000@VHSUNTERLAND
SUMMARY:Kreativ ins neue Semester  Ausstellung im Rathaus (261BF20070) 
LOCATION:bf Rathaus, Foyer, Rathausplatz 1, 74177 Bad Friedrichshall
END:VEVENT
BEGIN:VEVENT
DTSTAMP:20260422T210223
DTSTART;TZID=Europe/Berlin:20260420T090000
DTEND;TZID=Europe/Berlin:20260420T160000
UID:261BF20070-20260420T090000@VHSUNTERLAND
SUMMARY:Kreativ ins neue Semester  Ausstellung im Rathaus (261BF20070) 
LOCATION:bf Rathaus, Foyer, Rathausplatz 1, 74177 Bad Friedrichshall
END:VEVENT
BEGIN:VEVENT
DTSTAMP:20260422T210223
DTSTART;TZID=Europe/Berlin:20260421T090000
DTEND;TZID=Europe/Berlin:20260421T160000
UID:261BF20070-20260421T090000@VHSUNTERLAND
SUMMARY:Kreativ ins neue Semester  Ausstellung im Rathaus (261BF20070) 
LOCATION:bf Rathaus, Foyer, Rathausplatz 1, 74177 Bad Friedrichshall
END:VEVENT
BEGIN:VEVENT
DTSTAMP:20260422T210223
DTSTART;TZID=Europe/Berlin:20260423T090000
DTEND;TZID=Europe/Berlin:20260423T160000
UID:261BF20070-20260423T090000@VHSUNTERLAND
SUMMARY:Kreativ ins neue Semester  Ausstellung im Rathaus (261BF20070) 
LOCATION:bf Rathaus, Foyer, Rathausplatz 1, 74177 Bad Friedrichshall
END:VEVENT
BEGIN:VEVENT
DTSTAMP:20260422T210223
DTSTART;TZID=Europe/Berlin:20260427T090000
DTEND;TZID=Europe/Berlin:20260427T160000
UID:261BF20070-20260427T090000@VHSUNTERLAND
SUMMARY:Kreativ ins neue Semester  Ausstellung im Rathaus (261BF20070) 
LOCATION:bf Rathaus, Foyer, Rathausplatz 1, 74177 Bad Friedrichshall
END:VEVENT
BEGIN:VEVENT
DTSTAMP:20260422T210223
DTSTART;TZID=Europe/Berlin:20260428T090000
DTEND;TZID=Europe/Berlin:20260428T160000
UID:261BF20070-20260428T090000@VHSUNTERLAND
SUMMARY:Kreativ ins neue Semester  Ausstellung im Rathaus (261BF20070) 
LOCATION:bf Rathaus, Foyer, Rathausplatz 1, 74177 Bad Friedrichshall
END:VEVENT
BEGIN:VEVENT
DTSTAMP:20260422T210223
DTSTART;TZID=Europe/Berlin:20260430T090000
DTEND;TZID=Europe/Berlin:20260430T160000
UID:261BF20070-20260430T090000@VHSUNTERLAND
SUMMARY:Kreativ ins neue Semester  Ausstellung im Rathaus (261BF20070) 
LOCATION:bf Rathaus, Foyer, Rathausplatz 1, 74177 Bad Friedrichshall
END:VEVENT
BEGIN:VEVENT
DTSTAMP:20260422T210223
DTSTART;TZID=Europe/Berlin:20260504T090000
DTEND;TZID=Europe/Berlin:20260504T160000
UID:261BF20070-20260504T090000@VHSUNTERLAND
SUMMARY:Kreativ ins neue Semester  Ausstellung im Rathaus (261BF20070) 
LOCATION:bf Rathaus, Foyer, Rathausplatz 1, 74177 Bad Friedrichshall
END:VEVENT
BEGIN:VEVENT
DTSTAMP:20260422T210223
DTSTART;TZID=Europe/Berlin:20260505T090000
DTEND;TZID=Europe/Berlin:20260505T160000
UID:261BF20070-20260505T090000@VHSUNTERLAND
SUMMARY:Kreativ ins neue Semester  Ausstellung im Rathaus (261BF20070) 
LOCATION:bf Rathaus, Foyer, Rathausplatz 1, 74177 Bad Friedrichshall
END:VEVENT
BEGIN:VEVENT
DTSTAMP:20260422T210223
DTSTART;TZID=Europe/Berlin:20260507T090000
DTEND;TZID=Europe/Berlin:20260507T160000
UID:261BF20070-20260507T090000@VHSUNTERLAND
SUMMARY:Kreativ ins neue Semester  Ausstellung im Rathaus (261BF20070) 
LOCATION:bf Rathaus, Foyer, Rathausplatz 1, 74177 Bad Friedrichshall
END:VEVENT
BEGIN:VEVENT
DTSTAMP:20260422T210223
DTSTART;TZID=Europe/Berlin:20260511T090000
DTEND;TZID=Europe/Berlin:20260511T160000
UID:261BF20070-20260511T090000@VHSUNTERLAND
SUMMARY:Kreativ ins neue Semester  Ausstellung im Rathaus (261BF20070) 
LOCATION:bf Rathaus, Foyer, Rathausplatz 1, 74177 Bad Friedrichshall
END:VEVENT
BEGIN:VEVENT
DTSTAMP:20260422T210223
DTSTART;TZID=Europe/Berlin:20260512T090000
DTEND;TZID=Europe/Berlin:20260512T160000
UID:261BF20070-20260512T090000@VHSUNTERLAND
SUMMARY:Kreativ ins neue Semester  Ausstellung im Rathaus (261BF20070) 
LOCATION:bf Rathaus, Foyer, Rathausplatz 1, 74177 Bad Friedrichshall
END:VEVENT
BEGIN:VEVENT
DTSTAMP:20260422T210223
DTSTART;TZID=Europe/Berlin:20260514T090000
DTEND;TZID=Europe/Berlin:20260514T160000
UID:261BF20070-20260514T090000@VHSUNTERLAND
SUMMARY:Kreativ ins neue Semester  Ausstellung im Rathaus (261BF20070) 
LOCATION:bf Rathaus, Foyer, Rathausplatz 1, 74177 Bad Friedrichshall
END:VEVENT
BEGIN:VEVENT
DTSTAMP:20260422T210223
DTSTART;TZID=Europe/Berlin:20260518T090000
DTEND;TZID=Europe/Berlin:20260518T160000
UID:261BF20070-20260518T090000@VHSUNTERLAND
SUMMARY:Kreativ ins neue Semester  Ausstellung im Rathaus (261BF20070) 
LOCATION:bf Rathaus, Foyer, Rathausplatz 1, 74177 Bad Friedrichshall
END:VEVENT
BEGIN:VEVENT
DTSTAMP:20260422T210223
DTSTART;TZID=Europe/Berlin:20260519T090000
DTEND;TZID=Europe/Berlin:20260519T160000
UID:261BF20070-20260519T090000@VHSUNTERLAND
SUMMARY:Kreativ ins neue Semester  Ausstellung im Rathaus (261BF20070) 
LOCATION:bf Rathaus, Foyer, Rathausplatz 1, 74177 Bad Friedrichshall
END:VEVENT
BEGIN:VEVENT
DTSTAMP:20260422T210223
DTSTART;TZID=Europe/Berlin:20260521T090000
DTEND;TZID=Europe/Berlin:20260521T160000
UID:261BF20070-20260521T090000@VHSUNTERLAND
SUMMARY:Kreativ ins neue Semester  Ausstellung im Rathaus (261BF20070) 
LOCATION:bf Rathaus, Foyer, Rathausplatz 1, 74177 Bad Friedrichshall
END:VEVENT
BEGIN:VEVENT
DTSTAMP:20260422T210223
DTSTART;TZID=Europe/Berlin:20260525T090000
DTEND;TZID=Europe/Berlin:20260525T160000
UID:261BF20070-20260525T090000@VHSUNTERLAND
SUMMARY:Kreativ ins neue Semester  Ausstellung im Rathaus (261BF20070) 
LOCATION:bf Rathaus, Foyer, Rathausplatz 1, 74177 Bad Friedrichshall
END:VEVENT
BEGIN:VEVENT
DTSTAMP:20260422T210223
DTSTART;TZID=Europe/Berlin:20260526T090000
DTEND;TZID=Europe/Berlin:20260526T160000
UID:261BF20070-20260526T090000@VHSUNTERLAND
SUMMARY:Kreativ ins neue Semester  Ausstellung im Rathaus (261BF20070) 
LOCATION:bf Rathaus, Foyer, Rathausplatz 1, 74177 Bad Friedrichshall
END:VEVENT
BEGIN:VEVENT
DTSTAMP:20260422T210223
DTSTART;TZID=Europe/Berlin:20260528T090000
DTEND;TZID=Europe/Berlin:20260528T160000
UID:261BF20070-20260528T090000@VHSUNTERLAND
SUMMARY:Kreativ ins neue Semester  Ausstellung im Rathaus (261BF20070) 
LOCATION:bf Rathaus, Foyer, Rathausplatz 1, 74177 Bad Friedrichshall
END:VEVENT
BEGIN:VEVENT
DTSTAMP:20260422T210223
DTSTART;TZID=Europe/Berlin:20260601T090000
DTEND;TZID=Europe/Berlin:20260601T160000
UID:261BF20070-20260601T090000@VHSUNTERLAND
SUMMARY:Kreativ ins neue Semester  Ausstellung im Rathaus (261BF20070) 
LOCATION:bf Rathaus, Foyer, Rathausplatz 1, 74177 Bad Friedrichshall
END:VEVENT
BEGIN:VEVENT
DTSTAMP:20260422T210223
DTSTART;TZID=Europe/Berlin:20260602T090000
DTEND;TZID=Europe/Berlin:20260602T160000
UID:261BF20070-20260602T090000@VHSUNTERLAND
SUMMARY:Kreativ ins neue Semester  Ausstellung im Rathaus (261BF20070) 
LOCATION:bf Rathaus, Foyer, Rathausplatz 1, 74177 Bad Friedrichshall
END:VEVENT
END:VCALENDAR