BEGIN:VCALENDAR
VERSION:2.0
PRODID:http://www.kufer.de/kuferweb / DE
METHOD:PUBLISH
CALSCALE:GREGORIAN
X-WR-TIMEZONE:Europe/Berlin
BEGIN:VTIMEZONE
TZID:Europe/Berlin
X-LIC-LOCATION:Europe/Berlin
BEGIN:DAYLIGHT
TZOFFSETFROM:+0100
TZOFFSETTO:+0200
TZNAME:CEST
DTSTART;TZID=Europe/Berlin:19700329T020000
RRULE:FREQ=YEARLY;INTERVAL=1;BYDAY=-1SU;BYMONTH=3
END:DAYLIGHT
BEGIN:STANDARD
TZOFFSETFROM:+0200
TZOFFSETTO:+0100
TZNAME:CET
DTSTART;TZID=Europe/Berlin:19701025T030000
RRULE:FREQ=YEARLY;INTERVAL=1;BYDAY=-1SU;BYMONTH=10
END:STANDARD
END:VTIMEZONE
BEGIN:VEVENT
DTSTAMP:20260419T164222
DTSTART;TZID=Europe/Berlin:20260313T080000
DTEND;TZID=Europe/Berlin:20260313T084500
UID:261AB40691-20260313T080000@VHSUNTERLAND
SUMMARY:Spielerisch Englisch lernen für Kindergartenkinder ab 4 Jahren (261AB40691) 
LOCATION:ab Kita PanaMa, Im Überrück 2, 74232 Abstatt
END:VEVENT
BEGIN:VEVENT
DTSTAMP:20260419T164222
DTSTART;TZID=Europe/Berlin:20260320T080000
DTEND;TZID=Europe/Berlin:20260320T084500
UID:261AB40691-20260320T080000@VHSUNTERLAND
SUMMARY:Spielerisch Englisch lernen für Kindergartenkinder ab 4 Jahren (261AB40691) 
LOCATION:ab Kita PanaMa, Im Überrück 2, 74232 Abstatt
END:VEVENT
BEGIN:VEVENT
DTSTAMP:20260419T164222
DTSTART;TZID=Europe/Berlin:20260327T080000
DTEND;TZID=Europe/Berlin:20260327T084500
UID:261AB40691-20260327T080000@VHSUNTERLAND
SUMMARY:Spielerisch Englisch lernen für Kindergartenkinder ab 4 Jahren (261AB40691) 
LOCATION:ab Kita PanaMa, Im Überrück 2, 74232 Abstatt
END:VEVENT
BEGIN:VEVENT
DTSTAMP:20260419T164222
DTSTART;TZID=Europe/Berlin:20260417T080000
DTEND;TZID=Europe/Berlin:20260417T084500
UID:261AB40691-20260417T080000@VHSUNTERLAND
SUMMARY:Spielerisch Englisch lernen für Kindergartenkinder ab 4 Jahren (261AB40691) 
LOCATION:ab Kita PanaMa, Im Überrück 2, 74232 Abstatt
END:VEVENT
BEGIN:VEVENT
DTSTAMP:20260419T164222
DTSTART;TZID=Europe/Berlin:20260424T080000
DTEND;TZID=Europe/Berlin:20260424T084500
UID:261AB40691-20260424T080000@VHSUNTERLAND
SUMMARY:Spielerisch Englisch lernen für Kindergartenkinder ab 4 Jahren (261AB40691) 
LOCATION:ab Kita PanaMa, Im Überrück 2, 74232 Abstatt
END:VEVENT
END:VCALENDAR