BEGIN:VCALENDAR
VERSION:2.0
PRODID:http://www.kufer.de/kuferweb / DE
METHOD:PUBLISH
CALSCALE:GREGORIAN
X-WR-TIMEZONE:Europe/Berlin
BEGIN:VTIMEZONE
TZID:Europe/Berlin
X-LIC-LOCATION:Europe/Berlin
BEGIN:DAYLIGHT
TZOFFSETFROM:+0100
TZOFFSETTO:+0200
TZNAME:CEST
DTSTART;TZID=Europe/Berlin:19700329T020000
RRULE:FREQ=YEARLY;INTERVAL=1;BYDAY=-1SU;BYMONTH=3
END:DAYLIGHT
BEGIN:STANDARD
TZOFFSETFROM:+0200
TZOFFSETTO:+0100
TZNAME:CET
DTSTART;TZID=Europe/Berlin:19701025T030000
RRULE:FREQ=YEARLY;INTERVAL=1;BYDAY=-1SU;BYMONTH=10
END:STANDARD
END:VTIMEZONE
BEGIN:VEVENT
DTSTAMP:20260421T191205
DTSTART;TZID=Europe/Berlin:20260225T192500
DTEND;TZID=Europe/Berlin:20260225T202500
UID:261AB30260-20260225T192500@VHSUNTERLAND
SUMMARY:Power Fitness-Mix (261AB30260) 
LOCATION:ab Vereinszentrum, Turnhalle, Goldschmiedstraße 14, 74232 Abstatt
END:VEVENT
BEGIN:VEVENT
DTSTAMP:20260421T191205
DTSTART;TZID=Europe/Berlin:20260304T192500
DTEND;TZID=Europe/Berlin:20260304T202500
UID:261AB30260-20260304T192500@VHSUNTERLAND
SUMMARY:Power Fitness-Mix (261AB30260) 
LOCATION:ab Vereinszentrum, Turnhalle, Goldschmiedstraße 14, 74232 Abstatt
END:VEVENT
BEGIN:VEVENT
DTSTAMP:20260421T191205
DTSTART;TZID=Europe/Berlin:20260311T192500
DTEND;TZID=Europe/Berlin:20260311T202500
UID:261AB30260-20260311T192500@VHSUNTERLAND
SUMMARY:Power Fitness-Mix (261AB30260) 
LOCATION:ab Vereinszentrum, Turnhalle, Goldschmiedstraße 14, 74232 Abstatt
END:VEVENT
BEGIN:VEVENT
DTSTAMP:20260421T191205
DTSTART;TZID=Europe/Berlin:20260318T192500
DTEND;TZID=Europe/Berlin:20260318T202500
UID:261AB30260-20260318T192500@VHSUNTERLAND
SUMMARY:Power Fitness-Mix (261AB30260) 
LOCATION:ab Vereinszentrum, Turnhalle, Goldschmiedstraße 14, 74232 Abstatt
END:VEVENT
BEGIN:VEVENT
DTSTAMP:20260421T191205
DTSTART;TZID=Europe/Berlin:20260325T192500
DTEND;TZID=Europe/Berlin:20260325T202500
UID:261AB30260-20260325T192500@VHSUNTERLAND
SUMMARY:Power Fitness-Mix (261AB30260) 
LOCATION:ab Vereinszentrum, Turnhalle, Goldschmiedstraße 14, 74232 Abstatt
END:VEVENT
BEGIN:VEVENT
DTSTAMP:20260421T191205
DTSTART;TZID=Europe/Berlin:20260415T192500
DTEND;TZID=Europe/Berlin:20260415T202500
UID:261AB30260-20260415T192500@VHSUNTERLAND
SUMMARY:Power Fitness-Mix (261AB30260) 
LOCATION:ab Vereinszentrum, Turnhalle, Goldschmiedstraße 14, 74232 Abstatt
END:VEVENT
BEGIN:VEVENT
DTSTAMP:20260421T191205
DTSTART;TZID=Europe/Berlin:20260422T192500
DTEND;TZID=Europe/Berlin:20260422T202500
UID:261AB30260-20260422T192500@VHSUNTERLAND
SUMMARY:Power Fitness-Mix (261AB30260) 
LOCATION:ab Vereinszentrum, Turnhalle, Goldschmiedstraße 14, 74232 Abstatt
END:VEVENT
BEGIN:VEVENT
DTSTAMP:20260421T191205
DTSTART;TZID=Europe/Berlin:20260429T192500
DTEND;TZID=Europe/Berlin:20260429T202500
UID:261AB30260-20260429T192500@VHSUNTERLAND
SUMMARY:Power Fitness-Mix (261AB30260) 
LOCATION:ab Vereinszentrum, Turnhalle, Goldschmiedstraße 14, 74232 Abstatt
END:VEVENT
BEGIN:VEVENT
DTSTAMP:20260421T191205
DTSTART;TZID=Europe/Berlin:20260506T192500
DTEND;TZID=Europe/Berlin:20260506T202500
UID:261AB30260-20260506T192500@VHSUNTERLAND
SUMMARY:Power Fitness-Mix (261AB30260) 
LOCATION:ab Vereinszentrum, Turnhalle, Goldschmiedstraße 14, 74232 Abstatt
END:VEVENT
BEGIN:VEVENT
DTSTAMP:20260421T191205
DTSTART;TZID=Europe/Berlin:20260513T192500
DTEND;TZID=Europe/Berlin:20260513T202500
UID:261AB30260-20260513T192500@VHSUNTERLAND
SUMMARY:Power Fitness-Mix (261AB30260) 
LOCATION:ab Vereinszentrum, Turnhalle, Goldschmiedstraße 14, 74232 Abstatt
END:VEVENT
BEGIN:VEVENT
DTSTAMP:20260421T191205
DTSTART;TZID=Europe/Berlin:20260520T192500
DTEND;TZID=Europe/Berlin:20260520T202500
UID:261AB30260-20260520T192500@VHSUNTERLAND
SUMMARY:Power Fitness-Mix (261AB30260) 
LOCATION:ab Vereinszentrum, Turnhalle, Goldschmiedstraße 14, 74232 Abstatt
END:VEVENT
BEGIN:VEVENT
DTSTAMP:20260421T191205
DTSTART;TZID=Europe/Berlin:20260610T192500
DTEND;TZID=Europe/Berlin:20260610T202500
UID:261AB30260-20260610T192500@VHSUNTERLAND
SUMMARY:Power Fitness-Mix (261AB30260) 
LOCATION:ab Vereinszentrum, Turnhalle, Goldschmiedstraße 14, 74232 Abstatt
END:VEVENT
BEGIN:VEVENT
DTSTAMP:20260421T191205
DTSTART;TZID=Europe/Berlin:20260617T192500
DTEND;TZID=Europe/Berlin:20260617T202500
UID:261AB30260-20260617T192500@VHSUNTERLAND
SUMMARY:Power Fitness-Mix (261AB30260) 
LOCATION:ab Vereinszentrum, Turnhalle, Goldschmiedstraße 14, 74232 Abstatt
END:VEVENT
BEGIN:VEVENT
DTSTAMP:20260421T191205
DTSTART;TZID=Europe/Berlin:20260624T192500
DTEND;TZID=Europe/Berlin:20260624T202500
UID:261AB30260-20260624T192500@VHSUNTERLAND
SUMMARY:Power Fitness-Mix (261AB30260) 
LOCATION:ab Vereinszentrum, Turnhalle, Goldschmiedstraße 14, 74232 Abstatt
END:VEVENT
END:VCALENDAR