BEGIN:VCALENDAR
VERSION:2.0
PRODID:http://www.kufer.de/kuferweb / DE
METHOD:PUBLISH
CALSCALE:GREGORIAN
X-WR-TIMEZONE:Europe/Berlin
BEGIN:VTIMEZONE
TZID:Europe/Berlin
X-LIC-LOCATION:Europe/Berlin
BEGIN:DAYLIGHT
TZOFFSETFROM:+0100
TZOFFSETTO:+0200
TZNAME:CEST
DTSTART;TZID=Europe/Berlin:19700329T020000
RRULE:FREQ=YEARLY;INTERVAL=1;BYDAY=-1SU;BYMONTH=3
END:DAYLIGHT
BEGIN:STANDARD
TZOFFSETFROM:+0200
TZOFFSETTO:+0100
TZNAME:CET
DTSTART;TZID=Europe/Berlin:19701025T030000
RRULE:FREQ=YEARLY;INTERVAL=1;BYDAY=-1SU;BYMONTH=10
END:STANDARD
END:VTIMEZONE
BEGIN:VEVENT
DTSTAMP:20260423T111712
DTSTART;TZID=Europe/Berlin:20260225T203000
DTEND;TZID=Europe/Berlin:20260225T213000
UID:261AB30250-20260225T203000@VHSUNTERLAND
SUMMARY:Bodyforming und Rückenfitness (261AB30250) 
LOCATION:ab Vereinszentrum, Turnhalle, Goldschmiedstraße 14, 74232 Abstatt
END:VEVENT
BEGIN:VEVENT
DTSTAMP:20260423T111712
DTSTART;TZID=Europe/Berlin:20260304T203000
DTEND;TZID=Europe/Berlin:20260304T213000
UID:261AB30250-20260304T203000@VHSUNTERLAND
SUMMARY:Bodyforming und Rückenfitness (261AB30250) 
LOCATION:ab Vereinszentrum, Turnhalle, Goldschmiedstraße 14, 74232 Abstatt
END:VEVENT
BEGIN:VEVENT
DTSTAMP:20260423T111712
DTSTART;TZID=Europe/Berlin:20260311T203000
DTEND;TZID=Europe/Berlin:20260311T213000
UID:261AB30250-20260311T203000@VHSUNTERLAND
SUMMARY:Bodyforming und Rückenfitness (261AB30250) 
LOCATION:ab Vereinszentrum, Turnhalle, Goldschmiedstraße 14, 74232 Abstatt
END:VEVENT
BEGIN:VEVENT
DTSTAMP:20260423T111712
DTSTART;TZID=Europe/Berlin:20260318T203000
DTEND;TZID=Europe/Berlin:20260318T213000
UID:261AB30250-20260318T203000@VHSUNTERLAND
SUMMARY:Bodyforming und Rückenfitness (261AB30250) 
LOCATION:ab Vereinszentrum, Turnhalle, Goldschmiedstraße 14, 74232 Abstatt
END:VEVENT
BEGIN:VEVENT
DTSTAMP:20260423T111712
DTSTART;TZID=Europe/Berlin:20260325T203000
DTEND;TZID=Europe/Berlin:20260325T213000
UID:261AB30250-20260325T203000@VHSUNTERLAND
SUMMARY:Bodyforming und Rückenfitness (261AB30250) 
LOCATION:ab Vereinszentrum, Turnhalle, Goldschmiedstraße 14, 74232 Abstatt
END:VEVENT
BEGIN:VEVENT
DTSTAMP:20260423T111712
DTSTART;TZID=Europe/Berlin:20260415T203000
DTEND;TZID=Europe/Berlin:20260415T213000
UID:261AB30250-20260415T203000@VHSUNTERLAND
SUMMARY:Bodyforming und Rückenfitness (261AB30250) 
LOCATION:ab Vereinszentrum, Turnhalle, Goldschmiedstraße 14, 74232 Abstatt
END:VEVENT
BEGIN:VEVENT
DTSTAMP:20260423T111712
DTSTART;TZID=Europe/Berlin:20260422T203000
DTEND;TZID=Europe/Berlin:20260422T213000
UID:261AB30250-20260422T203000@VHSUNTERLAND
SUMMARY:Bodyforming und Rückenfitness (261AB30250) 
LOCATION:ab Vereinszentrum, Turnhalle, Goldschmiedstraße 14, 74232 Abstatt
END:VEVENT
BEGIN:VEVENT
DTSTAMP:20260423T111712
DTSTART;TZID=Europe/Berlin:20260429T203000
DTEND;TZID=Europe/Berlin:20260429T213000
UID:261AB30250-20260429T203000@VHSUNTERLAND
SUMMARY:Bodyforming und Rückenfitness (261AB30250) 
LOCATION:ab Vereinszentrum, Turnhalle, Goldschmiedstraße 14, 74232 Abstatt
END:VEVENT
BEGIN:VEVENT
DTSTAMP:20260423T111712
DTSTART;TZID=Europe/Berlin:20260506T203000
DTEND;TZID=Europe/Berlin:20260506T213000
UID:261AB30250-20260506T203000@VHSUNTERLAND
SUMMARY:Bodyforming und Rückenfitness (261AB30250) 
LOCATION:ab Vereinszentrum, Turnhalle, Goldschmiedstraße 14, 74232 Abstatt
END:VEVENT
BEGIN:VEVENT
DTSTAMP:20260423T111712
DTSTART;TZID=Europe/Berlin:20260513T203000
DTEND;TZID=Europe/Berlin:20260513T213000
UID:261AB30250-20260513T203000@VHSUNTERLAND
SUMMARY:Bodyforming und Rückenfitness (261AB30250) 
LOCATION:ab Vereinszentrum, Turnhalle, Goldschmiedstraße 14, 74232 Abstatt
END:VEVENT
BEGIN:VEVENT
DTSTAMP:20260423T111712
DTSTART;TZID=Europe/Berlin:20260520T203000
DTEND;TZID=Europe/Berlin:20260520T213000
UID:261AB30250-20260520T203000@VHSUNTERLAND
SUMMARY:Bodyforming und Rückenfitness (261AB30250) 
LOCATION:ab Vereinszentrum, Turnhalle, Goldschmiedstraße 14, 74232 Abstatt
END:VEVENT
BEGIN:VEVENT
DTSTAMP:20260423T111712
DTSTART;TZID=Europe/Berlin:20260610T203000
DTEND;TZID=Europe/Berlin:20260610T213000
UID:261AB30250-20260610T203000@VHSUNTERLAND
SUMMARY:Bodyforming und Rückenfitness (261AB30250) 
LOCATION:ab Vereinszentrum, Turnhalle, Goldschmiedstraße 14, 74232 Abstatt
END:VEVENT
BEGIN:VEVENT
DTSTAMP:20260423T111712
DTSTART;TZID=Europe/Berlin:20260617T203000
DTEND;TZID=Europe/Berlin:20260617T213000
UID:261AB30250-20260617T203000@VHSUNTERLAND
SUMMARY:Bodyforming und Rückenfitness (261AB30250) 
LOCATION:ab Vereinszentrum, Turnhalle, Goldschmiedstraße 14, 74232 Abstatt
END:VEVENT
BEGIN:VEVENT
DTSTAMP:20260423T111712
DTSTART;TZID=Europe/Berlin:20260624T203000
DTEND;TZID=Europe/Berlin:20260624T213000
UID:261AB30250-20260624T203000@VHSUNTERLAND
SUMMARY:Bodyforming und Rückenfitness (261AB30250) 
LOCATION:ab Vereinszentrum, Turnhalle, Goldschmiedstraße 14, 74232 Abstatt
END:VEVENT
END:VCALENDAR