BEGIN:VCALENDAR
VERSION:2.0
PRODID:http://www.kufer.de/kuferweb / DE
METHOD:PUBLISH
CALSCALE:GREGORIAN
X-WR-TIMEZONE:Europe/Berlin
BEGIN:VTIMEZONE
TZID:Europe/Berlin
X-LIC-LOCATION:Europe/Berlin
BEGIN:DAYLIGHT
TZOFFSETFROM:+0100
TZOFFSETTO:+0200
TZNAME:CEST
DTSTART;TZID=Europe/Berlin:19700329T020000
RRULE:FREQ=YEARLY;INTERVAL=1;BYDAY=-1SU;BYMONTH=3
END:DAYLIGHT
BEGIN:STANDARD
TZOFFSETFROM:+0200
TZOFFSETTO:+0100
TZNAME:CET
DTSTART;TZID=Europe/Berlin:19701025T030000
RRULE:FREQ=YEARLY;INTERVAL=1;BYDAY=-1SU;BYMONTH=10
END:STANDARD
END:VTIMEZONE
BEGIN:VEVENT
DTSTAMP:20260424T135145
DTSTART;TZID=Europe/Berlin:20260223T184000
DTEND;TZID=Europe/Berlin:20260223T194000
UID:261AB30224-20260223T184000@VHSUNTERLAND
SUMMARY:Rückenfit (261AB30224) 
LOCATION:ab FiZ (Familie im Zentrum), Beilsteiner Straße 5, 74232 Abstatt
END:VEVENT
BEGIN:VEVENT
DTSTAMP:20260424T135145
DTSTART;TZID=Europe/Berlin:20260302T184000
DTEND;TZID=Europe/Berlin:20260302T194000
UID:261AB30224-20260302T184000@VHSUNTERLAND
SUMMARY:Rückenfit (261AB30224) 
LOCATION:ab FiZ (Familie im Zentrum), Beilsteiner Straße 5, 74232 Abstatt
END:VEVENT
BEGIN:VEVENT
DTSTAMP:20260424T135145
DTSTART;TZID=Europe/Berlin:20260309T184000
DTEND;TZID=Europe/Berlin:20260309T194000
UID:261AB30224-20260309T184000@VHSUNTERLAND
SUMMARY:Rückenfit (261AB30224) 
LOCATION:ab FiZ (Familie im Zentrum), Beilsteiner Straße 5, 74232 Abstatt
END:VEVENT
BEGIN:VEVENT
DTSTAMP:20260424T135145
DTSTART;TZID=Europe/Berlin:20260316T184000
DTEND;TZID=Europe/Berlin:20260316T194000
UID:261AB30224-20260316T184000@VHSUNTERLAND
SUMMARY:Rückenfit (261AB30224) 
LOCATION:ab FiZ (Familie im Zentrum), Beilsteiner Straße 5, 74232 Abstatt
END:VEVENT
BEGIN:VEVENT
DTSTAMP:20260424T135145
DTSTART;TZID=Europe/Berlin:20260323T184000
DTEND;TZID=Europe/Berlin:20260323T194000
UID:261AB30224-20260323T184000@VHSUNTERLAND
SUMMARY:Rückenfit (261AB30224) 
LOCATION:ab FiZ (Familie im Zentrum), Beilsteiner Straße 5, 74232 Abstatt
END:VEVENT
BEGIN:VEVENT
DTSTAMP:20260424T135145
DTSTART;TZID=Europe/Berlin:20260413T184000
DTEND;TZID=Europe/Berlin:20260413T194000
UID:261AB30224-20260413T184000@VHSUNTERLAND
SUMMARY:Rückenfit (261AB30224) 
LOCATION:ab FiZ (Familie im Zentrum), Beilsteiner Straße 5, 74232 Abstatt
END:VEVENT
BEGIN:VEVENT
DTSTAMP:20260424T135145
DTSTART;TZID=Europe/Berlin:20260420T184000
DTEND;TZID=Europe/Berlin:20260420T194000
UID:261AB30224-20260420T184000@VHSUNTERLAND
SUMMARY:Rückenfit (261AB30224) 
LOCATION:ab FiZ (Familie im Zentrum), Beilsteiner Straße 5, 74232 Abstatt
END:VEVENT
BEGIN:VEVENT
DTSTAMP:20260424T135145
DTSTART;TZID=Europe/Berlin:20260504T184000
DTEND;TZID=Europe/Berlin:20260504T194000
UID:261AB30224-20260504T184000@VHSUNTERLAND
SUMMARY:Rückenfit (261AB30224) 
LOCATION:ab FiZ (Familie im Zentrum), Beilsteiner Straße 5, 74232 Abstatt
END:VEVENT
BEGIN:VEVENT
DTSTAMP:20260424T135145
DTSTART;TZID=Europe/Berlin:20260511T184000
DTEND;TZID=Europe/Berlin:20260511T194000
UID:261AB30224-20260511T184000@VHSUNTERLAND
SUMMARY:Rückenfit (261AB30224) 
LOCATION:ab FiZ (Familie im Zentrum), Beilsteiner Straße 5, 74232 Abstatt
END:VEVENT
BEGIN:VEVENT
DTSTAMP:20260424T135145
DTSTART;TZID=Europe/Berlin:20260518T184000
DTEND;TZID=Europe/Berlin:20260518T194000
UID:261AB30224-20260518T184000@VHSUNTERLAND
SUMMARY:Rückenfit (261AB30224) 
LOCATION:ab FiZ (Familie im Zentrum), Beilsteiner Straße 5, 74232 Abstatt
END:VEVENT
BEGIN:VEVENT
DTSTAMP:20260424T135145
DTSTART;TZID=Europe/Berlin:20260608T184000
DTEND;TZID=Europe/Berlin:20260608T194000
UID:261AB30224-20260608T184000@VHSUNTERLAND
SUMMARY:Rückenfit (261AB30224) 
LOCATION:ab FiZ (Familie im Zentrum), Beilsteiner Straße 5, 74232 Abstatt
END:VEVENT
BEGIN:VEVENT
DTSTAMP:20260424T135145
DTSTART;TZID=Europe/Berlin:20260615T184000
DTEND;TZID=Europe/Berlin:20260615T194000
UID:261AB30224-20260615T184000@VHSUNTERLAND
SUMMARY:Rückenfit (261AB30224) 
LOCATION:ab FiZ (Familie im Zentrum), Beilsteiner Straße 5, 74232 Abstatt
END:VEVENT
BEGIN:VEVENT
DTSTAMP:20260424T135145
DTSTART;TZID=Europe/Berlin:20260622T184000
DTEND;TZID=Europe/Berlin:20260622T194000
UID:261AB30224-20260622T184000@VHSUNTERLAND
SUMMARY:Rückenfit (261AB30224) 
LOCATION:ab FiZ (Familie im Zentrum), Beilsteiner Straße 5, 74232 Abstatt
END:VEVENT
END:VCALENDAR