BEGIN:VCALENDAR
VERSION:2.0
PRODID:http://www.kufer.de/kuferweb / DE
METHOD:PUBLISH
CALSCALE:GREGORIAN
X-WR-TIMEZONE:Europe/Berlin
BEGIN:VTIMEZONE
TZID:Europe/Berlin
X-LIC-LOCATION:Europe/Berlin
BEGIN:DAYLIGHT
TZOFFSETFROM:+0100
TZOFFSETTO:+0200
TZNAME:CEST
DTSTART;TZID=Europe/Berlin:19700329T020000
RRULE:FREQ=YEARLY;INTERVAL=1;BYDAY=-1SU;BYMONTH=3
END:DAYLIGHT
BEGIN:STANDARD
TZOFFSETFROM:+0200
TZOFFSETTO:+0100
TZNAME:CET
DTSTART;TZID=Europe/Berlin:19701025T030000
RRULE:FREQ=YEARLY;INTERVAL=1;BYDAY=-1SU;BYMONTH=10
END:STANDARD
END:VTIMEZONE
BEGIN:VEVENT
DTSTAMP:20260421T215845
DTSTART;TZID=Europe/Berlin:20260126T193500
DTEND;TZID=Europe/Berlin:20260126T203500
UID:261AB30221-20260126T193500@VHSUNTERLAND
SUMMARY:Wirbelsäulenfitness (261AB30221) 
LOCATION:ab Vereinszentrum, Versammlungsraum, Goldschmiedstraße 14, 74232 Abstatt
END:VEVENT
BEGIN:VEVENT
DTSTAMP:20260421T215845
DTSTART;TZID=Europe/Berlin:20260202T193500
DTEND;TZID=Europe/Berlin:20260202T203500
UID:261AB30221-20260202T193500@VHSUNTERLAND
SUMMARY:Wirbelsäulenfitness (261AB30221) 
LOCATION:ab Vereinszentrum, Versammlungsraum, Goldschmiedstraße 14, 74232 Abstatt
END:VEVENT
BEGIN:VEVENT
DTSTAMP:20260421T215845
DTSTART;TZID=Europe/Berlin:20260209T193500
DTEND;TZID=Europe/Berlin:20260209T203500
UID:261AB30221-20260209T193500@VHSUNTERLAND
SUMMARY:Wirbelsäulenfitness (261AB30221) 
LOCATION:ab Vereinszentrum, Versammlungsraum, Goldschmiedstraße 14, 74232 Abstatt
END:VEVENT
BEGIN:VEVENT
DTSTAMP:20260421T215845
DTSTART;TZID=Europe/Berlin:20260223T193500
DTEND;TZID=Europe/Berlin:20260223T203500
UID:261AB30221-20260223T193500@VHSUNTERLAND
SUMMARY:Wirbelsäulenfitness (261AB30221) 
LOCATION:ab Vereinszentrum, Versammlungsraum, Goldschmiedstraße 14, 74232 Abstatt
END:VEVENT
BEGIN:VEVENT
DTSTAMP:20260421T215845
DTSTART;TZID=Europe/Berlin:20260302T193500
DTEND;TZID=Europe/Berlin:20260302T203500
UID:261AB30221-20260302T193500@VHSUNTERLAND
SUMMARY:Wirbelsäulenfitness (261AB30221) 
LOCATION:ab Vereinszentrum, Versammlungsraum, Goldschmiedstraße 14, 74232 Abstatt
END:VEVENT
BEGIN:VEVENT
DTSTAMP:20260421T215845
DTSTART;TZID=Europe/Berlin:20260309T193500
DTEND;TZID=Europe/Berlin:20260309T203500
UID:261AB30221-20260309T193500@VHSUNTERLAND
SUMMARY:Wirbelsäulenfitness (261AB30221) 
LOCATION:ab Vereinszentrum, Versammlungsraum, Goldschmiedstraße 14, 74232 Abstatt
END:VEVENT
BEGIN:VEVENT
DTSTAMP:20260421T215845
DTSTART;TZID=Europe/Berlin:20260316T193500
DTEND;TZID=Europe/Berlin:20260316T203500
UID:261AB30221-20260316T193500@VHSUNTERLAND
SUMMARY:Wirbelsäulenfitness (261AB30221) 
LOCATION:ab Vereinszentrum, Versammlungsraum, Goldschmiedstraße 14, 74232 Abstatt
END:VEVENT
BEGIN:VEVENT
DTSTAMP:20260421T215845
DTSTART;TZID=Europe/Berlin:20260323T193500
DTEND;TZID=Europe/Berlin:20260323T203500
UID:261AB30221-20260323T193500@VHSUNTERLAND
SUMMARY:Wirbelsäulenfitness (261AB30221) 
LOCATION:ab Vereinszentrum, Versammlungsraum, Goldschmiedstraße 14, 74232 Abstatt
END:VEVENT
BEGIN:VEVENT
DTSTAMP:20260421T215845
DTSTART;TZID=Europe/Berlin:20260413T193500
DTEND;TZID=Europe/Berlin:20260413T203500
UID:261AB30221-20260413T193500@VHSUNTERLAND
SUMMARY:Wirbelsäulenfitness (261AB30221) 
LOCATION:ab Vereinszentrum, Versammlungsraum, Goldschmiedstraße 14, 74232 Abstatt
END:VEVENT
BEGIN:VEVENT
DTSTAMP:20260421T215845
DTSTART;TZID=Europe/Berlin:20260420T193500
DTEND;TZID=Europe/Berlin:20260420T203500
UID:261AB30221-20260420T193500@VHSUNTERLAND
SUMMARY:Wirbelsäulenfitness (261AB30221) 
LOCATION:ab Vereinszentrum, Versammlungsraum, Goldschmiedstraße 14, 74232 Abstatt
END:VEVENT
BEGIN:VEVENT
DTSTAMP:20260421T215845
DTSTART;TZID=Europe/Berlin:20260427T193500
DTEND;TZID=Europe/Berlin:20260427T203500
UID:261AB30221-20260427T193500@VHSUNTERLAND
SUMMARY:Wirbelsäulenfitness (261AB30221) 
LOCATION:ab Vereinszentrum, Versammlungsraum, Goldschmiedstraße 14, 74232 Abstatt
END:VEVENT
BEGIN:VEVENT
DTSTAMP:20260421T215845
DTSTART;TZID=Europe/Berlin:20260504T193500
DTEND;TZID=Europe/Berlin:20260504T203500
UID:261AB30221-20260504T193500@VHSUNTERLAND
SUMMARY:Wirbelsäulenfitness (261AB30221) 
LOCATION:ab Vereinszentrum, Versammlungsraum, Goldschmiedstraße 14, 74232 Abstatt
END:VEVENT
BEGIN:VEVENT
DTSTAMP:20260421T215845
DTSTART;TZID=Europe/Berlin:20260511T193500
DTEND;TZID=Europe/Berlin:20260511T203500
UID:261AB30221-20260511T193500@VHSUNTERLAND
SUMMARY:Wirbelsäulenfitness (261AB30221) 
LOCATION:ab Vereinszentrum, Versammlungsraum, Goldschmiedstraße 14, 74232 Abstatt
END:VEVENT
END:VCALENDAR