BEGIN:VCALENDAR
VERSION:2.0
PRODID:http://www.kufer.de/kuferweb / DE
METHOD:PUBLISH
CALSCALE:GREGORIAN
X-WR-TIMEZONE:Europe/Berlin
BEGIN:VTIMEZONE
TZID:Europe/Berlin
X-LIC-LOCATION:Europe/Berlin
BEGIN:DAYLIGHT
TZOFFSETFROM:+0100
TZOFFSETTO:+0200
TZNAME:CEST
DTSTART;TZID=Europe/Berlin:19700329T020000
RRULE:FREQ=YEARLY;INTERVAL=1;BYDAY=-1SU;BYMONTH=3
END:DAYLIGHT
BEGIN:STANDARD
TZOFFSETFROM:+0200
TZOFFSETTO:+0100
TZNAME:CET
DTSTART;TZID=Europe/Berlin:19701025T030000
RRULE:FREQ=YEARLY;INTERVAL=1;BYDAY=-1SU;BYMONTH=10
END:STANDARD
END:VTIMEZONE
BEGIN:VEVENT
DTSTAMP:20260424T211004
DTSTART;TZID=Europe/Berlin:20260224T194000
DTEND;TZID=Europe/Berlin:20260224T204000
UID:261AB30201-20260224T194000@VHSUNTERLAND
SUMMARY:Gesunder Rücken – Starkes Herz Ganzkörperfitness auch für Männer (261AB30201) 
LOCATION:ab Vereinszentrum, Versammlungsraum, Goldschmiedstraße 14, 74232 Abstatt
END:VEVENT
BEGIN:VEVENT
DTSTAMP:20260424T211004
DTSTART;TZID=Europe/Berlin:20260303T194000
DTEND;TZID=Europe/Berlin:20260303T204000
UID:261AB30201-20260303T194000@VHSUNTERLAND
SUMMARY:Gesunder Rücken – Starkes Herz Ganzkörperfitness auch für Männer (261AB30201) 
LOCATION:ab Vereinszentrum, Versammlungsraum, Goldschmiedstraße 14, 74232 Abstatt
END:VEVENT
BEGIN:VEVENT
DTSTAMP:20260424T211004
DTSTART;TZID=Europe/Berlin:20260310T194000
DTEND;TZID=Europe/Berlin:20260310T204000
UID:261AB30201-20260310T194000@VHSUNTERLAND
SUMMARY:Gesunder Rücken – Starkes Herz Ganzkörperfitness auch für Männer (261AB30201) 
LOCATION:ab Vereinszentrum, Versammlungsraum, Goldschmiedstraße 14, 74232 Abstatt
END:VEVENT
BEGIN:VEVENT
DTSTAMP:20260424T211004
DTSTART;TZID=Europe/Berlin:20260317T194000
DTEND;TZID=Europe/Berlin:20260317T204000
UID:261AB30201-20260317T194000@VHSUNTERLAND
SUMMARY:Gesunder Rücken – Starkes Herz Ganzkörperfitness auch für Männer (261AB30201) 
LOCATION:ab Vereinszentrum, Versammlungsraum, Goldschmiedstraße 14, 74232 Abstatt
END:VEVENT
BEGIN:VEVENT
DTSTAMP:20260424T211004
DTSTART;TZID=Europe/Berlin:20260324T194000
DTEND;TZID=Europe/Berlin:20260324T204000
UID:261AB30201-20260324T194000@VHSUNTERLAND
SUMMARY:Gesunder Rücken – Starkes Herz Ganzkörperfitness auch für Männer (261AB30201) 
LOCATION:ab Vereinszentrum, Versammlungsraum, Goldschmiedstraße 14, 74232 Abstatt
END:VEVENT
BEGIN:VEVENT
DTSTAMP:20260424T211004
DTSTART;TZID=Europe/Berlin:20260414T194000
DTEND;TZID=Europe/Berlin:20260414T204000
UID:261AB30201-20260414T194000@VHSUNTERLAND
SUMMARY:Gesunder Rücken – Starkes Herz Ganzkörperfitness auch für Männer (261AB30201) 
LOCATION:ab Vereinszentrum, Versammlungsraum, Goldschmiedstraße 14, 74232 Abstatt
END:VEVENT
BEGIN:VEVENT
DTSTAMP:20260424T211004
DTSTART;TZID=Europe/Berlin:20260421T194000
DTEND;TZID=Europe/Berlin:20260421T204000
UID:261AB30201-20260421T194000@VHSUNTERLAND
SUMMARY:Gesunder Rücken – Starkes Herz Ganzkörperfitness auch für Männer (261AB30201) 
LOCATION:ab Vereinszentrum, Versammlungsraum, Goldschmiedstraße 14, 74232 Abstatt
END:VEVENT
BEGIN:VEVENT
DTSTAMP:20260424T211004
DTSTART;TZID=Europe/Berlin:20260428T194000
DTEND;TZID=Europe/Berlin:20260428T204000
UID:261AB30201-20260428T194000@VHSUNTERLAND
SUMMARY:Gesunder Rücken – Starkes Herz Ganzkörperfitness auch für Männer (261AB30201) 
LOCATION:ab Vereinszentrum, Versammlungsraum, Goldschmiedstraße 14, 74232 Abstatt
END:VEVENT
BEGIN:VEVENT
DTSTAMP:20260424T211004
DTSTART;TZID=Europe/Berlin:20260505T194000
DTEND;TZID=Europe/Berlin:20260505T204000
UID:261AB30201-20260505T194000@VHSUNTERLAND
SUMMARY:Gesunder Rücken – Starkes Herz Ganzkörperfitness auch für Männer (261AB30201) 
LOCATION:ab Vereinszentrum, Versammlungsraum, Goldschmiedstraße 14, 74232 Abstatt
END:VEVENT
BEGIN:VEVENT
DTSTAMP:20260424T211004
DTSTART;TZID=Europe/Berlin:20260609T194000
DTEND;TZID=Europe/Berlin:20260609T204000
UID:261AB30201-20260609T194000@VHSUNTERLAND
DESCRIPTION:Ersatz für Ausfall am 12.05.2026
SUMMARY:Gesunder Rücken – Starkes Herz Ganzkörperfitness auch für Männer (261AB30201) 
LOCATION:ab Vereinszentrum, Versammlungsraum, Goldschmiedstraße 14, 74232 Abstatt
END:VEVENT
BEGIN:VEVENT
DTSTAMP:20260424T211004
DTSTART;TZID=Europe/Berlin:20260616T194000
DTEND;TZID=Europe/Berlin:20260616T204000
UID:261AB30201-20260616T194000@VHSUNTERLAND
DESCRIPTION:Ersatz für Ausfall am 19.05.2026
SUMMARY:Gesunder Rücken – Starkes Herz Ganzkörperfitness auch für Männer (261AB30201) 
LOCATION:ab Vereinszentrum, Versammlungsraum, Goldschmiedstraße 14, 74232 Abstatt
END:VEVENT
END:VCALENDAR