BEGIN:VCALENDAR
VERSION:2.0
PRODID:http://www.kufer.de/kuferweb / DE
METHOD:PUBLISH
CALSCALE:GREGORIAN
X-WR-TIMEZONE:Europe/Berlin
BEGIN:VTIMEZONE
TZID:Europe/Berlin
X-LIC-LOCATION:Europe/Berlin
BEGIN:DAYLIGHT
TZOFFSETFROM:+0100
TZOFFSETTO:+0200
TZNAME:CEST
DTSTART;TZID=Europe/Berlin:19700329T020000
RRULE:FREQ=YEARLY;INTERVAL=1;BYDAY=-1SU;BYMONTH=3
END:DAYLIGHT
BEGIN:STANDARD
TZOFFSETFROM:+0200
TZOFFSETTO:+0100
TZNAME:CET
DTSTART;TZID=Europe/Berlin:19701025T030000
RRULE:FREQ=YEARLY;INTERVAL=1;BYDAY=-1SU;BYMONTH=10
END:STANDARD
END:VTIMEZONE
BEGIN:VEVENT
DTSTAMP:20260421T215825
DTSTART;TZID=Europe/Berlin:20260227T100000
DTEND;TZID=Europe/Berlin:20260227T111500
UID:261AB30132-20260227T100000@VHSUNTERLAND
SUMMARY:Yoga am Morgen (261AB30132) 
LOCATION:ab Vereinszentrum, Versammlungsraum, Goldschmiedstraße 14, 74232 Abstatt
END:VEVENT
BEGIN:VEVENT
DTSTAMP:20260421T215825
DTSTART;TZID=Europe/Berlin:20260306T100000
DTEND;TZID=Europe/Berlin:20260306T111500
UID:261AB30132-20260306T100000@VHSUNTERLAND
SUMMARY:Yoga am Morgen (261AB30132) 
LOCATION:ab Vereinszentrum, Versammlungsraum, Goldschmiedstraße 14, 74232 Abstatt
END:VEVENT
BEGIN:VEVENT
DTSTAMP:20260421T215825
DTSTART;TZID=Europe/Berlin:20260313T100000
DTEND;TZID=Europe/Berlin:20260313T111500
UID:261AB30132-20260313T100000@VHSUNTERLAND
SUMMARY:Yoga am Morgen (261AB30132) 
LOCATION:ab Vereinszentrum, Versammlungsraum, Goldschmiedstraße 14, 74232 Abstatt
END:VEVENT
BEGIN:VEVENT
DTSTAMP:20260421T215825
DTSTART;TZID=Europe/Berlin:20260320T100000
DTEND;TZID=Europe/Berlin:20260320T111500
UID:261AB30132-20260320T100000@VHSUNTERLAND
SUMMARY:Yoga am Morgen (261AB30132) 
LOCATION:ab Vereinszentrum, Versammlungsraum, Goldschmiedstraße 14, 74232 Abstatt
END:VEVENT
BEGIN:VEVENT
DTSTAMP:20260421T215825
DTSTART;TZID=Europe/Berlin:20260327T100000
DTEND;TZID=Europe/Berlin:20260327T111500
UID:261AB30132-20260327T100000@VHSUNTERLAND
SUMMARY:Yoga am Morgen (261AB30132) 
LOCATION:ab Vereinszentrum, Versammlungsraum, Goldschmiedstraße 14, 74232 Abstatt
END:VEVENT
BEGIN:VEVENT
DTSTAMP:20260421T215825
DTSTART;TZID=Europe/Berlin:20260417T100000
DTEND;TZID=Europe/Berlin:20260417T111500
UID:261AB30132-20260417T100000@VHSUNTERLAND
SUMMARY:Yoga am Morgen (261AB30132) 
LOCATION:ab Vereinszentrum, Versammlungsraum, Goldschmiedstraße 14, 74232 Abstatt
END:VEVENT
BEGIN:VEVENT
DTSTAMP:20260421T215825
DTSTART;TZID=Europe/Berlin:20260424T100000
DTEND;TZID=Europe/Berlin:20260424T111500
UID:261AB30132-20260424T100000@VHSUNTERLAND
SUMMARY:Yoga am Morgen (261AB30132) 
LOCATION:ab Vereinszentrum, Versammlungsraum, Goldschmiedstraße 14, 74232 Abstatt
END:VEVENT
BEGIN:VEVENT
DTSTAMP:20260421T215825
DTSTART;TZID=Europe/Berlin:20260508T100000
DTEND;TZID=Europe/Berlin:20260508T111500
UID:261AB30132-20260508T100000@VHSUNTERLAND
SUMMARY:Yoga am Morgen (261AB30132) 
LOCATION:ab Vereinszentrum, Versammlungsraum, Goldschmiedstraße 14, 74232 Abstatt
END:VEVENT
BEGIN:VEVENT
DTSTAMP:20260421T215825
DTSTART;TZID=Europe/Berlin:20260515T100000
DTEND;TZID=Europe/Berlin:20260515T111500
UID:261AB30132-20260515T100000@VHSUNTERLAND
SUMMARY:Yoga am Morgen (261AB30132) 
LOCATION:ab Vereinszentrum, Versammlungsraum, Goldschmiedstraße 14, 74232 Abstatt
END:VEVENT
BEGIN:VEVENT
DTSTAMP:20260421T215825
DTSTART;TZID=Europe/Berlin:20260522T100000
DTEND;TZID=Europe/Berlin:20260522T111500
UID:261AB30132-20260522T100000@VHSUNTERLAND
SUMMARY:Yoga am Morgen (261AB30132) 
LOCATION:ab Vereinszentrum, Versammlungsraum, Goldschmiedstraße 14, 74232 Abstatt
END:VEVENT
BEGIN:VEVENT
DTSTAMP:20260421T215825
DTSTART;TZID=Europe/Berlin:20260612T100000
DTEND;TZID=Europe/Berlin:20260612T111500
UID:261AB30132-20260612T100000@VHSUNTERLAND
SUMMARY:Yoga am Morgen (261AB30132) 
LOCATION:ab Vereinszentrum, Versammlungsraum, Goldschmiedstraße 14, 74232 Abstatt
END:VEVENT
BEGIN:VEVENT
DTSTAMP:20260421T215825
DTSTART;TZID=Europe/Berlin:20260619T100000
DTEND;TZID=Europe/Berlin:20260619T111500
UID:261AB30132-20260619T100000@VHSUNTERLAND
SUMMARY:Yoga am Morgen (261AB30132) 
LOCATION:ab Vereinszentrum, Versammlungsraum, Goldschmiedstraße 14, 74232 Abstatt
END:VEVENT
END:VCALENDAR