BEGIN:VCALENDAR
VERSION:2.0
PRODID:http://www.kufer.de/kuferweb / DE
METHOD:PUBLISH
CALSCALE:GREGORIAN
X-WR-TIMEZONE:Europe/Berlin
BEGIN:VTIMEZONE
TZID:Europe/Berlin
X-LIC-LOCATION:Europe/Berlin
BEGIN:DAYLIGHT
TZOFFSETFROM:+0100
TZOFFSETTO:+0200
TZNAME:CEST
DTSTART;TZID=Europe/Berlin:19700329T020000
RRULE:FREQ=YEARLY;INTERVAL=1;BYDAY=-1SU;BYMONTH=3
END:DAYLIGHT
BEGIN:STANDARD
TZOFFSETFROM:+0200
TZOFFSETTO:+0100
TZNAME:CET
DTSTART;TZID=Europe/Berlin:19701025T030000
RRULE:FREQ=YEARLY;INTERVAL=1;BYDAY=-1SU;BYMONTH=10
END:STANDARD
END:VTIMEZONE
BEGIN:VEVENT
DTSTAMP:20260423T014123
DTSTART;TZID=Europe/Berlin:20251119T193000
DTEND;TZID=Europe/Berlin:20251119T210000
UID:252WR30141-20251119T193000@VHSUNTERLAND
SUMMARY:Kundalini Yoga (252WR30141) 
LOCATION:wr Gustav Vogelmann Haus, Wendel-Hipler-Weg 2, 71543 Wüstenrot
END:VEVENT
BEGIN:VEVENT
DTSTAMP:20260423T014123
DTSTART;TZID=Europe/Berlin:20251126T193000
DTEND;TZID=Europe/Berlin:20251126T210000
UID:252WR30141-20251126T193000@VHSUNTERLAND
SUMMARY:Kundalini Yoga (252WR30141) 
LOCATION:wr Gustav Vogelmann Haus, Wendel-Hipler-Weg 2, 71543 Wüstenrot
END:VEVENT
BEGIN:VEVENT
DTSTAMP:20260423T014123
DTSTART;TZID=Europe/Berlin:20251203T193000
DTEND;TZID=Europe/Berlin:20251203T210000
UID:252WR30141-20251203T193000@VHSUNTERLAND
SUMMARY:Kundalini Yoga (252WR30141) 
LOCATION:wr Gustav Vogelmann Haus, Wendel-Hipler-Weg 2, 71543 Wüstenrot
END:VEVENT
BEGIN:VEVENT
DTSTAMP:20260423T014123
DTSTART;TZID=Europe/Berlin:20251210T193000
DTEND;TZID=Europe/Berlin:20251210T210000
UID:252WR30141-20251210T193000@VHSUNTERLAND
SUMMARY:Kundalini Yoga (252WR30141) 
LOCATION:wr Gustav Vogelmann Haus, Wendel-Hipler-Weg 2, 71543 Wüstenrot
END:VEVENT
BEGIN:VEVENT
DTSTAMP:20260423T014123
DTSTART;TZID=Europe/Berlin:20260204T193000
DTEND;TZID=Europe/Berlin:20260204T210000
UID:252WR30141-20260204T193000@VHSUNTERLAND
SUMMARY:Kundalini Yoga (252WR30141) 
LOCATION:wr Gustav Vogelmann Haus, Wendel-Hipler-Weg 2, 71543 Wüstenrot
END:VEVENT
BEGIN:VEVENT
DTSTAMP:20260423T014123
DTSTART;TZID=Europe/Berlin:20260211T193000
DTEND;TZID=Europe/Berlin:20260211T210000
UID:252WR30141-20260211T193000@VHSUNTERLAND
SUMMARY:Kundalini Yoga (252WR30141) 
LOCATION:wr Gustav Vogelmann Haus, Wendel-Hipler-Weg 2, 71543 Wüstenrot
END:VEVENT
END:VCALENDAR