BEGIN:VCALENDAR
VERSION:2.0
PRODID:http://www.kufer.de/kuferweb / DE
METHOD:PUBLISH
CALSCALE:GREGORIAN
X-WR-TIMEZONE:Europe/Berlin
BEGIN:VTIMEZONE
TZID:Europe/Berlin
X-LIC-LOCATION:Europe/Berlin
BEGIN:DAYLIGHT
TZOFFSETFROM:+0100
TZOFFSETTO:+0200
TZNAME:CEST
DTSTART;TZID=Europe/Berlin:19700329T020000
RRULE:FREQ=YEARLY;INTERVAL=1;BYDAY=-1SU;BYMONTH=3
END:DAYLIGHT
BEGIN:STANDARD
TZOFFSETFROM:+0200
TZOFFSETTO:+0100
TZNAME:CET
DTSTART;TZID=Europe/Berlin:19701025T030000
RRULE:FREQ=YEARLY;INTERVAL=1;BYDAY=-1SU;BYMONTH=10
END:STANDARD
END:VTIMEZONE
BEGIN:VEVENT
DTSTAMP:20260419T145823
DTSTART;TZID=Europe/Berlin:20251009T143500
DTEND;TZID=Europe/Berlin:20251009T152000
UID:252WR21307-20251009T143500@VHSUNTERLAND
SUMMARY:Sopranblockflöte: Aufbaukurs II für Kinder (252WR21307) 
LOCATION:wr Bürgerhaus Neuhütten, VHS-Raum, Frankenstraße 8, 71543 Wüstenrot
END:VEVENT
BEGIN:VEVENT
DTSTAMP:20260419T145823
DTSTART;TZID=Europe/Berlin:20251016T143500
DTEND;TZID=Europe/Berlin:20251016T152000
UID:252WR21307-20251016T143500@VHSUNTERLAND
SUMMARY:Sopranblockflöte: Aufbaukurs II für Kinder (252WR21307) 
LOCATION:wr Bürgerhaus Neuhütten, VHS-Raum, Frankenstraße 8, 71543 Wüstenrot
END:VEVENT
BEGIN:VEVENT
DTSTAMP:20260419T145823
DTSTART;TZID=Europe/Berlin:20251023T143500
DTEND;TZID=Europe/Berlin:20251023T152000
UID:252WR21307-20251023T143500@VHSUNTERLAND
SUMMARY:Sopranblockflöte: Aufbaukurs II für Kinder (252WR21307) 
LOCATION:wr Bürgerhaus Neuhütten, VHS-Raum, Frankenstraße 8, 71543 Wüstenrot
END:VEVENT
BEGIN:VEVENT
DTSTAMP:20260419T145823
DTSTART;TZID=Europe/Berlin:20251106T143500
DTEND;TZID=Europe/Berlin:20251106T152000
UID:252WR21307-20251106T143500@VHSUNTERLAND
SUMMARY:Sopranblockflöte: Aufbaukurs II für Kinder (252WR21307) 
LOCATION:wr Bürgerhaus Neuhütten, VHS-Raum, Frankenstraße 8, 71543 Wüstenrot
END:VEVENT
BEGIN:VEVENT
DTSTAMP:20260419T145823
DTSTART;TZID=Europe/Berlin:20251113T143500
DTEND;TZID=Europe/Berlin:20251113T152000
UID:252WR21307-20251113T143500@VHSUNTERLAND
SUMMARY:Sopranblockflöte: Aufbaukurs II für Kinder (252WR21307) 
LOCATION:wr Bürgerhaus Neuhütten, VHS-Raum, Frankenstraße 8, 71543 Wüstenrot
END:VEVENT
BEGIN:VEVENT
DTSTAMP:20260419T145823
DTSTART;TZID=Europe/Berlin:20251120T143500
DTEND;TZID=Europe/Berlin:20251120T152000
UID:252WR21307-20251120T143500@VHSUNTERLAND
SUMMARY:Sopranblockflöte: Aufbaukurs II für Kinder (252WR21307) 
LOCATION:wr Bürgerhaus Neuhütten, VHS-Raum, Frankenstraße 8, 71543 Wüstenrot
END:VEVENT
BEGIN:VEVENT
DTSTAMP:20260419T145823
DTSTART;TZID=Europe/Berlin:20251127T143500
DTEND;TZID=Europe/Berlin:20251127T152000
UID:252WR21307-20251127T143500@VHSUNTERLAND
SUMMARY:Sopranblockflöte: Aufbaukurs II für Kinder (252WR21307) 
LOCATION:wr Bürgerhaus Neuhütten, VHS-Raum, Frankenstraße 8, 71543 Wüstenrot
END:VEVENT
BEGIN:VEVENT
DTSTAMP:20260419T145823
DTSTART;TZID=Europe/Berlin:20251204T143500
DTEND;TZID=Europe/Berlin:20251204T152000
UID:252WR21307-20251204T143500@VHSUNTERLAND
SUMMARY:Sopranblockflöte: Aufbaukurs II für Kinder (252WR21307) 
LOCATION:wr Bürgerhaus Neuhütten, VHS-Raum, Frankenstraße 8, 71543 Wüstenrot
END:VEVENT
BEGIN:VEVENT
DTSTAMP:20260419T145823
DTSTART;TZID=Europe/Berlin:20251211T143500
DTEND;TZID=Europe/Berlin:20251211T152000
UID:252WR21307-20251211T143500@VHSUNTERLAND
SUMMARY:Sopranblockflöte: Aufbaukurs II für Kinder (252WR21307) 
LOCATION:wr Bürgerhaus Neuhütten, VHS-Raum, Frankenstraße 8, 71543 Wüstenrot
END:VEVENT
BEGIN:VEVENT
DTSTAMP:20260419T145823
DTSTART;TZID=Europe/Berlin:20251218T143500
DTEND;TZID=Europe/Berlin:20251218T152000
UID:252WR21307-20251218T143500@VHSUNTERLAND
SUMMARY:Sopranblockflöte: Aufbaukurs II für Kinder (252WR21307) 
LOCATION:wr Bürgerhaus Neuhütten, VHS-Raum, Frankenstraße 8, 71543 Wüstenrot
END:VEVENT
BEGIN:VEVENT
DTSTAMP:20260419T145823
DTSTART;TZID=Europe/Berlin:20260108T143500
DTEND;TZID=Europe/Berlin:20260108T152000
UID:252WR21307-20260108T143500@VHSUNTERLAND
SUMMARY:Sopranblockflöte: Aufbaukurs II für Kinder (252WR21307) 
LOCATION:wr Bürgerhaus Neuhütten, VHS-Raum, Frankenstraße 8, 71543 Wüstenrot
END:VEVENT
BEGIN:VEVENT
DTSTAMP:20260419T145823
DTSTART;TZID=Europe/Berlin:20260115T143500
DTEND;TZID=Europe/Berlin:20260115T152000
UID:252WR21307-20260115T143500@VHSUNTERLAND
SUMMARY:Sopranblockflöte: Aufbaukurs II für Kinder (252WR21307) 
LOCATION:wr Bürgerhaus Neuhütten, VHS-Raum, Frankenstraße 8, 71543 Wüstenrot
END:VEVENT
BEGIN:VEVENT
DTSTAMP:20260419T145823
DTSTART;TZID=Europe/Berlin:20260122T143500
DTEND;TZID=Europe/Berlin:20260122T152000
UID:252WR21307-20260122T143500@VHSUNTERLAND
SUMMARY:Sopranblockflöte: Aufbaukurs II für Kinder (252WR21307) 
LOCATION:wr Bürgerhaus Neuhütten, VHS-Raum, Frankenstraße 8, 71543 Wüstenrot
END:VEVENT
BEGIN:VEVENT
DTSTAMP:20260419T145823
DTSTART;TZID=Europe/Berlin:20260129T143500
DTEND;TZID=Europe/Berlin:20260129T152000
UID:252WR21307-20260129T143500@VHSUNTERLAND
SUMMARY:Sopranblockflöte: Aufbaukurs II für Kinder (252WR21307) 
LOCATION:wr Bürgerhaus Neuhütten, VHS-Raum, Frankenstraße 8, 71543 Wüstenrot
END:VEVENT
END:VCALENDAR