BEGIN:VCALENDAR
VERSION:2.0
PRODID:http://www.kufer.de/kuferweb / DE
METHOD:PUBLISH
CALSCALE:GREGORIAN
X-WR-TIMEZONE:Europe/Berlin
BEGIN:VTIMEZONE
TZID:Europe/Berlin
X-LIC-LOCATION:Europe/Berlin
BEGIN:DAYLIGHT
TZOFFSETFROM:+0100
TZOFFSETTO:+0200
TZNAME:CEST
DTSTART;TZID=Europe/Berlin:19700329T020000
RRULE:FREQ=YEARLY;INTERVAL=1;BYDAY=-1SU;BYMONTH=3
END:DAYLIGHT
BEGIN:STANDARD
TZOFFSETFROM:+0200
TZOFFSETTO:+0100
TZNAME:CET
DTSTART;TZID=Europe/Berlin:19701025T030000
RRULE:FREQ=YEARLY;INTERVAL=1;BYDAY=-1SU;BYMONTH=10
END:STANDARD
END:VTIMEZONE
BEGIN:VEVENT
DTSTAMP:20260419T175152
DTSTART;TZID=Europe/Berlin:20260115T180000
DTEND;TZID=Europe/Berlin:20260115T190000
UID:252WR20505-20260115T180000@VHSUNTERLAND
SUMMARY:Discofox – der Allrounder auf jeder Tanzfläche!  Grundkurs (252WR20505) 
LOCATION:wr Bürgerhaus Neulautern, Sulzbacher Straße 5, 71543 Wüstenrot
END:VEVENT
BEGIN:VEVENT
DTSTAMP:20260419T175152
DTSTART;TZID=Europe/Berlin:20260122T180000
DTEND;TZID=Europe/Berlin:20260122T190000
UID:252WR20505-20260122T180000@VHSUNTERLAND
SUMMARY:Discofox – der Allrounder auf jeder Tanzfläche!  Grundkurs (252WR20505) 
LOCATION:wr Bürgerhaus Neulautern, Sulzbacher Straße 5, 71543 Wüstenrot
END:VEVENT
BEGIN:VEVENT
DTSTAMP:20260419T175152
DTSTART;TZID=Europe/Berlin:20260129T180000
DTEND;TZID=Europe/Berlin:20260129T190000
UID:252WR20505-20260129T180000@VHSUNTERLAND
SUMMARY:Discofox – der Allrounder auf jeder Tanzfläche!  Grundkurs (252WR20505) 
LOCATION:wr Bürgerhaus Neulautern, Sulzbacher Straße 5, 71543 Wüstenrot
END:VEVENT
BEGIN:VEVENT
DTSTAMP:20260419T175152
DTSTART;TZID=Europe/Berlin:20260205T180000
DTEND;TZID=Europe/Berlin:20260205T190000
UID:252WR20505-20260205T180000@VHSUNTERLAND
SUMMARY:Discofox – der Allrounder auf jeder Tanzfläche!  Grundkurs (252WR20505) 
LOCATION:wr Bürgerhaus Neulautern, Sulzbacher Straße 5, 71543 Wüstenrot
END:VEVENT
BEGIN:VEVENT
DTSTAMP:20260419T175152
DTSTART;TZID=Europe/Berlin:20260212T180000
DTEND;TZID=Europe/Berlin:20260212T190000
UID:252WR20505-20260212T180000@VHSUNTERLAND
SUMMARY:Discofox – der Allrounder auf jeder Tanzfläche!  Grundkurs (252WR20505) 
LOCATION:wr Bürgerhaus Neulautern, Sulzbacher Straße 5, 71543 Wüstenrot
END:VEVENT
BEGIN:VEVENT
DTSTAMP:20260419T175152
DTSTART;TZID=Europe/Berlin:20260226T180000
DTEND;TZID=Europe/Berlin:20260226T190000
UID:252WR20505-20260226T180000@VHSUNTERLAND
SUMMARY:Discofox – der Allrounder auf jeder Tanzfläche!  Grundkurs (252WR20505) 
LOCATION:wr Bürgerhaus Neulautern, Sulzbacher Straße 5, 71543 Wüstenrot
END:VEVENT
END:VCALENDAR