BEGIN:VCALENDAR
VERSION:2.0
PRODID:http://www.kufer.de/kuferweb / DE
METHOD:PUBLISH
CALSCALE:GREGORIAN
X-WR-TIMEZONE:Europe/Berlin
BEGIN:VTIMEZONE
TZID:Europe/Berlin
X-LIC-LOCATION:Europe/Berlin
BEGIN:DAYLIGHT
TZOFFSETFROM:+0100
TZOFFSETTO:+0200
TZNAME:CEST
DTSTART;TZID=Europe/Berlin:19700329T020000
RRULE:FREQ=YEARLY;INTERVAL=1;BYDAY=-1SU;BYMONTH=3
END:DAYLIGHT
BEGIN:STANDARD
TZOFFSETFROM:+0200
TZOFFSETTO:+0100
TZNAME:CET
DTSTART;TZID=Europe/Berlin:19701025T030000
RRULE:FREQ=YEARLY;INTERVAL=1;BYDAY=-1SU;BYMONTH=10
END:STANDARD
END:VTIMEZONE
BEGIN:VEVENT
DTSTAMP:20260420T161926
DTSTART;TZID=Europe/Berlin:20251105T093000
DTEND;TZID=Europe/Berlin:20251105T123000
UID:252WB50157-20251105T093000@VHSUNTERLAND
SUMMARY:Künstliche Intelligenz (KI) mit ChatGPT und anderen KI Programmen  für die Generation 50+ (252WB50157) 
LOCATION:wb Medien.Raum am Grasigen Hag, Zehntgasse 10 (Schulstaffel), 74189 Weinsberg
END:VEVENT
BEGIN:VEVENT
DTSTAMP:20260420T161926
DTSTART;TZID=Europe/Berlin:20251119T093000
DTEND;TZID=Europe/Berlin:20251119T123000
UID:252WB50157-20251119T093000@VHSUNTERLAND
SUMMARY:Künstliche Intelligenz (KI) mit ChatGPT und anderen KI Programmen  für die Generation 50+ (252WB50157) 
LOCATION:wb Medien.Raum am Grasigen Hag, Zehntgasse 10 (Schulstaffel), 74189 Weinsberg
END:VEVENT
END:VCALENDAR