BEGIN:VCALENDAR
VERSION:2.0
PRODID:http://www.kufer.de/kuferweb / DE
METHOD:PUBLISH
CALSCALE:GREGORIAN
X-WR-TIMEZONE:Europe/Berlin
BEGIN:VTIMEZONE
TZID:Europe/Berlin
X-LIC-LOCATION:Europe/Berlin
BEGIN:DAYLIGHT
TZOFFSETFROM:+0100
TZOFFSETTO:+0200
TZNAME:CEST
DTSTART;TZID=Europe/Berlin:19700329T020000
RRULE:FREQ=YEARLY;INTERVAL=1;BYDAY=-1SU;BYMONTH=3
END:DAYLIGHT
BEGIN:STANDARD
TZOFFSETFROM:+0200
TZOFFSETTO:+0100
TZNAME:CET
DTSTART;TZID=Europe/Berlin:19701025T030000
RRULE:FREQ=YEARLY;INTERVAL=1;BYDAY=-1SU;BYMONTH=10
END:STANDARD
END:VTIMEZONE
BEGIN:VEVENT
DTSTAMP:20260419T145720
DTSTART;TZID=Europe/Berlin:20251001T183000
DTEND;TZID=Europe/Berlin:20251001T200000
UID:252WB40921-20251001T183000@VHSUNTERLAND
SUMMARY:Italienisch A2.1 (252WB40921) 
LOCATION:wb VHS-Haus, E07, Zehntgasse 10, 74189 Weinsberg
END:VEVENT
BEGIN:VEVENT
DTSTAMP:20260419T145720
DTSTART;TZID=Europe/Berlin:20251008T183000
DTEND;TZID=Europe/Berlin:20251008T200000
UID:252WB40921-20251008T183000@VHSUNTERLAND
SUMMARY:Italienisch A2.1 (252WB40921) 
LOCATION:wb VHS-Haus, E07, Zehntgasse 10, 74189 Weinsberg
END:VEVENT
BEGIN:VEVENT
DTSTAMP:20260419T145720
DTSTART;TZID=Europe/Berlin:20251015T183000
DTEND;TZID=Europe/Berlin:20251015T200000
UID:252WB40921-20251015T183000@VHSUNTERLAND
SUMMARY:Italienisch A2.1 (252WB40921) 
LOCATION:wb VHS-Haus, E07, Zehntgasse 10, 74189 Weinsberg
END:VEVENT
BEGIN:VEVENT
DTSTAMP:20260419T145720
DTSTART;TZID=Europe/Berlin:20251022T183000
DTEND;TZID=Europe/Berlin:20251022T200000
UID:252WB40921-20251022T183000@VHSUNTERLAND
SUMMARY:Italienisch A2.1 (252WB40921) 
LOCATION:wb VHS-Haus, E07, Zehntgasse 10, 74189 Weinsberg
END:VEVENT
BEGIN:VEVENT
DTSTAMP:20260419T145720
DTSTART;TZID=Europe/Berlin:20251105T183000
DTEND;TZID=Europe/Berlin:20251105T200000
UID:252WB40921-20251105T183000@VHSUNTERLAND
SUMMARY:Italienisch A2.1 (252WB40921) 
LOCATION:wb VHS-Haus, E07, Zehntgasse 10, 74189 Weinsberg
END:VEVENT
BEGIN:VEVENT
DTSTAMP:20260419T145720
DTSTART;TZID=Europe/Berlin:20251112T183000
DTEND;TZID=Europe/Berlin:20251112T200000
UID:252WB40921-20251112T183000@VHSUNTERLAND
SUMMARY:Italienisch A2.1 (252WB40921) 
LOCATION:wb VHS-Haus, E07, Zehntgasse 10, 74189 Weinsberg
END:VEVENT
BEGIN:VEVENT
DTSTAMP:20260419T145720
DTSTART;TZID=Europe/Berlin:20251119T183000
DTEND;TZID=Europe/Berlin:20251119T200000
UID:252WB40921-20251119T183000@VHSUNTERLAND
SUMMARY:Italienisch A2.1 (252WB40921) 
LOCATION:wb VHS-Haus, E07, Zehntgasse 10, 74189 Weinsberg
END:VEVENT
BEGIN:VEVENT
DTSTAMP:20260419T145720
DTSTART;TZID=Europe/Berlin:20251126T183000
DTEND;TZID=Europe/Berlin:20251126T200000
UID:252WB40921-20251126T183000@VHSUNTERLAND
SUMMARY:Italienisch A2.1 (252WB40921) 
LOCATION:wb VHS-Haus, E07, Zehntgasse 10, 74189 Weinsberg
END:VEVENT
BEGIN:VEVENT
DTSTAMP:20260419T145720
DTSTART;TZID=Europe/Berlin:20251203T183000
DTEND;TZID=Europe/Berlin:20251203T200000
UID:252WB40921-20251203T183000@VHSUNTERLAND
SUMMARY:Italienisch A2.1 (252WB40921) 
LOCATION:wb VHS-Haus, E07, Zehntgasse 10, 74189 Weinsberg
END:VEVENT
BEGIN:VEVENT
DTSTAMP:20260419T145720
DTSTART;TZID=Europe/Berlin:20251210T183000
DTEND;TZID=Europe/Berlin:20251210T200000
UID:252WB40921-20251210T183000@VHSUNTERLAND
SUMMARY:Italienisch A2.1 (252WB40921) 
LOCATION:wb VHS-Haus, E07, Zehntgasse 10, 74189 Weinsberg
END:VEVENT
BEGIN:VEVENT
DTSTAMP:20260419T145720
DTSTART;TZID=Europe/Berlin:20251217T183000
DTEND;TZID=Europe/Berlin:20251217T200000
UID:252WB40921-20251217T183000@VHSUNTERLAND
SUMMARY:Italienisch A2.1 (252WB40921) 
LOCATION:wb VHS-Haus, E07, Zehntgasse 10, 74189 Weinsberg
END:VEVENT
BEGIN:VEVENT
DTSTAMP:20260419T145720
DTSTART;TZID=Europe/Berlin:20260107T183000
DTEND;TZID=Europe/Berlin:20260107T200000
UID:252WB40921-20260107T183000@VHSUNTERLAND
SUMMARY:Italienisch A2.1 (252WB40921) 
LOCATION:wb VHS-Haus, E07, Zehntgasse 10, 74189 Weinsberg
END:VEVENT
END:VCALENDAR