BEGIN:VCALENDAR
VERSION:2.0
PRODID:http://www.kufer.de/kuferweb / DE
METHOD:PUBLISH
CALSCALE:GREGORIAN
X-WR-TIMEZONE:Europe/Berlin
BEGIN:VTIMEZONE
TZID:Europe/Berlin
X-LIC-LOCATION:Europe/Berlin
BEGIN:DAYLIGHT
TZOFFSETFROM:+0100
TZOFFSETTO:+0200
TZNAME:CEST
DTSTART;TZID=Europe/Berlin:19700329T020000
RRULE:FREQ=YEARLY;INTERVAL=1;BYDAY=-1SU;BYMONTH=3
END:DAYLIGHT
BEGIN:STANDARD
TZOFFSETFROM:+0200
TZOFFSETTO:+0100
TZNAME:CET
DTSTART;TZID=Europe/Berlin:19701025T030000
RRULE:FREQ=YEARLY;INTERVAL=1;BYDAY=-1SU;BYMONTH=10
END:STANDARD
END:VTIMEZONE
BEGIN:VEVENT
DTSTAMP:20260419T162456
DTSTART;TZID=Europe/Berlin:20251103T180000
DTEND;TZID=Europe/Berlin:20251103T193000
UID:252WB40604-20251103T180000@VHSUNTERLAND
SUMMARY:Englisch A1.1 für Anfänger*innen ohne oder mit geringen Vorkenntnissen (252WB40604) 
LOCATION:wb Justinus-Kerner-Gymnasium, Raum -1.10, Rossäckerstraße 13, 74189 Weinsberg
END:VEVENT
BEGIN:VEVENT
DTSTAMP:20260419T162456
DTSTART;TZID=Europe/Berlin:20251117T180000
DTEND;TZID=Europe/Berlin:20251117T200000
UID:252WB40604-20251117T180000@VHSUNTERLAND
SUMMARY:Englisch A1.1 für Anfänger*innen ohne oder mit geringen Vorkenntnissen (252WB40604) 
LOCATION:wb Justinus-Kerner-Gymnasium, Raum -1.10, Rossäckerstraße 13, 74189 Weinsberg
END:VEVENT
BEGIN:VEVENT
DTSTAMP:20260419T162456
DTSTART;TZID=Europe/Berlin:20251124T180000
DTEND;TZID=Europe/Berlin:20251124T200000
UID:252WB40604-20251124T180000@VHSUNTERLAND
SUMMARY:Englisch A1.1 für Anfänger*innen ohne oder mit geringen Vorkenntnissen (252WB40604) 
LOCATION:wb Justinus-Kerner-Gymnasium, Raum -1.10, Rossäckerstraße 13, 74189 Weinsberg
END:VEVENT
BEGIN:VEVENT
DTSTAMP:20260419T162456
DTSTART;TZID=Europe/Berlin:20251201T180000
DTEND;TZID=Europe/Berlin:20251201T200000
UID:252WB40604-20251201T180000@VHSUNTERLAND
SUMMARY:Englisch A1.1 für Anfänger*innen ohne oder mit geringen Vorkenntnissen (252WB40604) 
LOCATION:wb Justinus-Kerner-Gymnasium, Raum -1.10, Rossäckerstraße 13, 74189 Weinsberg
END:VEVENT
BEGIN:VEVENT
DTSTAMP:20260419T162456
DTSTART;TZID=Europe/Berlin:20251208T180000
DTEND;TZID=Europe/Berlin:20251208T193000
UID:252WB40604-20251208T180000@VHSUNTERLAND
SUMMARY:Englisch A1.1 für Anfänger*innen ohne oder mit geringen Vorkenntnissen (252WB40604) 
LOCATION:wb Justinus-Kerner-Gymnasium, Raum -1.10, Rossäckerstraße 13, 74189 Weinsberg
END:VEVENT
BEGIN:VEVENT
DTSTAMP:20260419T162456
DTSTART;TZID=Europe/Berlin:20251215T180000
DTEND;TZID=Europe/Berlin:20251215T193000
UID:252WB40604-20251215T180000@VHSUNTERLAND
SUMMARY:Englisch A1.1 für Anfänger*innen ohne oder mit geringen Vorkenntnissen (252WB40604) 
LOCATION:wb Justinus-Kerner-Gymnasium, Raum -1.10, Rossäckerstraße 13, 74189 Weinsberg
END:VEVENT
BEGIN:VEVENT
DTSTAMP:20260419T162456
DTSTART;TZID=Europe/Berlin:20260112T180000
DTEND;TZID=Europe/Berlin:20260112T193000
UID:252WB40604-20260112T180000@VHSUNTERLAND
SUMMARY:Englisch A1.1 für Anfänger*innen ohne oder mit geringen Vorkenntnissen (252WB40604) 
LOCATION:wb Justinus-Kerner-Gymnasium, Raum -1.10, Rossäckerstraße 13, 74189 Weinsberg
END:VEVENT
BEGIN:VEVENT
DTSTAMP:20260419T162456
DTSTART;TZID=Europe/Berlin:20260119T180000
DTEND;TZID=Europe/Berlin:20260119T193000
UID:252WB40604-20260119T180000@VHSUNTERLAND
SUMMARY:Englisch A1.1 für Anfänger*innen ohne oder mit geringen Vorkenntnissen (252WB40604) 
LOCATION:wb Justinus-Kerner-Gymnasium, Raum -1.10, Rossäckerstraße 13, 74189 Weinsberg
END:VEVENT
BEGIN:VEVENT
DTSTAMP:20260419T162456
DTSTART;TZID=Europe/Berlin:20260126T180000
DTEND;TZID=Europe/Berlin:20260126T193000
UID:252WB40604-20260126T180000@VHSUNTERLAND
SUMMARY:Englisch A1.1 für Anfänger*innen ohne oder mit geringen Vorkenntnissen (252WB40604) 
LOCATION:wb Justinus-Kerner-Gymnasium, Raum -1.10, Rossäckerstraße 13, 74189 Weinsberg
END:VEVENT
BEGIN:VEVENT
DTSTAMP:20260419T162456
DTSTART;TZID=Europe/Berlin:20260202T180000
DTEND;TZID=Europe/Berlin:20260202T193000
UID:252WB40604-20260202T180000@VHSUNTERLAND
SUMMARY:Englisch A1.1 für Anfänger*innen ohne oder mit geringen Vorkenntnissen (252WB40604) 
LOCATION:wb Justinus-Kerner-Gymnasium, Raum -1.10, Rossäckerstraße 13, 74189 Weinsberg
END:VEVENT
BEGIN:VEVENT
DTSTAMP:20260419T162456
DTSTART;TZID=Europe/Berlin:20260209T180000
DTEND;TZID=Europe/Berlin:20260209T193000
UID:252WB40604-20260209T180000@VHSUNTERLAND
SUMMARY:Englisch A1.1 für Anfänger*innen ohne oder mit geringen Vorkenntnissen (252WB40604) 
LOCATION:wb Justinus-Kerner-Gymnasium, Raum -1.10, Rossäckerstraße 13, 74189 Weinsberg
END:VEVENT
END:VCALENDAR