BEGIN:VCALENDAR
VERSION:2.0
PRODID:http://www.kufer.de/kuferweb / DE
METHOD:PUBLISH
CALSCALE:GREGORIAN
X-WR-TIMEZONE:Europe/Berlin
BEGIN:VTIMEZONE
TZID:Europe/Berlin
X-LIC-LOCATION:Europe/Berlin
BEGIN:DAYLIGHT
TZOFFSETFROM:+0100
TZOFFSETTO:+0200
TZNAME:CEST
DTSTART;TZID=Europe/Berlin:19700329T020000
RRULE:FREQ=YEARLY;INTERVAL=1;BYDAY=-1SU;BYMONTH=3
END:DAYLIGHT
BEGIN:STANDARD
TZOFFSETFROM:+0200
TZOFFSETTO:+0100
TZNAME:CET
DTSTART;TZID=Europe/Berlin:19701025T030000
RRULE:FREQ=YEARLY;INTERVAL=1;BYDAY=-1SU;BYMONTH=10
END:STANDARD
END:VTIMEZONE
BEGIN:VEVENT
DTSTAMP:20260419T162833
DTSTART;TZID=Europe/Berlin:20250923T141500
DTEND;TZID=Europe/Berlin:20250923T151500
UID:252WB30212-20250923T141500@VHSUNTERLAND
SUMMARY:Gesundheitsgymnastik für Senior*innen (252WB30212) 
LOCATION:wb Erhard-Schnepf-Gemeindehaus, Dornfeldstraße 36, 74189 Weinsberg
END:VEVENT
BEGIN:VEVENT
DTSTAMP:20260419T162833
DTSTART;TZID=Europe/Berlin:20250930T141500
DTEND;TZID=Europe/Berlin:20250930T151500
UID:252WB30212-20250930T141500@VHSUNTERLAND
SUMMARY:Gesundheitsgymnastik für Senior*innen (252WB30212) 
LOCATION:wb Erhard-Schnepf-Gemeindehaus, Dornfeldstraße 36, 74189 Weinsberg
END:VEVENT
BEGIN:VEVENT
DTSTAMP:20260419T162833
DTSTART;TZID=Europe/Berlin:20251007T141500
DTEND;TZID=Europe/Berlin:20251007T151500
UID:252WB30212-20251007T141500@VHSUNTERLAND
SUMMARY:Gesundheitsgymnastik für Senior*innen (252WB30212) 
LOCATION:wb Erhard-Schnepf-Gemeindehaus, Dornfeldstraße 36, 74189 Weinsberg
END:VEVENT
BEGIN:VEVENT
DTSTAMP:20260419T162833
DTSTART;TZID=Europe/Berlin:20251021T141500
DTEND;TZID=Europe/Berlin:20251021T151500
UID:252WB30212-20251021T141500@VHSUNTERLAND
SUMMARY:Gesundheitsgymnastik für Senior*innen (252WB30212) 
LOCATION:wb Erhard-Schnepf-Gemeindehaus, Dornfeldstraße 36, 74189 Weinsberg
END:VEVENT
BEGIN:VEVENT
DTSTAMP:20260419T162833
DTSTART;TZID=Europe/Berlin:20251104T141500
DTEND;TZID=Europe/Berlin:20251104T151500
UID:252WB30212-20251104T141500@VHSUNTERLAND
SUMMARY:Gesundheitsgymnastik für Senior*innen (252WB30212) 
LOCATION:wb Erhard-Schnepf-Gemeindehaus, Dornfeldstraße 36, 74189 Weinsberg
END:VEVENT
BEGIN:VEVENT
DTSTAMP:20260419T162833
DTSTART;TZID=Europe/Berlin:20251111T141500
DTEND;TZID=Europe/Berlin:20251111T151500
UID:252WB30212-20251111T141500@VHSUNTERLAND
SUMMARY:Gesundheitsgymnastik für Senior*innen (252WB30212) 
LOCATION:wb Erhard-Schnepf-Gemeindehaus, Dornfeldstraße 36, 74189 Weinsberg
END:VEVENT
BEGIN:VEVENT
DTSTAMP:20260419T162833
DTSTART;TZID=Europe/Berlin:20251118T141500
DTEND;TZID=Europe/Berlin:20251118T151500
UID:252WB30212-20251118T141500@VHSUNTERLAND
SUMMARY:Gesundheitsgymnastik für Senior*innen (252WB30212) 
LOCATION:wb Erhard-Schnepf-Gemeindehaus, Dornfeldstraße 36, 74189 Weinsberg
END:VEVENT
BEGIN:VEVENT
DTSTAMP:20260419T162833
DTSTART;TZID=Europe/Berlin:20251202T141500
DTEND;TZID=Europe/Berlin:20251202T151500
UID:252WB30212-20251202T141500@VHSUNTERLAND
SUMMARY:Gesundheitsgymnastik für Senior*innen (252WB30212) 
LOCATION:wb Erhard-Schnepf-Gemeindehaus, Dornfeldstraße 36, 74189 Weinsberg
END:VEVENT
BEGIN:VEVENT
DTSTAMP:20260419T162833
DTSTART;TZID=Europe/Berlin:20251209T141500
DTEND;TZID=Europe/Berlin:20251209T151500
UID:252WB30212-20251209T141500@VHSUNTERLAND
SUMMARY:Gesundheitsgymnastik für Senior*innen (252WB30212) 
LOCATION:wb Erhard-Schnepf-Gemeindehaus, Dornfeldstraße 36, 74189 Weinsberg
END:VEVENT
BEGIN:VEVENT
DTSTAMP:20260419T162833
DTSTART;TZID=Europe/Berlin:20260113T141500
DTEND;TZID=Europe/Berlin:20260113T151500
UID:252WB30212-20260113T141500@VHSUNTERLAND
DESCRIPTION:Ersatz für Ausfall am 14.10.2025
SUMMARY:Gesundheitsgymnastik für Senior*innen (252WB30212) 
LOCATION:wb Erhard-Schnepf-Gemeindehaus, Dornfeldstraße 36, 74189 Weinsberg
END:VEVENT
BEGIN:VEVENT
DTSTAMP:20260419T162833
DTSTART;TZID=Europe/Berlin:20260120T141500
DTEND;TZID=Europe/Berlin:20260120T151500
UID:252WB30212-20260120T141500@VHSUNTERLAND
DESCRIPTION:Ersatz für Ausfall am 25.11.2025
SUMMARY:Gesundheitsgymnastik für Senior*innen (252WB30212) 
LOCATION:wb Erhard-Schnepf-Gemeindehaus, Dornfeldstraße 36, 74189 Weinsberg
END:VEVENT
BEGIN:VEVENT
DTSTAMP:20260419T162833
DTSTART;TZID=Europe/Berlin:20260127T141500
DTEND;TZID=Europe/Berlin:20260127T151500
UID:252WB30212-20260127T141500@VHSUNTERLAND
DESCRIPTION:Ersatz für Ausfall am 16.12.2025
SUMMARY:Gesundheitsgymnastik für Senior*innen (252WB30212) 
LOCATION:wb Erhard-Schnepf-Gemeindehaus, Dornfeldstraße 36, 74189 Weinsberg
END:VEVENT
END:VCALENDAR