BEGIN:VCALENDAR
VERSION:2.0
PRODID:http://www.kufer.de/kuferweb / DE
METHOD:PUBLISH
CALSCALE:GREGORIAN
X-WR-TIMEZONE:Europe/Berlin
BEGIN:VTIMEZONE
TZID:Europe/Berlin
X-LIC-LOCATION:Europe/Berlin
BEGIN:DAYLIGHT
TZOFFSETFROM:+0100
TZOFFSETTO:+0200
TZNAME:CEST
DTSTART;TZID=Europe/Berlin:19700329T020000
RRULE:FREQ=YEARLY;INTERVAL=1;BYDAY=-1SU;BYMONTH=3
END:DAYLIGHT
BEGIN:STANDARD
TZOFFSETFROM:+0200
TZOFFSETTO:+0100
TZNAME:CET
DTSTART;TZID=Europe/Berlin:19701025T030000
RRULE:FREQ=YEARLY;INTERVAL=1;BYDAY=-1SU;BYMONTH=10
END:STANDARD
END:VTIMEZONE
BEGIN:VEVENT
DTSTAMP:20260421T012156
DTSTART;TZID=Europe/Berlin:20250924T204500
DTEND;TZID=Europe/Berlin:20250924T214500
UID:252WB30204-20250924T204500@VHSUNTERLAND
SUMMARY:Effektives Bodyworkout (online) (252WB30204) 
LOCATION:hn Online, , 
END:VEVENT
BEGIN:VEVENT
DTSTAMP:20260421T012156
DTSTART;TZID=Europe/Berlin:20251008T204500
DTEND;TZID=Europe/Berlin:20251008T214500
UID:252WB30204-20251008T204500@VHSUNTERLAND
SUMMARY:Effektives Bodyworkout (online) (252WB30204) 
LOCATION:hn Online, , 
END:VEVENT
BEGIN:VEVENT
DTSTAMP:20260421T012156
DTSTART;TZID=Europe/Berlin:20251015T204500
DTEND;TZID=Europe/Berlin:20251015T214500
UID:252WB30204-20251015T204500@VHSUNTERLAND
SUMMARY:Effektives Bodyworkout (online) (252WB30204) 
LOCATION:hn Online, , 
END:VEVENT
BEGIN:VEVENT
DTSTAMP:20260421T012156
DTSTART;TZID=Europe/Berlin:20251022T204500
DTEND;TZID=Europe/Berlin:20251022T214500
UID:252WB30204-20251022T204500@VHSUNTERLAND
SUMMARY:Effektives Bodyworkout (online) (252WB30204) 
LOCATION:hn Online, , 
END:VEVENT
BEGIN:VEVENT
DTSTAMP:20260421T012156
DTSTART;TZID=Europe/Berlin:20251105T204500
DTEND;TZID=Europe/Berlin:20251105T214500
UID:252WB30204-20251105T204500@VHSUNTERLAND
SUMMARY:Effektives Bodyworkout (online) (252WB30204) 
LOCATION:hn Online, , 
END:VEVENT
BEGIN:VEVENT
DTSTAMP:20260421T012156
DTSTART;TZID=Europe/Berlin:20251112T204500
DTEND;TZID=Europe/Berlin:20251112T214500
UID:252WB30204-20251112T204500@VHSUNTERLAND
SUMMARY:Effektives Bodyworkout (online) (252WB30204) 
LOCATION:hn Online, , 
END:VEVENT
BEGIN:VEVENT
DTSTAMP:20260421T012156
DTSTART;TZID=Europe/Berlin:20251119T204500
DTEND;TZID=Europe/Berlin:20251119T214500
UID:252WB30204-20251119T204500@VHSUNTERLAND
SUMMARY:Effektives Bodyworkout (online) (252WB30204) 
LOCATION:hn Online, , 
END:VEVENT
BEGIN:VEVENT
DTSTAMP:20260421T012156
DTSTART;TZID=Europe/Berlin:20251126T204500
DTEND;TZID=Europe/Berlin:20251126T214500
UID:252WB30204-20251126T204500@VHSUNTERLAND
SUMMARY:Effektives Bodyworkout (online) (252WB30204) 
LOCATION:hn Online, , 
END:VEVENT
BEGIN:VEVENT
DTSTAMP:20260421T012156
DTSTART;TZID=Europe/Berlin:20251203T204500
DTEND;TZID=Europe/Berlin:20251203T214500
UID:252WB30204-20251203T204500@VHSUNTERLAND
SUMMARY:Effektives Bodyworkout (online) (252WB30204) 
LOCATION:hn Online, , 
END:VEVENT
BEGIN:VEVENT
DTSTAMP:20260421T012156
DTSTART;TZID=Europe/Berlin:20251210T204500
DTEND;TZID=Europe/Berlin:20251210T214500
UID:252WB30204-20251210T204500@VHSUNTERLAND
SUMMARY:Effektives Bodyworkout (online) (252WB30204) 
LOCATION:hn Online, , 
END:VEVENT
BEGIN:VEVENT
DTSTAMP:20260421T012156
DTSTART;TZID=Europe/Berlin:20251217T204500
DTEND;TZID=Europe/Berlin:20251217T214500
UID:252WB30204-20251217T204500@VHSUNTERLAND
SUMMARY:Effektives Bodyworkout (online) (252WB30204) 
LOCATION:hn Online, , 
END:VEVENT
BEGIN:VEVENT
DTSTAMP:20260421T012156
DTSTART;TZID=Europe/Berlin:20260107T204500
DTEND;TZID=Europe/Berlin:20260107T214500
UID:252WB30204-20260107T204500@VHSUNTERLAND
SUMMARY:Effektives Bodyworkout (online) (252WB30204) 
LOCATION:hn Online, , 
END:VEVENT
BEGIN:VEVENT
DTSTAMP:20260421T012156
DTSTART;TZID=Europe/Berlin:20260114T204500
DTEND;TZID=Europe/Berlin:20260114T214500
UID:252WB30204-20260114T204500@VHSUNTERLAND
SUMMARY:Effektives Bodyworkout (online) (252WB30204) 
LOCATION:hn Online, , 
END:VEVENT
BEGIN:VEVENT
DTSTAMP:20260421T012156
DTSTART;TZID=Europe/Berlin:20260121T204500
DTEND;TZID=Europe/Berlin:20260121T214500
UID:252WB30204-20260121T204500@VHSUNTERLAND
SUMMARY:Effektives Bodyworkout (online) (252WB30204) 
LOCATION:hn Online, , 
END:VEVENT
END:VCALENDAR