BEGIN:VCALENDAR
VERSION:2.0
PRODID:http://www.kufer.de/kuferweb / DE
METHOD:PUBLISH
CALSCALE:GREGORIAN
X-WR-TIMEZONE:Europe/Berlin
BEGIN:VTIMEZONE
TZID:Europe/Berlin
X-LIC-LOCATION:Europe/Berlin
BEGIN:DAYLIGHT
TZOFFSETFROM:+0100
TZOFFSETTO:+0200
TZNAME:CEST
DTSTART;TZID=Europe/Berlin:19700329T020000
RRULE:FREQ=YEARLY;INTERVAL=1;BYDAY=-1SU;BYMONTH=3
END:DAYLIGHT
BEGIN:STANDARD
TZOFFSETFROM:+0200
TZOFFSETTO:+0100
TZNAME:CET
DTSTART;TZID=Europe/Berlin:19701025T030000
RRULE:FREQ=YEARLY;INTERVAL=1;BYDAY=-1SU;BYMONTH=10
END:STANDARD
END:VTIMEZONE
BEGIN:VEVENT
DTSTAMP:20260422T183849
DTSTART;TZID=Europe/Berlin:20260110T090000
DTEND;TZID=Europe/Berlin:20260110T103000
UID:252WB30165-20260110T090000@VHSUNTERLAND
SUMMARY:Indian Balance®  für Anfänger*innen und Fortgeschrittene (252WB30165) 
LOCATION:wb Kita am Grasigen Hag Bewegungsraum, Am Grasigen Hag, 74189 Weinsberg
END:VEVENT
BEGIN:VEVENT
DTSTAMP:20260422T183849
DTSTART;TZID=Europe/Berlin:20260117T090000
DTEND;TZID=Europe/Berlin:20260117T103000
UID:252WB30165-20260117T090000@VHSUNTERLAND
SUMMARY:Indian Balance®  für Anfänger*innen und Fortgeschrittene (252WB30165) 
LOCATION:wb Kita am Grasigen Hag Bewegungsraum, Am Grasigen Hag, 74189 Weinsberg
END:VEVENT
BEGIN:VEVENT
DTSTAMP:20260422T183849
DTSTART;TZID=Europe/Berlin:20260124T090000
DTEND;TZID=Europe/Berlin:20260124T103000
UID:252WB30165-20260124T090000@VHSUNTERLAND
SUMMARY:Indian Balance®  für Anfänger*innen und Fortgeschrittene (252WB30165) 
LOCATION:wb Kita am Grasigen Hag Bewegungsraum, Am Grasigen Hag, 74189 Weinsberg
END:VEVENT
BEGIN:VEVENT
DTSTAMP:20260422T183849
DTSTART;TZID=Europe/Berlin:20260131T090000
DTEND;TZID=Europe/Berlin:20260131T103000
UID:252WB30165-20260131T090000@VHSUNTERLAND
SUMMARY:Indian Balance®  für Anfänger*innen und Fortgeschrittene (252WB30165) 
LOCATION:wb Kita am Grasigen Hag Bewegungsraum, Am Grasigen Hag, 74189 Weinsberg
END:VEVENT
BEGIN:VEVENT
DTSTAMP:20260422T183849
DTSTART;TZID=Europe/Berlin:20260207T090000
DTEND;TZID=Europe/Berlin:20260207T103000
UID:252WB30165-20260207T090000@VHSUNTERLAND
SUMMARY:Indian Balance®  für Anfänger*innen und Fortgeschrittene (252WB30165) 
LOCATION:wb Kita am Grasigen Hag Bewegungsraum, Am Grasigen Hag, 74189 Weinsberg
END:VEVENT
BEGIN:VEVENT
DTSTAMP:20260422T183849
DTSTART;TZID=Europe/Berlin:20260214T090000
DTEND;TZID=Europe/Berlin:20260214T103000
UID:252WB30165-20260214T090000@VHSUNTERLAND
DESCRIPTION:Ersatz für Ausfall am 28.02.2026
SUMMARY:Indian Balance®  für Anfänger*innen und Fortgeschrittene (252WB30165) 
LOCATION:wb Kita am Grasigen Hag Bewegungsraum, Am Grasigen Hag, 74189 Weinsberg
END:VEVENT
END:VCALENDAR