BEGIN:VCALENDAR
VERSION:2.0
PRODID:http://www.kufer.de/kuferweb / DE
METHOD:PUBLISH
CALSCALE:GREGORIAN
X-WR-TIMEZONE:Europe/Berlin
BEGIN:VTIMEZONE
TZID:Europe/Berlin
X-LIC-LOCATION:Europe/Berlin
BEGIN:DAYLIGHT
TZOFFSETFROM:+0100
TZOFFSETTO:+0200
TZNAME:CEST
DTSTART;TZID=Europe/Berlin:19700329T020000
RRULE:FREQ=YEARLY;INTERVAL=1;BYDAY=-1SU;BYMONTH=3
END:DAYLIGHT
BEGIN:STANDARD
TZOFFSETFROM:+0200
TZOFFSETTO:+0100
TZNAME:CET
DTSTART;TZID=Europe/Berlin:19701025T030000
RRULE:FREQ=YEARLY;INTERVAL=1;BYDAY=-1SU;BYMONTH=10
END:STANDARD
END:VTIMEZONE
BEGIN:VEVENT
DTSTAMP:20260421T050422
DTSTART;TZID=Europe/Berlin:20251127T190000
DTEND;TZID=Europe/Berlin:20251127T203000
UID:252WB30150-20251127T190000@VHSUNTERLAND
SUMMARY:Qi Gong (252WB30150) 
LOCATION:wb VHS-Haus, E06, Zehntgasse 10, 74189 Weinsberg
END:VEVENT
BEGIN:VEVENT
DTSTAMP:20260421T050422
DTSTART;TZID=Europe/Berlin:20251204T190000
DTEND;TZID=Europe/Berlin:20251204T203000
UID:252WB30150-20251204T190000@VHSUNTERLAND
SUMMARY:Qi Gong (252WB30150) 
LOCATION:wb VHS-Haus, E06, Zehntgasse 10, 74189 Weinsberg
END:VEVENT
BEGIN:VEVENT
DTSTAMP:20260421T050422
DTSTART;TZID=Europe/Berlin:20251211T190000
DTEND;TZID=Europe/Berlin:20251211T203000
UID:252WB30150-20251211T190000@VHSUNTERLAND
SUMMARY:Qi Gong (252WB30150) 
LOCATION:wb VHS-Haus, E06, Zehntgasse 10, 74189 Weinsberg
END:VEVENT
BEGIN:VEVENT
DTSTAMP:20260421T050422
DTSTART;TZID=Europe/Berlin:20251218T190000
DTEND;TZID=Europe/Berlin:20251218T203000
UID:252WB30150-20251218T190000@VHSUNTERLAND
SUMMARY:Qi Gong (252WB30150) 
LOCATION:wb VHS-Haus, E06, Zehntgasse 10, 74189 Weinsberg
END:VEVENT
BEGIN:VEVENT
DTSTAMP:20260421T050422
DTSTART;TZID=Europe/Berlin:20260108T190000
DTEND;TZID=Europe/Berlin:20260108T203000
UID:252WB30150-20260108T190000@VHSUNTERLAND
SUMMARY:Qi Gong (252WB30150) 
LOCATION:wb VHS-Haus, E06, Zehntgasse 10, 74189 Weinsberg
END:VEVENT
BEGIN:VEVENT
DTSTAMP:20260421T050422
DTSTART;TZID=Europe/Berlin:20260115T190000
DTEND;TZID=Europe/Berlin:20260115T203000
UID:252WB30150-20260115T190000@VHSUNTERLAND
SUMMARY:Qi Gong (252WB30150) 
LOCATION:wb VHS-Haus, E06, Zehntgasse 10, 74189 Weinsberg
END:VEVENT
BEGIN:VEVENT
DTSTAMP:20260421T050422
DTSTART;TZID=Europe/Berlin:20260122T190000
DTEND;TZID=Europe/Berlin:20260122T203000
UID:252WB30150-20260122T190000@VHSUNTERLAND
SUMMARY:Qi Gong (252WB30150) 
LOCATION:wb VHS-Haus, E06, Zehntgasse 10, 74189 Weinsberg
END:VEVENT
BEGIN:VEVENT
DTSTAMP:20260421T050422
DTSTART;TZID=Europe/Berlin:20260205T190000
DTEND;TZID=Europe/Berlin:20260205T203000
UID:252WB30150-20260205T190000@VHSUNTERLAND
DESCRIPTION:Ersatz für Ausfall am 29.01.2026
SUMMARY:Qi Gong (252WB30150) 
LOCATION:wb VHS-Haus, E06, Zehntgasse 10, 74189 Weinsberg
END:VEVENT
END:VCALENDAR