BEGIN:VCALENDAR
VERSION:2.0
PRODID:http://www.kufer.de/kuferweb / DE
METHOD:PUBLISH
CALSCALE:GREGORIAN
X-WR-TIMEZONE:Europe/Berlin
BEGIN:VTIMEZONE
TZID:Europe/Berlin
X-LIC-LOCATION:Europe/Berlin
BEGIN:DAYLIGHT
TZOFFSETFROM:+0100
TZOFFSETTO:+0200
TZNAME:CEST
DTSTART;TZID=Europe/Berlin:19700329T020000
RRULE:FREQ=YEARLY;INTERVAL=1;BYDAY=-1SU;BYMONTH=3
END:DAYLIGHT
BEGIN:STANDARD
TZOFFSETFROM:+0200
TZOFFSETTO:+0100
TZNAME:CET
DTSTART;TZID=Europe/Berlin:19701025T030000
RRULE:FREQ=YEARLY;INTERVAL=1;BYDAY=-1SU;BYMONTH=10
END:STANDARD
END:VTIMEZONE
BEGIN:VEVENT
DTSTAMP:20260420T175955
DTSTART;TZID=Europe/Berlin:20250926T090500
DTEND;TZID=Europe/Berlin:20250926T100500
UID:252WB30115-20250926T090500@VHSUNTERLAND
SUMMARY:Pilates  für Fortgeschrittene (252WB30115) 
LOCATION:wb VHS-Haus, E06, Zehntgasse 10, 74189 Weinsberg
END:VEVENT
BEGIN:VEVENT
DTSTAMP:20260420T175955
DTSTART;TZID=Europe/Berlin:20251010T090500
DTEND;TZID=Europe/Berlin:20251010T100500
UID:252WB30115-20251010T090500@VHSUNTERLAND
SUMMARY:Pilates  für Fortgeschrittene (252WB30115) 
LOCATION:wb VHS-Haus, E06, Zehntgasse 10, 74189 Weinsberg
END:VEVENT
BEGIN:VEVENT
DTSTAMP:20260420T175955
DTSTART;TZID=Europe/Berlin:20251017T090500
DTEND;TZID=Europe/Berlin:20251017T100500
UID:252WB30115-20251017T090500@VHSUNTERLAND
SUMMARY:Pilates  für Fortgeschrittene (252WB30115) 
LOCATION:wb VHS-Haus, E06, Zehntgasse 10, 74189 Weinsberg
END:VEVENT
BEGIN:VEVENT
DTSTAMP:20260420T175955
DTSTART;TZID=Europe/Berlin:20251024T090500
DTEND;TZID=Europe/Berlin:20251024T100500
UID:252WB30115-20251024T090500@VHSUNTERLAND
SUMMARY:Pilates  für Fortgeschrittene (252WB30115) 
LOCATION:wb VHS-Haus, E06, Zehntgasse 10, 74189 Weinsberg
END:VEVENT
BEGIN:VEVENT
DTSTAMP:20260420T175955
DTSTART;TZID=Europe/Berlin:20251107T090500
DTEND;TZID=Europe/Berlin:20251107T100500
UID:252WB30115-20251107T090500@VHSUNTERLAND
SUMMARY:Pilates  für Fortgeschrittene (252WB30115) 
LOCATION:wb VHS-Haus, E06, Zehntgasse 10, 74189 Weinsberg
END:VEVENT
BEGIN:VEVENT
DTSTAMP:20260420T175955
DTSTART;TZID=Europe/Berlin:20251114T090500
DTEND;TZID=Europe/Berlin:20251114T100500
UID:252WB30115-20251114T090500@VHSUNTERLAND
SUMMARY:Pilates  für Fortgeschrittene (252WB30115) 
LOCATION:wb VHS-Haus, E06, Zehntgasse 10, 74189 Weinsberg
END:VEVENT
BEGIN:VEVENT
DTSTAMP:20260420T175955
DTSTART;TZID=Europe/Berlin:20251128T090500
DTEND;TZID=Europe/Berlin:20251128T100500
UID:252WB30115-20251128T090500@VHSUNTERLAND
SUMMARY:Pilates  für Fortgeschrittene (252WB30115) 
LOCATION:wb VHS-Haus, E06, Zehntgasse 10, 74189 Weinsberg
END:VEVENT
BEGIN:VEVENT
DTSTAMP:20260420T175955
DTSTART;TZID=Europe/Berlin:20251205T090500
DTEND;TZID=Europe/Berlin:20251205T100500
UID:252WB30115-20251205T090500@VHSUNTERLAND
SUMMARY:Pilates  für Fortgeschrittene (252WB30115) 
LOCATION:wb VHS-Haus, E06, Zehntgasse 10, 74189 Weinsberg
END:VEVENT
BEGIN:VEVENT
DTSTAMP:20260420T175955
DTSTART;TZID=Europe/Berlin:20251212T090500
DTEND;TZID=Europe/Berlin:20251212T100500
UID:252WB30115-20251212T090500@VHSUNTERLAND
SUMMARY:Pilates  für Fortgeschrittene (252WB30115) 
LOCATION:wb VHS-Haus, E06, Zehntgasse 10, 74189 Weinsberg
END:VEVENT
BEGIN:VEVENT
DTSTAMP:20260420T175955
DTSTART;TZID=Europe/Berlin:20251219T090500
DTEND;TZID=Europe/Berlin:20251219T100500
UID:252WB30115-20251219T090500@VHSUNTERLAND
SUMMARY:Pilates  für Fortgeschrittene (252WB30115) 
LOCATION:wb VHS-Haus, E06, Zehntgasse 10, 74189 Weinsberg
END:VEVENT
BEGIN:VEVENT
DTSTAMP:20260420T175955
DTSTART;TZID=Europe/Berlin:20260109T090500
DTEND;TZID=Europe/Berlin:20260109T100500
UID:252WB30115-20260109T090500@VHSUNTERLAND
SUMMARY:Pilates  für Fortgeschrittene (252WB30115) 
LOCATION:wb VHS-Haus, E06, Zehntgasse 10, 74189 Weinsberg
END:VEVENT
BEGIN:VEVENT
DTSTAMP:20260420T175955
DTSTART;TZID=Europe/Berlin:20260116T090500
DTEND;TZID=Europe/Berlin:20260116T100500
UID:252WB30115-20260116T090500@VHSUNTERLAND
SUMMARY:Pilates  für Fortgeschrittene (252WB30115) 
LOCATION:wb VHS-Haus, E06, Zehntgasse 10, 74189 Weinsberg
END:VEVENT
BEGIN:VEVENT
DTSTAMP:20260420T175955
DTSTART;TZID=Europe/Berlin:20260123T090500
DTEND;TZID=Europe/Berlin:20260123T100500
UID:252WB30115-20260123T090500@VHSUNTERLAND
SUMMARY:Pilates  für Fortgeschrittene (252WB30115) 
LOCATION:wb VHS-Haus, E06, Zehntgasse 10, 74189 Weinsberg
END:VEVENT
BEGIN:VEVENT
DTSTAMP:20260420T175955
DTSTART;TZID=Europe/Berlin:20260130T090500
DTEND;TZID=Europe/Berlin:20260130T100500
UID:252WB30115-20260130T090500@VHSUNTERLAND
SUMMARY:Pilates  für Fortgeschrittene (252WB30115) 
LOCATION:wb VHS-Haus, E06, Zehntgasse 10, 74189 Weinsberg
END:VEVENT
BEGIN:VEVENT
DTSTAMP:20260420T175955
DTSTART;TZID=Europe/Berlin:20260206T090500
DTEND;TZID=Europe/Berlin:20260206T100500
UID:252WB30115-20260206T090500@VHSUNTERLAND
DESCRIPTION:Ersatz für Ausfall am 21.11.2025
SUMMARY:Pilates  für Fortgeschrittene (252WB30115) 
LOCATION:wb VHS-Haus, E06, Zehntgasse 10, 74189 Weinsberg
END:VEVENT
END:VCALENDAR